BEGIN:VCALENDAR
VERSION:2.0
PRODID:-//Friends of Mt Tam - ECPv6.15.18//NONSGML v1.0//EN
CALSCALE:GREGORIAN
METHOD:PUBLISH
X-WR-CALNAME:Friends of Mt Tam
X-ORIGINAL-URL:https://www.friendsofmttam.org
X-WR-CALDESC:Events for Friends of Mt Tam
REFRESH-INTERVAL;VALUE=DURATION:PT1H
X-Robots-Tag:noindex
X-PUBLISHED-TTL:PT1H
BEGIN:VTIMEZONE
TZID:America/Los_Angeles
BEGIN:DAYLIGHT
TZOFFSETFROM:-0800
TZOFFSETTO:-0700
TZNAME:PDT
DTSTART:20180311T100000
END:DAYLIGHT
BEGIN:STANDARD
TZOFFSETFROM:-0700
TZOFFSETTO:-0800
TZNAME:PST
DTSTART:20181104T090000
END:STANDARD
BEGIN:DAYLIGHT
TZOFFSETFROM:-0800
TZOFFSETTO:-0700
TZNAME:PDT
DTSTART:20190310T100000
END:DAYLIGHT
BEGIN:STANDARD
TZOFFSETFROM:-0700
TZOFFSETTO:-0800
TZNAME:PST
DTSTART:20191103T090000
END:STANDARD
BEGIN:DAYLIGHT
TZOFFSETFROM:-0800
TZOFFSETTO:-0700
TZNAME:PDT
DTSTART:20200308T100000
END:DAYLIGHT
BEGIN:STANDARD
TZOFFSETFROM:-0700
TZOFFSETTO:-0800
TZNAME:PST
DTSTART:20201101T090000
END:STANDARD
END:VTIMEZONE
BEGIN:VEVENT
DTSTART;VALUE=DATE:20190918
DTEND;VALUE=DATE:20190919
DTSTAMP:20260424T055206
CREATED:20190730T185142Z
LAST-MODIFIED:20190824T231824Z
UID:39575-1568764800-1568851199@www.friendsofmttam.org
SUMMARY:5:30pm Moderate Hike with S. Karp
DESCRIPTION:Time: 5:30 PMTrailhead: Pantoll Parking Lot trailhead. \n“Bay Area Views” Fitness hike with docent Sue Karp. Cross Panoramic Highway and take the Matt Davis trail to Boot Jack Camp.  Enjoy an easy/moderate uphill walk through forests on the Bootjack trail to the historic natural amphitheater. We will continue to Rock Spring parking area and ascend the Mt Theater Fire Trail to Forbes Bench\, where we will experience spectacular Bay Area views   As we return to Pan Toll on the Upper Old Mine Trail\, we drop into a beautiful Oak-Bay forest. \nDistance (mi): 3.Elevation Gain (ft): 791.Moderate. \nWhat to bring: Come prepared. Wear good hiking shoes/boots. Bring plenty of water\, lunch and snacks. Hiking poles are recommended on this mountain. \nParticipation: Hikes are limited to 20 people per leader. First come\, first serve. Be on time to allow for parking and meeting with your group. No entrance fee. No pets (unless otherwise specified). \nCancellation policy: Rain or winds above 30 mph will cancel. \nParking: Pantoll\, Bootjack\, and East Peak trailheads require an $8 parking fee (exact change or check).
URL:https://www.friendsofmttam.org/event/530pm-moderate-hike-with-s-karp-3/
CATEGORIES:Hike
END:VEVENT
BEGIN:VEVENT
DTSTART;VALUE=DATE:20190918
DTEND;VALUE=DATE:20190919
DTSTAMP:20260424T055206
CREATED:20190817T003826Z
LAST-MODIFIED:20191202T164154Z
UID:39920-1568764800-1568851199@www.friendsofmttam.org
SUMMARY:5:30pm Moderate Hike with S. Karp
DESCRIPTION:Time: 5:30 PMTrailhead: Pantoll Parking Lot trailhead. \n“Bay Area Views” Fitness hike with docent Sue Karp. Cross Panoramic Highway and take the Matt Davis trail to Boot Jack Camp.  Enjoy an easy/moderate uphill walk through forests on the Bootjack trail to the historic natural amphitheater. We will continue to Rock Spring parking area and ascend the Mt Theater Fire Trail to Forbes Bench\, where we will experience spectacular Bay Area views   As we return to Pan Toll on the Upper Old Mine Trail\, we drop into a beautiful Oak-Bay forest. \nDistance (mi): 3.Elevation Gain (ft): 791.Moderate. \nWhat to bring: Come prepared. Wear good hiking shoes/boots. Bring plenty of water\, lunch and snacks. Hiking poles are recommended on this mountain. \nParticipation: Hikes are limited to 20 people per leader. First come\, first serve. Be on time to allow for parking and meeting with your group. No entrance fee. No pets (unless otherwise specified). \nCancellation policy: Rain or winds above 30 mph will cancel. \nParking: Pantoll\, Bootjack\, and East Peak trailheads require an $8 parking fee (exact change or check).
URL:https://www.friendsofmttam.org/event/530pm-moderately-strenuous-hike-with-s-karp-2/
CATEGORIES:Hike
END:VEVENT
BEGIN:VEVENT
DTSTART;VALUE=DATE:20190920
DTEND;VALUE=DATE:20190921
DTSTAMP:20260424T055206
CREATED:20190817T003826Z
LAST-MODIFIED:20191202T164154Z
UID:39921-1568937600-1569023999@www.friendsofmttam.org
SUMMARY:CANCELLED - 5:00pm "Steep Ravine" Evening Hike
DESCRIPTION:Time: 5:00 PMTrailhead: Pantoll Parking Lot. \n“Steep Ravine” Interpretive hike with docent Lizzy Silverstein. In this hike we will talk about the ravines in our life and how we can learn from nature to overcome them. \nDistance: 3.8 miles.Elevation Gain (ft): 1000ft.Moderate.What to bring: Come prepared. Wear good hiking shoes/boots. Bring plenty of water\, lunch and snacks. Hiking poles are recommended on this mountain. \nParticipation: This hike is limited to 20 people on a first come\, first serve basis. Be on time to allow for parking and meeting with your group. No entrance fee. No pets (unless otherwise specified). \nCancellation policy: Rain or winds above 30 mph will cancel. \nParking: Pantoll\, Bootjack\, and East Peak trailheads require an $8 parking fee (exact change or check).
URL:https://www.friendsofmttam.org/event/930am-steep-ravine-hike/
CATEGORIES:Hike
END:VEVENT
BEGIN:VEVENT
DTSTART;VALUE=DATE:20190921
DTEND;VALUE=DATE:20190922
DTSTAMP:20260424T055206
CREATED:20190730T185142Z
LAST-MODIFIED:20191202T164154Z
UID:39576-1569024000-1569110399@www.friendsofmttam.org
SUMMARY:9:30am Moderately Strenuous Hike with M. de la Fuente
DESCRIPTION:Time: 9:30 AMTrailhead: Bootjack Parking Lot Trailhead. \n"Strength and Balance in Nature" Fitness hike with docent Maria de la Fuente. Let’s explore our strength and balance among the Redwoods. \nDistance: 5 milesElevation gain: 1447 ft.Moderately Strenuous. \nWhat to bring: Come prepared. Wear good hiking shoes/boots. Bring plenty of water\, lunch and snacks. Hiking poles are recommended on this mountain. \nParticipation: Hikes are limited to 20 people per leader. First come\, first serve. Be on time to allow for parking and meeting with your group. No entrance fee. No pets (unless otherwise specified). \nCancellation policy: Rain or winds above 30 mph will cancel. \nParking: Pantoll\, Bootjack\, and East Peak trailheads require an $8 parking fee (exact change or check).
URL:https://www.friendsofmttam.org/event/930am-moderately-strenuous-hike-with-m-de-la-fuente-3/
CATEGORIES:Hike
END:VEVENT
BEGIN:VEVENT
DTSTART;TZID=America/Los_Angeles:20190921T193000
DTEND;TZID=America/Los_Angeles:20190921T223000
DTSTAMP:20260424T055206
CREATED:20190326T163157Z
LAST-MODIFIED:20190516T001922Z
UID:34473-1569094200-1569105000@www.friendsofmttam.org
SUMMARY:Astronomy Nights - SCI-FI MOVIE NIGHT: THE MARTIAN
DESCRIPTION:SCI-FI MOVIE NIGHT: THE MARTIAN\n2015 film starring Matt Damon depicts the struggles of an astronaut left behind on Mars as he awaits rescue. Post-screening discussion by Jeffrey Silverman of Science VS Cinema \nFor directions and more information   http://www.friendsofmttam.org/astronomy.html \nNote: No Star Viewing on Movie Night
URL:https://www.friendsofmttam.org/event/astronomy-nights-sci-fi-movie-night-the-martian/
LOCATION:Mt Theater\, Mt Tam State Park\, Mill Valley\, CA\, 2 Park Ter\, United States
CATEGORIES:Astronomy
END:VEVENT
BEGIN:VEVENT
DTSTART;VALUE=DATE:20190922
DTEND;VALUE=DATE:20190923
DTSTAMP:20260424T055206
CREATED:20190817T003826Z
LAST-MODIFIED:20191202T164154Z
UID:39922-1569110400-1569196799@www.friendsofmttam.org
SUMMARY:CANCELLED 9:30am Strenuous Hike with K. Ulring
DESCRIPTION:CANCELLED.Time: 9:30 AMTrailhead: Redwood Creek Trailhead. \n“South Side Views and History” Fitness hike with docent Karen Ulring. We’ll see the former site of the famous Banducci Heather Farms\, hiking up Heather Cut Off to great views along the Coastal View trail\, while learning of the many changes to the west side of Mt Tam and Kent Canyon. \nDistance: 9.6 milesElevation gain: 1637 ft.Strenuous. \nWhat to bring: Come prepared. Wear good hiking shoes/boots. Bring plenty of water\, lunch and snacks. Hiking poles are recommended on this mountain. \nParticipation: Hikes are limited to 20 people per leader. First come\, first serve. Be on time to allow for parking and meeting with your group. No entrance fee. No pets (unless otherwise specified). \nCancellation policy: Rain or winds above 30 mph will cancel. \nParking: Pantoll\, Bootjack\, and East Peak trailheads require an $8 parking fee (exact change or check).
URL:https://www.friendsofmttam.org/event/930am-strenuous-hike-with-k-ulring-3/
CATEGORIES:Hike
END:VEVENT
BEGIN:VEVENT
DTSTART;VALUE=DATE:20190922
DTEND;VALUE=DATE:20190923
DTSTAMP:20260424T055206
CREATED:20190911T181525Z
LAST-MODIFIED:20190916T025543Z
UID:40430-1569110400-1569196799@www.friendsofmttam.org
SUMMARY:12-4 VC - Tom Brookshire
DESCRIPTION:
URL:https://www.friendsofmttam.org/event/12-4-vc-tom-brookshire-2/
CATEGORIES:Hike
END:VEVENT
BEGIN:VEVENT
DTSTART;VALUE=DATE:20190925
DTEND;VALUE=DATE:20190926
DTSTAMP:20260424T055206
CREATED:20190730T185142Z
LAST-MODIFIED:20191202T164154Z
UID:39577-1569369600-1569455999@www.friendsofmttam.org
SUMMARY:5:30pm Moderate Hike with R. Feist
DESCRIPTION:Time: 5:30 PMTrailhead: Bootjack Parking Lot. \n"Mid-Week Delight" Fitness hike with docent Robert Feist. Fall is here!  Get some great exercise in this scenic mid-week hike up to the historic West Point Inn.  We’ll enjoy the softening light and quieter ambiance as sunset approaches when we make our way back to Pantoll. \nDistance: 4 milesElevation gain: 824 ft.Moderate. \nWhat to bring: Come prepared. Wear good hiking shoes/boots. Bring plenty of water\, lunch and snacks. Hiking poles are recommended on this mountain. \nParticipation: Hikes are limited to 20 people per leader. First come\, first serve. Be on time to allow for parking and meeting with your group. No entrance fee. No pets (unless otherwise specified). \nCancellation policy: Rain or winds above 30 mph will cancel. \nParking: Pantoll\, Bootjack\, and East Peak trailheads require an $8 parking fee (exact change or check).
URL:https://www.friendsofmttam.org/event/530pm-moderate-hike-with-r-feist-2/
CATEGORIES:Hike
END:VEVENT
BEGIN:VEVENT
DTSTART;VALUE=DATE:20190929
DTEND;VALUE=DATE:20190930
DTSTAMP:20260424T055206
CREATED:20190730T185142Z
LAST-MODIFIED:20191202T164154Z
UID:39578-1569715200-1569801599@www.friendsofmttam.org
SUMMARY:9:30am Moderately Strenuous Hike with R. Freinkel
DESCRIPTION:Time: 9:30 AMTrailhead: Rock Spring Trailhead. \n"North Side Exploratory" Fitness hike with docent Robert Freinkel. Explore trail structure of North Side.  Assess climate/microclimate effect on plant distribution.  Enjoy history of Mt Tamalpais various camps and attractions. \nDistance: 5 milesElevation gain: 1011 ft.Moderately Strenuous. \nWhat to bring: Come prepared. Wear good hiking shoes/boots. Bring plenty of water\, lunch and snacks. Hiking poles are recommended on this mountain. \nParticipation: Hikes are limited to 20 people per leader. First come\, first serve. Be on time to allow for parking and meeting with your group. No entrance fee. No pets (unless otherwise specified). \nCancellation policy: Rain or winds above 30 mph will cancel. \nParking: Pantoll\, Bootjack\, and East Peak trailheads require an $8 parking fee (exact change or check).
URL:https://www.friendsofmttam.org/event/930am-moderately-strenuous-hike-with-r-freinkel-3/
CATEGORIES:Hike
END:VEVENT
BEGIN:VEVENT
DTSTART;TZID=America/Los_Angeles:20191005T190000
DTEND;TZID=America/Los_Angeles:20191005T220000
DTSTAMP:20260424T055206
CREATED:20190326T163157Z
LAST-MODIFIED:20190516T001922Z
UID:34474-1570302000-1570312800@www.friendsofmttam.org
SUMMARY:Astronomy Nights - Illuminating Dark Matter
DESCRIPTION:Illuminating Dark Matter\nRobert McGehee\, Doctoral Candidate\, Physics Department\, UC Berkeley\nDark matter is the cosmic parent of all vast structures in the night sky\, including our own Milky Way galaxy. Yet\, we know so little about this mysterious stuff that constitutes over 80% of the material universe. This talk will illuminate our universe’s elusive dark matter\, highlighting the ingenious methods that scientists use to search for it. \nFor directions and more information   http://www.friendsofmttam.org/astronomy.html
URL:https://www.friendsofmttam.org/event/astronomy-nights-illuminating-dark-matter/
LOCATION:Mt Theater\, Mt Tam State Park\, Mill Valley\, CA\, 2 Park Ter\, United States
CATEGORIES:Astronomy
END:VEVENT
BEGIN:VEVENT
DTSTART;VALUE=DATE:20191006
DTEND;VALUE=DATE:20191007
DTSTAMP:20260424T055206
CREATED:20191002T061850Z
LAST-MODIFIED:20191202T164154Z
UID:40828-1570320000-1570406399@www.friendsofmttam.org
SUMMARY:9:30 AM Saturday Docent Hike - Strenuous - Ferns  Led By Lizzy Silverstein
DESCRIPTION:Balance in Nature: hike with docent Maria de la Fuente. Let?s find Balance within nature and ourselves as we hike among the Redwoods.ÿ Let see and feel our connection. Distance (mi): 6.1. Elevation Gain (ft): 1\,578. Moderately Strenuous.
URL:https://www.friendsofmttam.org/event/930-am-saturday-docent-hike-strenuous-ferns-led-by-lizzy-silverstein-2/
LOCATION:Bootjack #10\, Mt Tamalpais
CATEGORIES:Hike
END:VEVENT
BEGIN:VEVENT
DTSTART;VALUE=DATE:20191012
DTEND;VALUE=DATE:20191013
DTSTAMP:20260424T055206
CREATED:20191002T061850Z
LAST-MODIFIED:20191202T164154Z
UID:40829-1570838400-1570924799@www.friendsofmttam.org
SUMMARY:9:30AM Saturday Docent Hike - RSVP - Moderate - Walking Mt. Tam: Trails of Creativity Led by Caryn Lowe
DESCRIPTION:Walking Mt. Tam: Trails of Creativity (RSVP)- hike with docent Caryn Lowe. ?Me thinks that the moment my legs begin to move\, my thoughts begin to flow!? -Thoreau.ÿScience is proving what people have known for ages ? going out into nature is one of the best ways to connect with your creative mind. Mt. Tam has been a special place of inspiration for many generations of artists and writers from early settlers from the Hudson Valley to the Bohemian and Beat movements.ÿDuring this hike you will learn a little bit about this rich history\, what happens here today and hopefully make your own creative connection to Mt. Tam.ÿ Bring a notebook\, pens/pencils and your curiosity! Distance (mi): 3.3. Elevation Gain (ft): 751. Moderate.ÿHike limited to 12 people.ÿRSVP via State Park Website: https://www.parks.ca.gov/?page_id=29802
URL:https://www.friendsofmttam.org/event/930am-saturday-docent-hike-rsvp-moderate-walking-mt-tam-trails-of-creativity-led-by-caryn-lowe/
LOCATION:Pantoll #9\, Mt Tamalpais
CATEGORIES:Hike
END:VEVENT
BEGIN:VEVENT
DTSTART;VALUE=DATE:20191013
DTEND;VALUE=DATE:20191014
DTSTAMP:20260424T055206
CREATED:20191002T061851Z
LAST-MODIFIED:20191202T164154Z
UID:40830-1570924800-1571011199@www.friendsofmttam.org
SUMMARY:9:30AM Sunday Docent Hike - Moderate - Pancake Breakfast Led by Sue Karp
DESCRIPTION:Pancake Breakfast: hike with docent Sue Karp. Travel the route of the old stagecoach that ran in the early 1900’s from Stinson Beach to historic West Point Inn. Enjoy a fun pancake breakfast ($10 adults/$5 kids)\, along with a bit of history of the historic inn and the “”Crookedest Railroad in the world.””ÿ Bathe in spectacular views of the Bay Area from the inn and along the Rock Spring trail as we return to the parking lot. Kid/Family Friendly.Distance (mi): 4.3. Elevation Gain (ft): 581. Moderate.
URL:https://www.friendsofmttam.org/event/930am-sunday-docent-hike-moderate-pancake-breakfast-led-by-sue-karp/
LOCATION:Rock Spring #4\, Mt Tamalpais
CATEGORIES:Hike
END:VEVENT
BEGIN:VEVENT
DTSTART;VALUE=DATE:20191019
DTEND;VALUE=DATE:20191020
DTSTAMP:20260424T055206
CREATED:20191002T061851Z
LAST-MODIFIED:20191202T164155Z
UID:40831-1571443200-1571529599@www.friendsofmttam.org
SUMMARY:9:30AM Saturday Docent Hike - Moderately Strenuous - NorthSide/SouthSide Led by Robert Freinkel
DESCRIPTION:NorthSide/SouthSide: hike with docent Robert Freinkel. Determine differences between north and south side of Mt Tamalpais. Search for blooming fall plants. Experience the diversity of plants and terrain on Marin’s most famous landmark Distance (mi): 4.6. Elevation Gain (ft): 1112. Moderately Strenuous.
URL:https://www.friendsofmttam.org/event/930am-saturday-docent-hike-moderately-strenuous-northside-southside-led-by-robert-freinkel/
LOCATION:Rock Spring #4\, Mt Tamalpais
CATEGORIES:Hike
END:VEVENT
BEGIN:VEVENT
DTSTART;VALUE=DATE:20191020
DTEND;VALUE=DATE:20191021
DTSTAMP:20260424T055206
CREATED:20190606T184950Z
LAST-MODIFIED:20190726T175600Z
UID:38397-1571529600-1571615999@www.friendsofmttam.org
SUMMARY:11-4 VC: Tom Brookshire
DESCRIPTION:
URL:https://www.friendsofmttam.org/event/11-4-vc-tom-brookshire-4/
CATEGORIES:Hike
END:VEVENT
BEGIN:VEVENT
DTSTART;VALUE=DATE:20191020
DTEND;VALUE=DATE:20191021
DTSTAMP:20260424T055206
CREATED:20190911T181525Z
LAST-MODIFIED:20190916T025543Z
UID:40431-1571529600-1571615999@www.friendsofmttam.org
SUMMARY:12-4 VC Tom Brookshire
DESCRIPTION:
URL:https://www.friendsofmttam.org/event/12-4-vc-tom-brookshire-3/
CATEGORIES:Hike
END:VEVENT
BEGIN:VEVENT
DTSTART;VALUE=DATE:20191020
DTEND;VALUE=DATE:20191021
DTSTAMP:20260424T055206
CREATED:20191002T061851Z
LAST-MODIFIED:20191202T164155Z
UID:40832-1571529600-1571615999@www.friendsofmttam.org
SUMMARY:9:30AM Sunday Docent Hike - Strenuous - The Cool North Side Led by Karen Ulring
DESCRIPTION:The Cool North Side: hike with docent Karen Ulring. We’ll be hiking on the cool north side with a stop at Colier Springs to learn of John Collier and Mt Tam history.ÿ Will be a good workout. Distance (mi): 7.4. Elevation Gain (ft): 1959. Strenuous.
URL:https://www.friendsofmttam.org/event/930am-sunday-docent-hike-strenuous-the-cool-north-side-led-by-karen-ulring/
LOCATION:Quarry Parking Lot #6\, Mt Tamalpais
CATEGORIES:Hike
END:VEVENT
BEGIN:VEVENT
DTSTART;VALUE=DATE:20191026
DTEND;VALUE=DATE:20191027
DTSTAMP:20260424T055206
CREATED:20191019T161151Z
LAST-MODIFIED:20191202T164155Z
UID:41166-1572048000-1572134399@www.friendsofmttam.org
SUMMARY:CANCELLED - "Alpine Dam History" hike with docent Nancy Benjamin
DESCRIPTION:Saturday\, October 26 at 9:30 AM from Rock Spring trailhead. "Alpine Dam History" Interpretive hike with docent Nancy Benjamin. As this year marks the 100th anniversary of Alpine Dam\, Nancy will talk about the construction of the Dam and Marin’s drinking water. She will be referencing to historian Jack Gibson’s book. Hikers will descend to Alpine Dam from Laurel Dell trailhead along W. Ridgecrest Blvd. via Cataract Trail and head back the same route. \nDistance (mi): 5.2. Elevation Gain (ft): 1320. Moderately Strenuous. \nLimited to 20 people. First come-first serve. \nMore info: https://www.parks.ca.gov/?page_id=29802 \nTrailheads Google Map: https://drive.google.com/open?id=1_ALlCrwKUPFnHHJx3mjjjjSTJw3SCHrP&usp=sharing
URL:https://www.friendsofmttam.org/event/alpine-dam-history-hike-with-docent-nancy-benjamin/
CATEGORIES:Hike
END:VEVENT
BEGIN:VEVENT
DTSTART;VALUE=DATE:20191027
DTEND;VALUE=DATE:20191028
DTSTAMP:20260424T055206
CREATED:20190911T181525Z
LAST-MODIFIED:20190916T025543Z
UID:40432-1572134400-1572220799@www.friendsofmttam.org
SUMMARY:12-4 VC Tom Brookshire
DESCRIPTION:
URL:https://www.friendsofmttam.org/event/12-4-vc-tom-brookshire-4/
CATEGORIES:Hike
END:VEVENT
BEGIN:VEVENT
DTSTART;VALUE=DATE:20191031
DTEND;VALUE=DATE:20191101
DTSTAMP:20260424T055206
CREATED:20190911T181525Z
LAST-MODIFIED:20190916T025543Z
UID:40433-1572480000-1572566399@www.friendsofmttam.org
SUMMARY:12-4 VC Tom Brookshire
DESCRIPTION:
URL:https://www.friendsofmttam.org/event/12-4-vc-tom-brookshire-5/
CATEGORIES:Hike
END:VEVENT
BEGIN:VEVENT
DTSTART;VALUE=DATE:20191102
DTEND;VALUE=DATE:20191103
DTSTAMP:20260424T055206
CREATED:20191002T061851Z
LAST-MODIFIED:20191202T164155Z
UID:40833-1572652800-1572739199@www.friendsofmttam.org
SUMMARY:9:30AM Saturday Docent Hike - Moderately Strenuous - Balance in Nature Led by Maria de la Fuente
DESCRIPTION:Balance in Nature: fitness hike with docent Maria de la Fuente. Let?s find Balance within nature and ourselves as we hike among the Redwoods.ÿ Let see and feel our connection Distance (mi): 6.1. Elevation Gain (ft): 1578. Moderately Strenuous.
URL:https://www.friendsofmttam.org/event/930am-saturday-docent-hike-moderately-strenuous-balance-in-nature-led-by-maria-de-la-fuente/
LOCATION:Bootjack #10\, Mt Tamalpais
CATEGORIES:Hike
END:VEVENT
BEGIN:VEVENT
DTSTART;VALUE=DATE:20191109
DTEND;VALUE=DATE:20191110
DTSTAMP:20260424T055206
CREATED:20191002T061851Z
LAST-MODIFIED:20191202T164155Z
UID:40834-1573257600-1573343999@www.friendsofmttam.org
SUMMARY:9:30AM Saturday Docent Hike - RSVP -Moderate - Walking Mt. Tam: Trails of Creativity Led by Caryn Lowe
DESCRIPTION:Walking Mt. Tam: Trails of Creativity (RSVP) – interpretive hike with docent Caryn Lowe. ?Me thinks that the moment my legs begin to move\, my thoughts begin to flow!? -Thoreau.ÿScience is proving what people have known for ages ? going out into nature is one of the best ways to connect with your creative mind. Mt. Tam has been a special place of inspiration for many generations of artists and writers from early settlers from the Hudson Valley to the Bohemian and Beat movements. During this hike you will learn a little bit about this rich history\, what happens here today and hopefully make your own creative connection to Mt. Tam.ÿ Bring a notebook\, pens/pencils and your curiosity! Distance (mi): 3.3. Elevation Gain (ft): 751. Moderate. Hike limited to 12 people. RSVP via State Park Website: https://www.parks.ca.gov/?page_id=29802.
URL:https://www.friendsofmttam.org/event/930am-saturday-docent-hike-rsvp-moderate-walking-mt-tam-trails-of-creativity-led-by-caryn-lowe-2/
LOCATION:Pantoll #9\, Mt Tamalpais
CATEGORIES:Hike
END:VEVENT
BEGIN:VEVENT
DTSTART;VALUE=DATE:20191110
DTEND;VALUE=DATE:20191111
DTSTAMP:20260424T055206
CREATED:20191002T061851Z
LAST-MODIFIED:20191202T164155Z
UID:40835-1573344000-1573430399@www.friendsofmttam.org
SUMMARY:9:30AM Sunday Docent Hike - Strenuous - Coastal Views and more Led by Franklin Young
DESCRIPTION:Coastal Views and more: Fitness hike with docent Franklin Young. First we will hike through old growth Redwood trees along Webb Creek. Then we will enjoy expansive views of the Pacific\, Stinson Beach and Bolinas lagoon. And finally we will make our way back to Pantoll though California laurel trees.ÿ ÿ ÿ Distance (mi): 6.9. Elevation Gain (ft): 1696. Strenuous.
URL:https://www.friendsofmttam.org/event/930am-sunday-docent-hike-strenuous-coastal-views-and-more-led-by-franklin-young/
LOCATION:Pantoll #9\, Mt Tamalpais
CATEGORIES:Hike
END:VEVENT
BEGIN:VEVENT
DTSTART;VALUE=DATE:20191111
DTEND;VALUE=DATE:20191112
DTSTAMP:20260424T055206
CREATED:20190911T181526Z
LAST-MODIFIED:20190916T025543Z
UID:40434-1573430400-1573516799@www.friendsofmttam.org
SUMMARY:12-4 VC Tom Brookshire
DESCRIPTION:
URL:https://www.friendsofmttam.org/event/12-4-vc-tom-brookshire-6/
CATEGORIES:Hike
END:VEVENT
BEGIN:VEVENT
DTSTART;VALUE=DATE:20191116
DTEND;VALUE=DATE:20191117
DTSTAMP:20260424T055206
CREATED:20191102T125346Z
LAST-MODIFIED:20191202T164156Z
UID:41417-1573862400-1573948799@www.friendsofmttam.org
SUMMARY:"Ferns and Redwoods” Hike with docent Karen Ulring
DESCRIPTION:Saturday\, November 16th at 9:30 AM from Bootjack Trailhead. "Ferns and Redwoods" hike with docent Karen Ulring. Come enjoy the ferns and redwoods in this lush area of Mt Tam. Learn about Ben Johnson and his cohorts in the early days of Mt Tam State Park.. Distance (mi): 6.3. Elevation Gain (ft): 1\,500. Moderately Strenuous.Limited to 20 people. First come-first serve.More info: https://www.parks.ca.gov/?page_id=29802Trailheads Google Map: https://drive.google.com/open?id=1_ALlCrwKUPFnHHJx3mjjjjSTJw3SCHrP&usp=sharingParking fee: $8\, exact cash only.
URL:https://www.friendsofmttam.org/event/ferns-and-redwoods-hike-with-docent-karen-ulring/
CATEGORIES:Hike
END:VEVENT
BEGIN:VEVENT
DTSTART;VALUE=DATE:20191117
DTEND;VALUE=DATE:20191118
DTSTAMP:20260424T055206
CREATED:20190606T184951Z
LAST-MODIFIED:20190726T175600Z
UID:38398-1573948800-1574035199@www.friendsofmttam.org
SUMMARY:11-4 VC: Tom Brookshire
DESCRIPTION:
URL:https://www.friendsofmttam.org/event/11-4-vc-tom-brookshire-5/
CATEGORIES:Hike
END:VEVENT
BEGIN:VEVENT
DTSTART;VALUE=DATE:20191117
DTEND;VALUE=DATE:20191118
DTSTAMP:20260424T055206
CREATED:20190911T181526Z
LAST-MODIFIED:20190916T025544Z
UID:40435-1573948800-1574035199@www.friendsofmttam.org
SUMMARY:12-4 VC Tom Brookshire
DESCRIPTION:
URL:https://www.friendsofmttam.org/event/12-4-vc-tom-brookshire-7/
CATEGORIES:Hike
END:VEVENT
BEGIN:VEVENT
DTSTART;VALUE=DATE:20191123
DTEND;VALUE=DATE:20191124
DTSTAMP:20260424T055206
CREATED:20191002T061851Z
LAST-MODIFIED:20191202T164156Z
UID:40836-1574467200-1574553599@www.friendsofmttam.org
SUMMARY:9:30AM Saturday Docent Hike - Strenuous - Pre-Thanksgiving Exercise Led by Robert Feist
DESCRIPTION:Pre-Thanksgiving Exercise: Fitness hike with docent Robert Feist. Here?s your chance for some great exercise before the Thanksgiving holiday!ÿ Join us for this scenic loop that offers varied terrain and views to please everyone!ÿ Fun for sure for all! Distance (mi): 8.9. Elevation Gain (ft): 1775. Strenuous.
URL:https://www.friendsofmttam.org/event/930am-saturday-docent-hike-strenuous-pre-thanksgiving-exercise-led-by-robert-feist/
LOCATION:Quarry Parking Lot #6\, Mt Tamalpais
CATEGORIES:Hike
END:VEVENT
BEGIN:VEVENT
DTSTART;VALUE=DATE:20191207
DTEND;VALUE=DATE:20191208
DTSTAMP:20260424T055206
CREATED:20191019T161152Z
LAST-MODIFIED:20191202T164156Z
UID:41167-1575676800-1575763199@www.friendsofmttam.org
SUMMARY:"Mindfulness in Nature" Hike with docent Alexandra Jurasin
DESCRIPTION:Saturday\, December 7thTime: 9:30 AMTrailhead: Rock Spring Trailhead. \n"Mindfulness in Nature" Interpretive hike with docent Alexandra Jurasin.Explore your senses in nature while being guided through mindfulness practices. Finish the hike feeling like you've just had a rejuvenating shower for your mind. Distance (mi): 4.5. Elevation Gain (ft): 722. Moderate. \nDistance: 4.5 milesElevation gain: 722 ft.Moderate. \nWhat to bring: Come prepared. Wear good hiking shoes/boots. Bring plenty of water\, lunch and snacks. Hiking poles are recommended on this mountain. \nCancellation policy: Rain or winds above 30 mph will cancel. \nLimited to 20 people. First come-first serve.  \nMore info: https://www.parks.ca.gov/?page_id=29802 \nTrailheads Google Map: https://drive.google.com/open?id=1_ALlCrwKUPFnHHJx3mjjjjSTJw3SCHrP&usp=sharing
URL:https://www.friendsofmttam.org/event/mindfulness-in-nature-hike-with-docent-alexandra-jurasin/
CATEGORIES:Hike
END:VEVENT
BEGIN:VEVENT
DTSTART;VALUE=DATE:20191214
DTEND;VALUE=DATE:20191215
DTSTAMP:20260424T055206
CREATED:20191002T061852Z
LAST-MODIFIED:20191202T164156Z
UID:40837-1576281600-1576367999@www.friendsofmttam.org
SUMMARY:9:30AM Saturday Docent Hike - RSVP - Moderate - Walking Mt. Tam: Trails of Creativity Led by Caryn Lowe
DESCRIPTION:Walking Mt. Tam: Trails of Creativity (RSVP) – iInterpretive hike with docent Caryn Lowe. ?Me thinks that the moment my legs begin to move\, my thoughts begin to flow!? -Thoreau.ÿScience is proving what people have known for ages ? going out into nature is one of the best ways to connect with your creative mind. Mt. Tam has been a special place of inspiration for many generations of artists and writers from early settlers from the Hudson Valley to the Bohemian and Beat movements. During this hike you will learn a little bit about this rich history\, what happens here today and hopefully make your own creative connection to Mt. Tam.ÿ Bring a notebook\, pens/pencils and your curiosity! Distance (mi): 3.3. Elevation Gain (ft): 751. Moderate.ÿHike limited to 12 people.ÿRSVP via State Park Website: https://www.parks.ca.gov/?page_id=29802
URL:https://www.friendsofmttam.org/event/930am-saturday-docent-hike-rsvp-moderate-walking-mt-tam-trails-of-creativity-led-by-caryn-lowe-3/
LOCATION:Pantoll #9\, Mt Tamalpais
CATEGORIES:Hike
END:VEVENT
END:VCALENDAR