BEGIN:VCALENDAR
VERSION:2.0
PRODID:-//Friends of Mt Tam - ECPv6.15.18//NONSGML v1.0//EN
CALSCALE:GREGORIAN
METHOD:PUBLISH
X-WR-CALNAME:Friends of Mt Tam
X-ORIGINAL-URL:https://www.friendsofmttam.org
X-WR-CALDESC:Events for Friends of Mt Tam
REFRESH-INTERVAL;VALUE=DURATION:PT1H
X-Robots-Tag:noindex
X-PUBLISHED-TTL:PT1H
BEGIN:VTIMEZONE
TZID:America/Los_Angeles
BEGIN:DAYLIGHT
TZOFFSETFROM:-0800
TZOFFSETTO:-0700
TZNAME:PDT
DTSTART:20160313T100000
END:DAYLIGHT
BEGIN:STANDARD
TZOFFSETFROM:-0700
TZOFFSETTO:-0800
TZNAME:PST
DTSTART:20161106T090000
END:STANDARD
BEGIN:DAYLIGHT
TZOFFSETFROM:-0800
TZOFFSETTO:-0700
TZNAME:PDT
DTSTART:20170312T100000
END:DAYLIGHT
BEGIN:STANDARD
TZOFFSETFROM:-0700
TZOFFSETTO:-0800
TZNAME:PST
DTSTART:20171105T090000
END:STANDARD
BEGIN:DAYLIGHT
TZOFFSETFROM:-0800
TZOFFSETTO:-0700
TZNAME:PDT
DTSTART:20180311T100000
END:DAYLIGHT
BEGIN:STANDARD
TZOFFSETFROM:-0700
TZOFFSETTO:-0800
TZNAME:PST
DTSTART:20181104T090000
END:STANDARD
END:VTIMEZONE
BEGIN:VEVENT
DTSTART;VALUE=DATE:20170704
DTEND;VALUE=DATE:20170705
DTSTAMP:20260424T042516
CREATED:20170813T214503Z
LAST-MODIFIED:20190510T194336Z
UID:8973-1499126400-1499212799@www.friendsofmttam.org
SUMMARY:11-4 Visitor Center - Sarah Martin
DESCRIPTION:
URL:https://www.friendsofmttam.org/event/11-4-visitor-center-sarah-martin/
CATEGORIES:Visitor Center
END:VEVENT
BEGIN:VEVENT
DTSTART;VALUE=DATE:20170704
DTEND;VALUE=DATE:20170705
DTSTAMP:20260424T042516
CREATED:20170811T144558Z
LAST-MODIFIED:20190510T191519Z
UID:8444-1499126400-1499212799@www.friendsofmttam.org
SUMMARY:12-4 Gravity Car Barn Open
DESCRIPTION:
URL:https://www.friendsofmttam.org/event/12-4-gravity-car-barn-open/
CATEGORIES:Gravity Car Barn
END:VEVENT
BEGIN:VEVENT
DTSTART;VALUE=DATE:20170702
DTEND;VALUE=DATE:20170703
DTSTAMP:20260424T042516
CREATED:20180301T212039Z
LAST-MODIFIED:20190510T194336Z
UID:11245-1498953600-1499039999@www.friendsofmttam.org
SUMMARY:11-4 VC: Shirley Beers/Lillian Lessler
DESCRIPTION:
URL:https://www.friendsofmttam.org/event/11-4-vc-shirley-beers-lillian-lessler-3/
CATEGORIES:Visitor Center
END:VEVENT
BEGIN:VEVENT
DTSTART;VALUE=DATE:20170702
DTEND;VALUE=DATE:20170703
DTSTAMP:20260424T042516
CREATED:20170813T214503Z
LAST-MODIFIED:20190510T194336Z
UID:8972-1498953600-1499039999@www.friendsofmttam.org
SUMMARY:11-4 Visitor Center Shirley Beers/Lillian Lessler
DESCRIPTION:
URL:https://www.friendsofmttam.org/event/11-4-visitor-center-shirley-beerslillian-lessler-3/
CATEGORIES:Visitor Center
END:VEVENT
BEGIN:VEVENT
DTSTART;VALUE=DATE:20170702
DTEND;VALUE=DATE:20170703
DTSTAMP:20260424T042516
CREATED:20170812T051541Z
LAST-MODIFIED:20191202T164105Z
UID:8706-1498953600-1499039999@www.friendsofmttam.org
SUMMARY:9:30am Hike led byMadelyn Mistie: "Mountain View"
DESCRIPTION:3-4 hours with a break for a light lunch. See Hiking / Sunday
URL:https://www.friendsofmttam.org/event/930am-hike-led-bymadelyn-mistie-mountain-view/
LOCATION:Rock Spring\, Mt Tamalpais
CATEGORIES:Hike
END:VEVENT
BEGIN:VEVENT
DTSTART;TZID=America/Los_Angeles:20170701T203000
DTEND;TZID=America/Los_Angeles:20170701T230000
DTSTAMP:20260424T042516
CREATED:20170814T044541Z
LAST-MODIFIED:20190516T001918Z
UID:9021-1498941000-1498950000@www.friendsofmttam.org
SUMMARY:Astronomy Night - Alan Agrawal
DESCRIPTION:Alan Agrawal\, Mount Diablo Astronomical Society\n*** Heavenly Vision: Galileo’s Telescopes & Observations ***\nGalileo Galilei developed a new method for reliably comprehending the world around us and\, accordingly\, has been called the father of modern science. We will learn how Galileo’s celestial observations dramatically changed our understanding of the universe and our place in it. \nStar Viewing after the program with the San Francisco Amature Astronomers
URL:https://www.friendsofmttam.org/event/astronomy-night-alan-agrawal/
LOCATION:Cushing Memorial Amphitheater\, Mill Valley\, CA 94941\, USA\, 2 Cushing Dr\, United States
CATEGORIES:Astronomy
END:VEVENT
BEGIN:VEVENT
DTSTART;VALUE=DATE:20170701
DTEND;VALUE=DATE:20170702
DTSTAMP:20260424T042517
CREATED:20170813T214502Z
LAST-MODIFIED:20190510T194336Z
UID:8971-1498867200-1498953599@www.friendsofmttam.org
SUMMARY:VC -ALBERT WALD / Chris and Tara Castleman
DESCRIPTION:
URL:https://www.friendsofmttam.org/event/vc-albert-wald-chris-and-tara-castleman/
CATEGORIES:Visitor Center
END:VEVENT
BEGIN:VEVENT
DTSTART;VALUE=DATE:20170701
DTEND;VALUE=DATE:20170702
DTSTAMP:20260424T042517
CREATED:20170812T051540Z
LAST-MODIFIED:20191202T164104Z
UID:8705-1498867200-1498953599@www.friendsofmttam.org
SUMMARY:9:30am Hike led by Franklin Young: "Green Gulch"
DESCRIPTION:3-4 hours with a break for a light lunch. See Hiking / Saturday
URL:https://www.friendsofmttam.org/event/930am-hike-led-by-franklin-young-green-gulch/
LOCATION:Dias Ridge\, Mt Tamalpais
CATEGORIES:Hike
END:VEVENT
BEGIN:VEVENT
DTSTART;TZID=America/Los_Angeles:20170628T180000
DTEND;TZID=America/Los_Angeles:20170628T200000
DTSTAMP:20260424T042517
CREATED:20170812T050004Z
LAST-MODIFIED:20191202T164104Z
UID:8704-1498672800-1498680000@www.friendsofmttam.org
SUMMARY:Evening hike led byFranklin Young: "Crookedest Railroad"
DESCRIPTION:Wednesday evening hikes last 2 to 3 hours with a 15 minute break.
URL:https://www.friendsofmttam.org/event/evening-hike-led-byfranklin-young-crookedest-railroad/
LOCATION:Mt Home\, Mt Tamalpais
CATEGORIES:Hike
END:VEVENT
BEGIN:VEVENT
DTSTART;VALUE=DATE:20170628
DTEND;VALUE=DATE:20170629
DTSTAMP:20260424T042517
CREATED:20170812T050004Z
LAST-MODIFIED:20191202T164104Z
UID:8703-1498608000-1498694399@www.friendsofmttam.org
SUMMARY:Evening hike led by Franklin Young: "Crookedest Railroad"
DESCRIPTION:Wednesday evening hikes last 2 to 3 hours with a 15 minute break.
URL:https://www.friendsofmttam.org/event/evening-hike-led-by-franklin-young-crookedest-railroad/
LOCATION:Mt Home\, Mt Tamalpais
CATEGORIES:Hike
END:VEVENT
BEGIN:VEVENT
DTSTART;VALUE=DATE:20170625
DTEND;VALUE=DATE:20170626
DTSTAMP:20260424T042517
CREATED:20170812T050004Z
LAST-MODIFIED:20191202T164104Z
UID:8702-1498348800-1498435199@www.friendsofmttam.org
SUMMARY:9:30am Hike led by Robert Freinkel: "Late Spring Wildflowe"
DESCRIPTION:3-4 hours with a break for a light lunch. See Hiking / Sunday\nHike is rated M
URL:https://www.friendsofmttam.org/event/930am-hike-led-by-robert-freinkel-late-spring-wildflowe/
LOCATION:Rock Spring\, Mt Tamalpais
CATEGORIES:Hike
END:VEVENT
BEGIN:VEVENT
DTSTART;VALUE=DATE:20170624
DTEND;VALUE=DATE:20170625
DTSTAMP:20260424T042517
CREATED:20170813T214502Z
LAST-MODIFIED:20190510T194336Z
UID:8970-1498262400-1498348799@www.friendsofmttam.org
SUMMARY:11-4 VC - Mardi Leland
DESCRIPTION:
URL:https://www.friendsofmttam.org/event/11-4-vc-mardi-leland/
CATEGORIES:Visitor Center
END:VEVENT
BEGIN:VEVENT
DTSTART;TZID=America/Los_Angeles:20170621T180000
DTEND;TZID=America/Los_Angeles:20170621T200000
DTSTAMP:20260424T042517
CREATED:20170812T050003Z
LAST-MODIFIED:20191202T164104Z
UID:8701-1498068000-1498075200@www.friendsofmttam.org
SUMMARY:Evening hike led by Sue Karp: ""
DESCRIPTION:Wednesday evening hikes last 2 to 3 hours with a 15 minute break.
URL:https://www.friendsofmttam.org/event/evening-hike-led-by-sue-karp-2/
LOCATION:Mt Home\, Mt Tamalpais
CATEGORIES:Hike
END:VEVENT
BEGIN:VEVENT
DTSTART;VALUE=DATE:20170621
DTEND;VALUE=DATE:20170622
DTSTAMP:20260424T042517
CREATED:20170812T050003Z
LAST-MODIFIED:20191202T164104Z
UID:8700-1498003200-1498089599@www.friendsofmttam.org
SUMMARY:Evening hike led by Sue Karp
DESCRIPTION:3-4 hours with a break for a light lunch. See Hiking / Sunday
URL:https://www.friendsofmttam.org/event/evening-hike-led-by-sue-karp/
LOCATION:Mt Home\, Mt Tamalpais
CATEGORIES:Hike
END:VEVENT
BEGIN:VEVENT
DTSTART;VALUE=DATE:20170618
DTEND;VALUE=DATE:20170619
DTSTAMP:20260424T042517
CREATED:20170813T213130Z
LAST-MODIFIED:20170813T213130Z
UID:8969-1497744000-1497830399@www.friendsofmttam.org
SUMMARY:11-4 Visitor Center - Tom Brookshire
DESCRIPTION:
URL:https://www.friendsofmttam.org/event/11-4-visitor-center-tom-brookshire-3/
LOCATION:Mt Tam\, East Peak Parking Lot\, East Ridgecrest Blvd.\, Mill Valley\, CA 94941\, USA\, 201 Meda Ln\, United States
CATEGORIES:Visitor Center
END:VEVENT
BEGIN:VEVENT
DTSTART;VALUE=DATE:20170618
DTEND;VALUE=DATE:20170619
DTSTAMP:20260424T042517
CREATED:20170813T213129Z
LAST-MODIFIED:20170813T213129Z
UID:8968-1497744000-1497830399@www.friendsofmttam.org
SUMMARY:11-4 Visitor Center - Tom Brookshire
DESCRIPTION:
URL:https://www.friendsofmttam.org/event/11-4-visitor-center-tom-brookshire-2/
LOCATION:Mt Tam\, East Peak Parking Lot\, East Ridgecrest Blvd.\, Mill Valley\, CA 94941\, USA\, 201 Meda Ln\, United States
CATEGORIES:Visitor Center
END:VEVENT
BEGIN:VEVENT
DTSTART;VALUE=DATE:20170618
DTEND;VALUE=DATE:20170619
DTSTAMP:20260424T042517
CREATED:20170813T213129Z
LAST-MODIFIED:20190510T194336Z
UID:8966-1497744000-1497830399@www.friendsofmttam.org
SUMMARY:11-4 Visitor Center - Tom Brookshire
DESCRIPTION:
URL:https://www.friendsofmttam.org/event/11-4-visitor-center-tom-brookshire/
LOCATION:Mt Tam\, East Peak Parking Lot\, East Ridgecrest Blvd.\, Mill Valley\, CA 94941\, USA\, 201 Meda Ln\, United States
CATEGORIES:Visitor Center
END:VEVENT
BEGIN:VEVENT
DTSTART;VALUE=DATE:20170618
DTEND;VALUE=DATE:20170619
DTSTAMP:20260424T042517
CREATED:20170812T044525Z
LAST-MODIFIED:20191202T164103Z
UID:8695-1497744000-1497830399@www.friendsofmttam.org
SUMMARY:9:30am Hike Cancelled
DESCRIPTION:3-4 hours with a break for a light lunch. See Hiking / Sunday\nHike is rated M
URL:https://www.friendsofmttam.org/event/930am-hike-cancelled-3/
LOCATION:Mt Home\, Mt Tamalpais
CATEGORIES:Hike
END:VEVENT
BEGIN:VEVENT
DTSTART;VALUE=DATE:20170618
DTEND;VALUE=DATE:20170619
DTSTAMP:20260424T042517
CREATED:20170812T044512Z
LAST-MODIFIED:20190516T003828Z
UID:8681-1497744000-1497830399@www.friendsofmttam.org
SUMMARY:Mt Play
DESCRIPTION:
URL:https://www.friendsofmttam.org/event/mt-play-3/
CATEGORIES:Other
END:VEVENT
BEGIN:VEVENT
DTSTART;TZID=America/Los_Angeles:20170617T203000
DTEND;TZID=America/Los_Angeles:20170617T223000
DTSTAMP:20260424T042517
CREATED:20170814T044541Z
LAST-MODIFIED:20190516T001918Z
UID:9020-1497731400-1497738600@www.friendsofmttam.org
SUMMARY:Science Movie Night - "Gravity"
DESCRIPTION:MOVIE NIGHT  Screening of the 2013 science fiction film \n*** “Gravity” ***\nStarring Sandra Bullock and George Clooney as NASA astronauts stranded in orbit\, this tense film earned 7 Oscars at the 2014 Academy Awards\, including Best Director for Alfonso Cuarón. \nNote: No Star Viewing after the program on Movie Night
URL:https://www.friendsofmttam.org/event/science-movie-night-gravity/
LOCATION:Cushing Memorial Amphitheater\, Mill Valley\, CA 94941\, USA\, 2 Cushing Dr\, United States
CATEGORIES:Astronomy
END:VEVENT
BEGIN:VEVENT
DTSTART;VALUE=DATE:20170617
DTEND;VALUE=DATE:20170618
DTSTAMP:20260424T042517
CREATED:20170813T213129Z
LAST-MODIFIED:20190510T194336Z
UID:8967-1497657600-1497743999@www.friendsofmttam.org
SUMMARY:11-4 VC Sarah Martin
DESCRIPTION:
URL:https://www.friendsofmttam.org/event/11-4-vc-sarah-martin-3/
CATEGORIES:Visitor Center
END:VEVENT
BEGIN:VEVENT
DTSTART;VALUE=DATE:20170617
DTEND;VALUE=DATE:20170618
DTSTAMP:20260424T042517
CREATED:20170813T213129Z
LAST-MODIFIED:20170813T213129Z
UID:8961-1497657600-1497743999@www.friendsofmttam.org
SUMMARY:11-4 VC Sarah Martin
DESCRIPTION:
URL:https://www.friendsofmttam.org/event/11-4-vc-sarah-martin/
CATEGORIES:Visitor Center
END:VEVENT
BEGIN:VEVENT
DTSTART;VALUE=DATE:20170617
DTEND;VALUE=DATE:20170618
DTSTAMP:20260424T042517
CREATED:20170813T213129Z
LAST-MODIFIED:20170813T213129Z
UID:8963-1497657600-1497743999@www.friendsofmttam.org
SUMMARY:11-4 VC Sarah Martin
DESCRIPTION:
URL:https://www.friendsofmttam.org/event/11-4-vc-sarah-martin-2/
CATEGORIES:Visitor Center
END:VEVENT
BEGIN:VEVENT
DTSTART;VALUE=DATE:20170617
DTEND;VALUE=DATE:20170618
DTSTAMP:20260424T042517
CREATED:20170812T044525Z
LAST-MODIFIED:20191202T164103Z
UID:8694-1497657600-1497743999@www.friendsofmttam.org
SUMMARY:9:30am Hike led by Pat Emsberger: ""
DESCRIPTION:3-4 hours with a break for a light lunch. See Hiking / Saturday
URL:https://www.friendsofmttam.org/event/930am-hike-led-by-pat-emsberger/
LOCATION:Dias Ridge\, Mt Tamalpais
CATEGORIES:Hike
END:VEVENT
BEGIN:VEVENT
DTSTART;TZID=America/Los_Angeles:20170614T180000
DTEND;TZID=America/Los_Angeles:20170614T200000
DTSTAMP:20260424T042517
CREATED:20170812T044525Z
LAST-MODIFIED:20191202T164103Z
UID:8693-1497463200-1497470400@www.friendsofmttam.org
SUMMARY:Evening hike led by Karen Sapper: ""
DESCRIPTION:Wednesday evening hikes last 2 to 3 hours with a 15 minute break.
URL:https://www.friendsofmttam.org/event/evening-hike-led-by-karen-sapper-3/
LOCATION:BootJack\, Mt Tamalpais
CATEGORIES:Hike
END:VEVENT
BEGIN:VEVENT
DTSTART;VALUE=DATE:20170611
DTEND;VALUE=DATE:20170612
DTSTAMP:20260424T042517
CREATED:20170813T213129Z
LAST-MODIFIED:20170813T213129Z
UID:8960-1497139200-1497225599@www.friendsofmttam.org
SUMMARY:11-4 Visitor Center - Debra Brody / Kit Murphy
DESCRIPTION:
URL:https://www.friendsofmttam.org/event/11-4-visitor-center-debra-brody-kit-murphy-2/
CATEGORIES:Visitor Center
END:VEVENT
BEGIN:VEVENT
DTSTART;VALUE=DATE:20170611
DTEND;VALUE=DATE:20170612
DTSTAMP:20260424T042517
CREATED:20170813T213128Z
LAST-MODIFIED:20190510T194336Z
UID:8959-1497139200-1497225599@www.friendsofmttam.org
SUMMARY:11-4 Visitor Center - Debra Brody / Kit Murphy
DESCRIPTION:
URL:https://www.friendsofmttam.org/event/11-4-visitor-center-debra-brody-kit-murphy/
CATEGORIES:Visitor Center
END:VEVENT
BEGIN:VEVENT
DTSTART;VALUE=DATE:20170611
DTEND;VALUE=DATE:20170612
DTSTAMP:20260424T042517
CREATED:20170812T044524Z
LAST-MODIFIED:20191202T164102Z
UID:8691-1497139200-1497225599@www.friendsofmttam.org
SUMMARY:9:30am Hike led by Glenn Carter: ""
DESCRIPTION:3-4 hours with a break for a light lunch. See Hiking / Sunday\nHike is rated M \nShadowed by Elizabeth Silverstain (#1)
URL:https://www.friendsofmttam.org/event/930am-hike-led-by-glenn-carter/
LOCATION:Stinson Beach\, Mt Tamalpais
CATEGORIES:Hike
END:VEVENT
BEGIN:VEVENT
DTSTART;VALUE=DATE:20170611
DTEND;VALUE=DATE:20170612
DTSTAMP:20260424T042517
CREATED:20170812T044512Z
LAST-MODIFIED:20190516T003828Z
UID:8678-1497139200-1497225599@www.friendsofmttam.org
SUMMARY:Mt Play
DESCRIPTION:
URL:https://www.friendsofmttam.org/event/mt-play-2/
CATEGORIES:Other
END:VEVENT
BEGIN:VEVENT
DTSTART;TZID=America/Los_Angeles:20170610T200000
DTEND;TZID=America/Los_Angeles:20170610T223000
DTSTAMP:20260424T042517
CREATED:20170812T044525Z
LAST-MODIFIED:20191202T164102Z
UID:8692-1497124800-1497133800@www.friendsofmttam.org
SUMMARY:Moonlight hike led by Park Interpreter Rosanna - Strawberry Moon
DESCRIPTION:Starts 15 minutes after sunset
URL:https://www.friendsofmttam.org/event/moonlight-hike-led-by-park-interpreter-rosanna-strawberry-moon/
LOCATION:Pantoll Parking Lot\, Mt Tamalpais
CATEGORIES:Hike
END:VEVENT
END:VCALENDAR