BEGIN:VCALENDAR
VERSION:2.0
PRODID:-//Friends of Mt Tam - ECPv6.15.18//NONSGML v1.0//EN
CALSCALE:GREGORIAN
METHOD:PUBLISH
X-WR-CALNAME:Friends of Mt Tam
X-ORIGINAL-URL:https://www.friendsofmttam.org
X-WR-CALDESC:Events for Friends of Mt Tam
REFRESH-INTERVAL;VALUE=DURATION:PT1H
X-Robots-Tag:noindex
X-PUBLISHED-TTL:PT1H
BEGIN:VTIMEZONE
TZID:America/Los_Angeles
BEGIN:DAYLIGHT
TZOFFSETFROM:-0800
TZOFFSETTO:-0700
TZNAME:PDT
DTSTART:20180311T100000
END:DAYLIGHT
BEGIN:STANDARD
TZOFFSETFROM:-0700
TZOFFSETTO:-0800
TZNAME:PST
DTSTART:20181104T090000
END:STANDARD
BEGIN:DAYLIGHT
TZOFFSETFROM:-0800
TZOFFSETTO:-0700
TZNAME:PDT
DTSTART:20190310T100000
END:DAYLIGHT
BEGIN:STANDARD
TZOFFSETFROM:-0700
TZOFFSETTO:-0800
TZNAME:PST
DTSTART:20191103T090000
END:STANDARD
BEGIN:DAYLIGHT
TZOFFSETFROM:-0800
TZOFFSETTO:-0700
TZNAME:PDT
DTSTART:20200308T100000
END:DAYLIGHT
BEGIN:STANDARD
TZOFFSETFROM:-0700
TZOFFSETTO:-0800
TZNAME:PST
DTSTART:20201101T090000
END:STANDARD
END:VTIMEZONE
BEGIN:VEVENT
DTSTART;VALUE=DATE:20190310
DTEND;VALUE=DATE:20190311
DTSTAMP:20260424T001834
CREATED:20181217T022413Z
LAST-MODIFIED:20191202T164146Z
UID:29963-1552176000-1552262399@www.friendsofmttam.org
SUMMARY:CANCELLED 9:30 AM Sunday Docent Hike - Moderate - Owls  Led By Joan Lamphier
DESCRIPTION:CANNCELLED RAIN\nDiscuss owls on the Mountain – Spotted Owl history and concerns Distance: 4.2 Elevation gain: 584 ft. Moderate.
URL:https://www.friendsofmttam.org/event/930-am-sunday-docent-hike-moderate-owls-led-by-joan-lamphier/
LOCATION:Pantoll #9\, Mt Tamalpais
CATEGORIES:Hike
END:VEVENT
BEGIN:VEVENT
DTSTART;VALUE=DATE:20190316
DTEND;VALUE=DATE:20190317
DTSTAMP:20260424T001834
CREATED:20190104T021652Z
LAST-MODIFIED:20191202T164146Z
UID:30055-1552694400-1552780799@www.friendsofmttam.org
SUMMARY:9:30 AM Saturday Docent Hike - Strenuous - Meditations in Nature  Led By Rosalind Gottfried
DESCRIPTION:Saturday March 16 at 9:30am from Stinson Beach trailhead.  \n“Meditations in Nature” with Rosalind Gottfried . We will stop to appreciate\, and meditate on\, the sounds and smells of the trails\, particularly the Steep Ravine trail\, and admire the ocean views from the Matt Davis trail.  \nDistance: 6.9 Elevation gain: 1\,804 ft. Strenuous.
URL:https://www.friendsofmttam.org/event/hike-rosalind-gottfried-4/
CATEGORIES:Hike
END:VEVENT
BEGIN:VEVENT
DTSTART;VALUE=DATE:20190316
DTEND;VALUE=DATE:20190317
DTSTAMP:20260424T001834
CREATED:20190224T221608Z
LAST-MODIFIED:20190225T164826Z
UID:32488-1552694400-1552780799@www.friendsofmttam.org
SUMMARY:9:30 AM Saturday Interpretive Hike - Moderate - Discover the Redwoods Led By Eileen Bai
DESCRIPTION:Every Saturday at 9:30am from Pantoll Trailhead.  \n“Discover the Redwoods ” with Park Interpretive Specialist Eileen Bai.  \nLet’s take some time to study the Coast Redwoods. On this hike we’ll discuss the important role Coast Redwoods have played throughout California’s history. We’ll learn how their biological processes have informed how we value these trees today and what role they will play for future generations.  \nDistance: 3.2 miles\, 712 ft elevation gain\, Moderate.
URL:https://www.friendsofmttam.org/event/930-am-saturday-interpretive-hike-moderate-discover-the-redwoods-led-by-eileen-bai-2/
CATEGORIES:Hike
END:VEVENT
BEGIN:VEVENT
DTSTART;VALUE=DATE:20190316
DTEND;VALUE=DATE:20190317
DTSTAMP:20260424T001834
CREATED:20190224T221608Z
LAST-MODIFIED:20190225T164826Z
UID:32487-1552694400-1552780799@www.friendsofmttam.org
SUMMARY:9:30 AM Saturday Interpretive Hike - Moderate - Discover the Redwoods Led By Eileen Bai
DESCRIPTION:Every Saturday at 9:30am from Pantoll Trailhead.  \n“Discover the Redwoods ” with Eileen Bai.  \nLet’s take some time to study the Coast Redwoods. On this hike we’ll discuss the important role Coast Redwoods have played throughout California’s history. We’ll learn how their biological processes have informed how we value these trees today and what role they will play for future generations.  \nDistance: 3.2 miles\, 712 ft elevation gain\, Moderate.
URL:https://www.friendsofmttam.org/event/930-am-saturday-interpretive-hike-moderate-discover-the-redwoods-led-by-eileen-bai/
CATEGORIES:Hike
END:VEVENT
BEGIN:VEVENT
DTSTART;VALUE=DATE:20190316
DTEND;VALUE=DATE:20190317
DTSTAMP:20260424T001834
CREATED:20190225T180303Z
LAST-MODIFIED:20191202T164146Z
UID:32556-1552694400-1552780799@www.friendsofmttam.org
SUMMARY:9:30 AM Saturday Interpretive Hike - Moderate - Discover the Redwoods Led By Eileen Bai
DESCRIPTION:Every Saturday at 9:30am from Pantoll Trailhead.  \n“Discover the Redwoods ” with Park Interpretive Specialist Eileen Bai.  \nLet’s take some time to study the Coast Redwoods. On this hike we’ll discuss the important role Coast Redwoods have played throughout California’s history. We’ll learn how their biological processes have informed how we value these trees today and what role they will play for future generations.  \nDistance: 3.2 miles\, 712 ft elevation gain\, Moderate.
URL:https://www.friendsofmttam.org/event/930-am-saturday-interpretive-hike-moderate-discover-the-redwoods-led-by-eileen-bai-9/
CATEGORIES:Hike
END:VEVENT
BEGIN:VEVENT
DTSTART;VALUE=DATE:20190317
DTEND;VALUE=DATE:20190318
DTSTAMP:20260424T001834
CREATED:20181217T022413Z
LAST-MODIFIED:20191202T164147Z
UID:29964-1552780800-1552867199@www.friendsofmttam.org
SUMMARY:9:30 AM Sunday Docent Hike - Moderately Strenuous - Health and Happiness  Led By Tracy Stuar
DESCRIPTION:Enjoy your endorphine high and share it with other hikers while exploring a landscape of Ferns\, Sargetn Cypress trees\, Serpentine Rock\, Douglas Fir and free flowing creeks. Distance: 5.9 Elevation gain: 988 ft. Moderately strenuous.
URL:https://www.friendsofmttam.org/event/930-am-sunday-docent-hike-moderately-strenuous-health-and-happiness-led-by-tracy-stuar/
LOCATION:Rock Spring #4\, Mt Tamalpais
CATEGORIES:Hike
END:VEVENT
BEGIN:VEVENT
DTSTART;VALUE=DATE:20190317
DTEND;VALUE=DATE:20190318
DTSTAMP:20260424T001834
CREATED:20190504T053533Z
LAST-MODIFIED:20190510T194344Z
UID:37317-1552780800-1552867199@www.friendsofmttam.org
SUMMARY:11-4 VC: Kit Murphy & Debra Brody
DESCRIPTION:
URL:https://www.friendsofmttam.org/event/11-4-vc-kit-murphy-debra-brody-32/
CATEGORIES:Visitor Center
END:VEVENT
BEGIN:VEVENT
DTSTART;VALUE=DATE:20190323
DTEND;VALUE=DATE:20190324
DTSTAMP:20260424T001834
CREATED:20181217T022414Z
LAST-MODIFIED:20191202T164147Z
UID:29965-1553299200-1553385599@www.friendsofmttam.org
SUMMARY:9:30 AM Saturday Docent Hike - Moderately Strenuous - Meet Owlivia and Barnaby  Led By Franklin Young
DESCRIPTION:Enjoy great mountain and ocean views on our way to meet Ocean Riders located in the Golden Gate Dairy Ranch. Their programs include building developmental and leadership skills thru horses. They have been also caring for a owl couple in their barn: Owlivia and Barnaby and their chicks. Distance: 7.6 Elevation gain: 1\,352 ft. Moderately strenuous.
URL:https://www.friendsofmttam.org/event/930-am-saturday-docent-hike-moderately-strenuous-meet-owlivia-and-barnaby-led-by-franklin-young/
LOCATION:Dias Ridge #12\, Mt Tamalpais
CATEGORIES:Hike
END:VEVENT
BEGIN:VEVENT
DTSTART;VALUE=DATE:20190323
DTEND;VALUE=DATE:20190324
DTSTAMP:20260424T001834
CREATED:20190224T221608Z
LAST-MODIFIED:20190225T164826Z
UID:32489-1553299200-1553385599@www.friendsofmttam.org
SUMMARY:9:30 AM Saturday Interpretive Hike - Moderate - Discover the Redwoods Led By Eileen Bai
DESCRIPTION:Every Saturday at 9:30am from Pantoll Trailhead.  \n“Discover the Redwoods ” with Park Interpretive Specialist Eileen Bai.  \nLet’s take some time to study the Coast Redwoods. On this hike we’ll discuss the important role Coast Redwoods have played throughout California’s history. We’ll learn how their biological processes have informed how we value these trees today and what role they will play for future generations.  \nDistance: 3.2 miles\, 712 ft elevation gain\, Moderate.
URL:https://www.friendsofmttam.org/event/930-am-saturday-interpretive-hike-moderate-discover-the-redwoods-led-by-eileen-bai-3/
CATEGORIES:Hike
END:VEVENT
BEGIN:VEVENT
DTSTART;VALUE=DATE:20190323
DTEND;VALUE=DATE:20190324
DTSTAMP:20260424T001834
CREATED:20190225T180303Z
LAST-MODIFIED:20191202T164147Z
UID:32557-1553299200-1553385599@www.friendsofmttam.org
SUMMARY:9:30 AM Saturday Interpretive Hike - Moderate - Discover the Redwoods Led By Eileen Bai
DESCRIPTION:Every Saturday at 9:30am from Pantoll Trailhead.  \n“Discover the Redwoods ” with Park Interpretive Specialist Eileen Bai.  \nLet’s take some time to study the Coast Redwoods. On this hike we’ll discuss the important role Coast Redwoods have played throughout California’s history. We’ll learn how their biological processes have informed how we value these trees today and what role they will play for future generations.  \nDistance: 3.2 miles\, 712 ft elevation gain\, Moderate.
URL:https://www.friendsofmttam.org/event/930-am-saturday-interpretive-hike-moderate-discover-the-redwoods-led-by-eileen-bai-10/
CATEGORIES:Hike
END:VEVENT
BEGIN:VEVENT
DTSTART;VALUE=DATE:20190324
DTEND;VALUE=DATE:20190325
DTSTAMP:20260424T001834
CREATED:20181217T022414Z
LAST-MODIFIED:20191202T164147Z
UID:29966-1553385600-1553471999@www.friendsofmttam.org
SUMMARY:9:30 AM Sunday Docent Hike - Moderately Strenuous - Coastal Wildflowers  Led By Franklin Young
DESCRIPTION:Join us in our search for wildflowers both along the Coast and inland Distance: 6.3 Elevation gain: 1\,106 ft. Moderately strenuous.
URL:https://www.friendsofmttam.org/event/930-am-sunday-docent-hike-moderately-strenuous-coastal-wildflowers-led-by-franklin-young/
LOCATION:Pantoll #9\, Mt Tamalpais
CATEGORIES:Hike
END:VEVENT
BEGIN:VEVENT
DTSTART;VALUE=DATE:20190330
DTEND;VALUE=DATE:20190331
DTSTAMP:20260424T001834
CREATED:20181217T022414Z
LAST-MODIFIED:20191202T164147Z
UID:29968-1553904000-1553990399@www.friendsofmttam.org
SUMMARY:CANCELLED 9:30 AM Saturday Docent Hike - Strenuous - Mt Tam History  Led By Karen Ulring
DESCRIPTION:CANCELLED\nDocent Karen Ulring cannot cover. \nDiscover the history of Frank Valley and the Banducci Farms. Distance: 8.9 Elevation gain: 1\,384 ft. Strenuous.
URL:https://www.friendsofmttam.org/event/930-am-saturday-docent-hike-strenuous-mt-tam-history-led-by-karen-ulring/
LOCATION:Hwy#1/Muir Woods Rd #15\, Mt Tamalpais
CATEGORIES:Hike
END:VEVENT
BEGIN:VEVENT
DTSTART;VALUE=DATE:20190330
DTEND;VALUE=DATE:20190331
DTSTAMP:20260424T001834
CREATED:20190224T221609Z
LAST-MODIFIED:20190225T164827Z
UID:32490-1553904000-1553990399@www.friendsofmttam.org
SUMMARY:9:30 AM Saturday Interpretive Hike - Moderate - Discover the Redwoods Led By Eileen Bai
DESCRIPTION:Every Saturday at 9:30am from Pantoll Trailhead.  \n“Discover the Redwoods ” with Park Interpretive Specialist Eileen Bai.  \nLet’s take some time to study the Coast Redwoods. On this hike we’ll discuss the important role Coast Redwoods have played throughout California’s history. We’ll learn how their biological processes have informed how we value these trees today and what role they will play for future generations.  \nDistance: 3.2 miles\, 712 ft elevation gain\, Moderate.
URL:https://www.friendsofmttam.org/event/930-am-saturday-interpretive-hike-moderate-discover-the-redwoods-led-by-eileen-bai-4/
CATEGORIES:Hike
END:VEVENT
BEGIN:VEVENT
DTSTART;VALUE=DATE:20190330
DTEND;VALUE=DATE:20190331
DTSTAMP:20260424T001834
CREATED:20190225T180304Z
LAST-MODIFIED:20191202T164147Z
UID:32558-1553904000-1553990399@www.friendsofmttam.org
SUMMARY:9:30 AM Saturday Interpretive Hike - Moderate - Discover the Redwoods Led By Eileen Bai
DESCRIPTION:Every Saturday at 9:30am from Pantoll Trailhead.  \n“Discover the Redwoods ” with Park Interpretive Specialist Eileen Bai.  \nLet’s take some time to study the Coast Redwoods. On this hike we’ll discuss the important role Coast Redwoods have played throughout California’s history. We’ll learn how their biological processes have informed how we value these trees today and what role they will play for future generations.  \nDistance: 3.2 miles\, 712 ft elevation gain\, Moderate.
URL:https://www.friendsofmttam.org/event/930-am-saturday-interpretive-hike-moderate-discover-the-redwoods-led-by-eileen-bai-11/
CATEGORIES:Hike
END:VEVENT
BEGIN:VEVENT
DTSTART;VALUE=DATE:20190331
DTEND;VALUE=DATE:20190401
DTSTAMP:20260424T001834
CREATED:20181217T022414Z
LAST-MODIFIED:20191202T164148Z
UID:29969-1553990400-1554076799@www.friendsofmttam.org
SUMMARY:CHANGED: 11:30 AM Sunday Docent Hike - Moderately Strenuous - "Springtime" Led By Lizzy Silverstein
DESCRIPTION:Time: 11:30am Meeting Location: Redwood Creek Trailhead See map: https://goo.gl/maps/AVLqU1PgJHL2 \n” Springtime ” with docent Lizzy Silverstein. This loop hike will cover about the trees\, ferns\, and wildflowers along the trail. We will also explore the Redwood Creek watershed. The Tamalpais Land Collaborative (TLC) plans to realign about a mile of the Redwood Creek Trail and build two new bridges over the stream\, to provide passage for horses and pedestrians and protect the creek and its inhabitants.  \nDistance: 6.2 miles. Elevation gain: 892 ft. Moderately Strenuous.Moderately Strenuous hikes will generally be challenging for an unconditioned person. The terrain will involve a steady and often steep incline. Generally 5 to 8 miles. \nWhat to bring: Come prepared. Wear good hiking shoes/boots. Bring plenty of water\, lunch and snacks. Hiking poles are recommended on this mountain. \nParticipation: Hikes are limited to 20 people per leader. First come\, first serve. Be on time to allow for parking and meeting with your group. \nCancellation policy: Rain or winds above 30 mph will cancel (unless otherwise advertised).
URL:https://www.friendsofmttam.org/event/930-am-sunday-docent-hike-strenuous-redwoods-and-their-friends-led-by-lizzy-silverstein/
LOCATION:Mt Home #11\, Mt Tamalpais
CATEGORIES:Hike
END:VEVENT
BEGIN:VEVENT
DTSTART;VALUE=DATE:20190403
DTEND;VALUE=DATE:20190404
DTSTAMP:20260424T001834
CREATED:20190330T180145Z
LAST-MODIFIED:20191202T164148Z
UID:34753-1554249600-1554335999@www.friendsofmttam.org
SUMMARY:5:30 PM Wednesday Interpretive Hike - Moderate - Views From Mt Tam Led By Catherine Orland
DESCRIPTION:Wednesday\, April 3 at 5:30 PM from Bootjack trailhead. \n“Views from Mt. Tam” with docent Catherine Orland. Weather permitting\, we’ll see some gorgeous views of the Bay around Sunset. We can look towards Diablo. We can look out to the Pacific. We can look back towards San Francisco and down the coast. \nDistance: 4.6 milesElevation gain: 1\,024 ft.Moderate. \nWhat to bring: Come prepared. Wear good hiking shoes/boots. Bring plenty of water\, lunch and snacks. Hiking poles are recommended on this mountain. \nParticipation: Hikes are limited to 20 people per leader. First come\, first serve. Be on time to allow for parking and meeting with your group. \nCancellation policy: Rain or winds above 30 mph will cancel.
URL:https://www.friendsofmttam.org/event/530-pm-wednesday-interpretive-hike-moderate-views-from-mt-tam-led-by-catherine-orland/
CATEGORIES:Hike
END:VEVENT
BEGIN:VEVENT
DTSTART;VALUE=DATE:20190406
DTEND;VALUE=DATE:20190407
DTSTAMP:20260424T001834
CREATED:20190224T221609Z
LAST-MODIFIED:20190225T164827Z
UID:32491-1554508800-1554595199@www.friendsofmttam.org
SUMMARY:9:30 AM Saturday Interpretive Hike - Moderate - Discover the Redwoods Led By Eileen Bai
DESCRIPTION:Every Saturday at 9:30am from Pantoll Trailhead.  \n“Discover the Redwoods ” with Park Interpretive Specialist Eileen Bai.  \nLet’s take some time to study the Coast Redwoods. On this hike we’ll discuss the important role Coast Redwoods have played throughout California’s history. We’ll learn how their biological processes have informed how we value these trees today and what role they will play for future generations.  \nDistance: 3.2 miles\, 712 ft elevation gain\, Moderate.
URL:https://www.friendsofmttam.org/event/930-am-saturday-interpretive-hike-moderate-discover-the-redwoods-led-by-eileen-bai-5/
CATEGORIES:Hike
END:VEVENT
BEGIN:VEVENT
DTSTART;VALUE=DATE:20190406
DTEND;VALUE=DATE:20190407
DTSTAMP:20260424T001834
CREATED:20190225T180304Z
LAST-MODIFIED:20191202T164148Z
UID:32559-1554508800-1554595199@www.friendsofmttam.org
SUMMARY:9:30 AM Saturday Interpretive Hike - Moderate - Discover the Redwoods Led By Eileen Bai
DESCRIPTION:Every Saturday at 9:30am from Pantoll Trailhead.  \n“Discover the Redwoods ” with Park Interpretive Specialist Eileen Bai.  \nLet’s take some time to study the Coast Redwoods. On this hike we’ll discuss the important role Coast Redwoods have played throughout California’s history. We’ll learn how their biological processes have informed how we value these trees today and what role they will play for future generations.  \nDistance: 3.2 miles\, 712 ft elevation gain\, Moderate.
URL:https://www.friendsofmttam.org/event/930-am-saturday-interpretive-hike-moderate-discover-the-redwoods-led-by-eileen-bai-12/
CATEGORIES:Hike
END:VEVENT
BEGIN:VEVENT
DTSTART;VALUE=DATE:20190410
DTEND;VALUE=DATE:20190411
DTSTAMP:20260424T001834
CREATED:20190409T181852Z
LAST-MODIFIED:20191202T164148Z
UID:35448-1554854400-1554940799@www.friendsofmttam.org
SUMMARY:5:30 PM Wednesday Fitness Hike - Moderate - Led By Sue Karp
DESCRIPTION:Time: 5:30 PMTrailhead: Mtn Home trailhead.Fitness hike with docent Sue Karp. We will enjoy ocean views as we begin our descent into Muir Woods.  Along the way we should see a variety of Spring flowers.  We will experience the sounds of nature as we follow the stream along the redwood path towards our ascent. \nDistance: 4.8 milesElevation gain: 1\,037 ft.Moderate. \nWhat to bring: Come prepared. Wear good hiking shoes/boots. Bring plenty of water\, lunch and snacks. Hiking poles are recommended on this mountain. \nParticipation: Hikes are limited to 20 people per leader. First come\, first serve. Be on time to allow for parking and meeting with your group. No entrance fee. No pets (unless otherwise specified). \nCancellation policy: Rain or winds above 30 mph will cancel. \nParking: Pantoll\, Bootjack\, and East Peak trailheads require an $8 parking fee (exact change or check).
URL:https://www.friendsofmttam.org/event/530-pm-wednesday-fitness-hike-moderate-led-by-sue-karp-2/
CATEGORIES:Hike
END:VEVENT
BEGIN:VEVENT
DTSTART;VALUE=DATE:20190413
DTEND;VALUE=DATE:20190414
DTSTAMP:20260424T001834
CREATED:20190224T221609Z
LAST-MODIFIED:20190225T164827Z
UID:32492-1555113600-1555199999@www.friendsofmttam.org
SUMMARY:9:30 AM Saturday Interpretive Hike - Moderate - Discover the Redwoods Led By Eileen Bai
DESCRIPTION:Every Saturday at 9:30am from Pantoll Trailhead.  \n“Discover the Redwoods ” with Park Interpretive Specialist Eileen Bai.  \nLet’s take some time to study the Coast Redwoods. On this hike we’ll discuss the important role Coast Redwoods have played throughout California’s history. We’ll learn how their biological processes have informed how we value these trees today and what role they will play for future generations.  \nDistance: 3.2 miles\, 712 ft elevation gain\, Moderate.
URL:https://www.friendsofmttam.org/event/930-am-saturday-interpretive-hike-moderate-discover-the-redwoods-led-by-eileen-bai-6/
CATEGORIES:Hike
END:VEVENT
BEGIN:VEVENT
DTSTART;VALUE=DATE:20190413
DTEND;VALUE=DATE:20190414
DTSTAMP:20260424T001834
CREATED:20190225T180304Z
LAST-MODIFIED:20191202T164148Z
UID:32560-1555113600-1555199999@www.friendsofmttam.org
SUMMARY:9:30 AM Saturday Interpretive Hike - Moderate - Discover the Redwoods Led By Eileen Bai
DESCRIPTION:Every Saturday at 9:30am from Pantoll Trailhead.  \n“Discover the Redwoods ” with Park Interpretive Specialist Eileen Bai.  \nLet’s take some time to study the Coast Redwoods. On this hike we’ll discuss the important role Coast Redwoods have played throughout California’s history. We’ll learn how their biological processes have informed how we value these trees today and what role they will play for future generations.  \nDistance: 3.2 miles\, 712 ft elevation gain\, Moderate.
URL:https://www.friendsofmttam.org/event/930-am-saturday-interpretive-hike-moderate-discover-the-redwoods-led-by-eileen-bai-13/
CATEGORIES:Hike
END:VEVENT
BEGIN:VEVENT
DTSTART;TZID=America/Los_Angeles:20190413T193000
DTEND;TZID=America/Los_Angeles:20190413T230000
DTSTAMP:20260424T001834
CREATED:20190326T163156Z
LAST-MODIFIED:20190516T001921Z
UID:34467-1555183800-1555196400@www.friendsofmttam.org
SUMMARY:Astronomy Nights - Exoplanets: The How\, What & Why of Planets Around Other Stars
DESCRIPTION:Exoplanets: The How\, What & Why of Planets Around Other Stars \nDr. Megan Ansdell\, Postdoctoral Fellow\, Center for Integrative Planetary Sciences\, UC Berkeley\nIn the last decade\, the commissioning of new observatories (both on Earth and in space) and the development of new techniques for analyzing large datasets (including the application of deep learning) have allowed dramatic advancements in our understanding of extrasolar planets. This talk will explore how exoplanets are formed\, what techniques allow their discovery\, and why they have been fundamental to understanding our place in the Universe. \nFor directions and more information   http://www.friendsofmttam.org/astronomy.html
URL:https://www.friendsofmttam.org/event/astronomy-nights-black-holes-big-small-singlets-twins/
LOCATION:Mt Theater\, Mt Tam State Park\, Mill Valley\, CA\, 2 Park Ter\, United States
CATEGORIES:Astronomy
END:VEVENT
BEGIN:VEVENT
DTSTART;VALUE=DATE:20190414
DTEND;VALUE=DATE:20190415
DTSTAMP:20260424T001834
CREATED:20190331T003217Z
LAST-MODIFIED:20191202T164148Z
UID:34783-1555200000-1555286399@www.friendsofmttam.org
SUMMARY:9:30 AM Sunday Fitness Hike - Moderately Strenuous - Led By Robert Freinkel
DESCRIPTION:Time: 9:30 AMTrailhead: Rock Spring trailhead. \n“Explore Northern Mt. Tam” fitness hike with docent Robert Freinkel. Explore the trails of North Side Mt Tam.  Search for local wildflowers and native plants.  Participate in trail routing. \nDistance: 6 milesElevation gain: 1\,129 ft.Moderately Strenuous. \nWhat to bring: Come prepared. Wear good hiking shoes/boots. Bring plenty of water\, lunch and snacks. Hiking poles are recommended on this mountain. \nParticipation: Hikes are limited to 20 people per leader. First come\, first serve. Be on time to allow for parking and meeting with your group. \nCancellation policy: Rain or winds above 30 mph will cancel.
URL:https://www.friendsofmttam.org/event/530-pm-sunday-fitness-hike-moderately-strenuous-led-by-robert-freinkel/
CATEGORIES:Hike
END:VEVENT
BEGIN:VEVENT
DTSTART;VALUE=DATE:20190417
DTEND;VALUE=DATE:20190418
DTSTAMP:20260424T001834
CREATED:20190330T180145Z
LAST-MODIFIED:20191202T164148Z
UID:34754-1555459200-1555545599@www.friendsofmttam.org
SUMMARY:5:30 PM Wednesday Interpretive Hike - Moderate - Views From Mt Tam Led By Catherine Orland
DESCRIPTION:Wednesday\, April 3 at 5:30 PM from Bootjack trailhead. \n“Views from Mt. Tam” with docent Catherine Orland. Weather permitting\, we’ll see some gorgeous views of the Bay around Sunset. We can look towards Diablo. We can look out to the Pacific. We can look back towards San Francisco and down the coast. \nDistance: 4.6 milesElevation gain: 1\,024 ft.Moderate. \nWhat to bring: Come prepared. Wear good hiking shoes/boots. Bring plenty of water\, lunch and snacks. Hiking poles are recommended on this mountain. \nParticipation: Hikes are limited to 20 people per leader. First come\, first serve. Be on time to allow for parking and meeting with your group. \nCancellation policy: Rain or winds above 30 mph will cancel.
URL:https://www.friendsofmttam.org/event/530-pm-wednesday-interpretive-hike-moderate-views-from-mt-tam-led-by-catherine-orland-2/
CATEGORIES:Hike
END:VEVENT
BEGIN:VEVENT
DTSTART;VALUE=DATE:20190420
DTEND;VALUE=DATE:20190421
DTSTAMP:20260424T001834
CREATED:20190224T221609Z
LAST-MODIFIED:20190225T164827Z
UID:32493-1555718400-1555804799@www.friendsofmttam.org
SUMMARY:9:30 AM Saturday Interpretive Hike - Moderate - Discover the Redwoods Led By Eileen Bai
DESCRIPTION:Every Saturday at 9:30am from Pantoll Trailhead.  \n“Discover the Redwoods ” with Park Interpretive Specialist Eileen Bai.  \nLet’s take some time to study the Coast Redwoods. On this hike we’ll discuss the important role Coast Redwoods have played throughout California’s history. We’ll learn how their biological processes have informed how we value these trees today and what role they will play for future generations.  \nDistance: 3.2 miles\, 712 ft elevation gain\, Moderate.
URL:https://www.friendsofmttam.org/event/930-am-saturday-interpretive-hike-moderate-discover-the-redwoods-led-by-eileen-bai-7/
CATEGORIES:Hike
END:VEVENT
BEGIN:VEVENT
DTSTART;VALUE=DATE:20190420
DTEND;VALUE=DATE:20190421
DTSTAMP:20260424T001834
CREATED:20190225T180305Z
LAST-MODIFIED:20191202T164148Z
UID:32561-1555718400-1555804799@www.friendsofmttam.org
SUMMARY:9:30 AM Saturday Interpretive Hike - Moderate - Discover the Redwoods Led By Eileen Bai
DESCRIPTION:Every Saturday at 9:30am from Pantoll Trailhead.  \n“Discover the Redwoods ” with Park Interpretive Specialist Eileen Bai.  \nLet’s take some time to study the Coast Redwoods. On this hike we’ll discuss the important role Coast Redwoods have played throughout California’s history. We’ll learn how their biological processes have informed how we value these trees today and what role they will play for future generations.  \nDistance: 3.2 miles\, 712 ft elevation gain\, Moderate.
URL:https://www.friendsofmttam.org/event/930-am-saturday-interpretive-hike-moderate-discover-the-redwoods-led-by-eileen-bai-14/
CATEGORIES:Hike
END:VEVENT
BEGIN:VEVENT
DTSTART;VALUE=DATE:20190420
DTEND;VALUE=DATE:20190421
DTSTAMP:20260424T001834
CREATED:20190409T171833Z
LAST-MODIFIED:20191202T164148Z
UID:35443-1555718400-1555804799@www.friendsofmttam.org
SUMMARY:9:30AM Moderately Strenuous Hike with L. Silverstein
DESCRIPTION:Saturday\, April 20 at 9:30 AM from Pantoll trailhead.\nFitness hike with docent Lizzy Silverstein.\nAmazing views\, exercise\, and beautiful sounds of flowing water and birds.\nDistance (mi): 9. Elevation Gain (ft): 1148. Moderately Strenuous.
URL:https://www.friendsofmttam.org/event/930am-moderately-strenuous-hike-with-l-silverstein/
CATEGORIES:Hike
END:VEVENT
BEGIN:VEVENT
DTSTART;VALUE=DATE:20190421
DTEND;VALUE=DATE:20190422
DTSTAMP:20260424T001834
CREATED:20190330T211744Z
LAST-MODIFIED:20191202T164149Z
UID:34768-1555804800-1555891199@www.friendsofmttam.org
SUMMARY:9:30 AM Sunday Fitness Hike - Strenuous - Led By Rosalind Gottfried
DESCRIPTION:Time: 9:30am Trailhead: Stinson Beach Trailhead \n“Meditations in Nature” hike with docent Rosalind Gottfried. We will hike 7 miles at a moderate pace.  Beautiful woods and ocean views\, a short meditation.  NOTE:  There will be a sign on top of the car\, saying HIKE OPEN TO THE PUBLIC. \nDistance: 6.9 miles. Elevation gain: 1804 ft. Strenuous. \nWhat to bring: Come prepared. Wear good hiking shoes/boots. Bring plenty of water\, lunch and snacks. Hiking poles are recommended on this mountain. \nParticipation: Hikes are limited to 20 people per leader. First come\, first serve. Be on time to allow for parking and meeting with your group. \nCancellation policy: Rain or winds above 30 mph will cancel.
URL:https://www.friendsofmttam.org/event/930-am-sunday-fitness-hike-strenuous-meditations-in-nature-led-by-rosalind-gottfried/
CATEGORIES:Hike
END:VEVENT
BEGIN:VEVENT
DTSTART;VALUE=DATE:20190424
DTEND;VALUE=DATE:20190425
DTSTAMP:20260424T001834
CREATED:20190403T223135Z
LAST-MODIFIED:20191202T164149Z
UID:35054-1556064000-1556150399@www.friendsofmttam.org
SUMMARY:5:30 PM Wednesday Fitness Hike - Moderate - Led By Sue Karp
DESCRIPTION:Wednesday\, April 3 at 5:30 PM from Mtn Home Trailhead. \nFitness Hike with docent Sue Karp. Enjoy an uphill hike through Redwoods on the Troop 80 trail\, built in 1931 by the SF Boy Scouts.  Look for Spring poppies and blue eyed grass as we ascend the Bootjack trail to Bootjack Camp.  Enjoy views on the Matt Davis trail as we return to Mt Home. \nDistance: 5.2 milesElevation gain: 728 ft.Moderate. \nWhat to bring: Come prepared. Wear good hiking shoes/boots. Bring plenty of water\, lunch and snacks. Hiking poles are recommended on this mountain. \nParticipation: Hikes are limited to 20 people per leader. First come\, first serve. Be on time to allow for parking and meeting with your group. \nCancellation policy: Rain or winds above 30 mph will cancel.
URL:https://www.friendsofmttam.org/event/530-pm-wednesday-fitness-hike-moderate-led-by-sue-karp/
CATEGORIES:Hike
END:VEVENT
BEGIN:VEVENT
DTSTART;VALUE=DATE:20190427
DTEND;VALUE=DATE:20190428
DTSTAMP:20260424T001834
CREATED:20190224T221610Z
LAST-MODIFIED:20190225T164827Z
UID:32494-1556323200-1556409599@www.friendsofmttam.org
SUMMARY:9:30 AM Saturday Interpretive Hike - Moderate - Discover the Redwoods Led By Eileen Bai
DESCRIPTION:Every Saturday at 9:30am from Pantoll Trailhead.  \n“Discover the Redwoods ” with Park Interpretive Specialist Eileen Bai.  \nLet’s take some time to study the Coast Redwoods. On this hike we’ll discuss the important role Coast Redwoods have played throughout California’s history. We’ll learn how their biological processes have informed how we value these trees today and what role they will play for future generations.  \nDistance: 3.2 miles\, 712 ft elevation gain\, Moderate.
URL:https://www.friendsofmttam.org/event/930-am-saturday-interpretive-hike-moderate-discover-the-redwoods-led-by-eileen-bai-8/
CATEGORIES:Hike
END:VEVENT
END:VCALENDAR