BEGIN:VCALENDAR
VERSION:2.0
PRODID:-//Friends of Mt Tam - ECPv6.15.18//NONSGML v1.0//EN
CALSCALE:GREGORIAN
METHOD:PUBLISH
X-ORIGINAL-URL:https://www.friendsofmttam.org
X-WR-CALDESC:Events for Friends of Mt Tam
REFRESH-INTERVAL;VALUE=DURATION:PT1H
X-Robots-Tag:noindex
X-PUBLISHED-TTL:PT1H
BEGIN:VTIMEZONE
TZID:America/Los_Angeles
BEGIN:DAYLIGHT
TZOFFSETFROM:-0800
TZOFFSETTO:-0700
TZNAME:PDT
DTSTART:20160313T100000
END:DAYLIGHT
BEGIN:STANDARD
TZOFFSETFROM:-0700
TZOFFSETTO:-0800
TZNAME:PST
DTSTART:20161106T090000
END:STANDARD
BEGIN:DAYLIGHT
TZOFFSETFROM:-0800
TZOFFSETTO:-0700
TZNAME:PDT
DTSTART:20170312T100000
END:DAYLIGHT
BEGIN:STANDARD
TZOFFSETFROM:-0700
TZOFFSETTO:-0800
TZNAME:PST
DTSTART:20171105T090000
END:STANDARD
BEGIN:DAYLIGHT
TZOFFSETFROM:-0800
TZOFFSETTO:-0700
TZNAME:PDT
DTSTART:20180311T100000
END:DAYLIGHT
BEGIN:STANDARD
TZOFFSETFROM:-0700
TZOFFSETTO:-0800
TZNAME:PST
DTSTART:20181104T090000
END:STANDARD
END:VTIMEZONE
BEGIN:VEVENT
DTSTART;VALUE=DATE:20171112
DTEND;VALUE=DATE:20171113
DTSTAMP:20260424T015331
CREATED:20170811T145132Z
LAST-MODIFIED:20190510T191523Z
UID:8484-1510444800-1510531199@www.friendsofmttam.org
SUMMARY:12-4 Gravity Car Barn Open
DESCRIPTION:
URL:https://www.friendsofmttam.org/event/12-4-gravity-car-barn-open-38/
LOCATION:East Peak\, Mt Tamalpais
CATEGORIES:Gravity Car Barn
END:VEVENT
BEGIN:VEVENT
DTSTART;VALUE=DATE:20171112
DTEND;VALUE=DATE:20171113
DTSTAMP:20260424T015331
CREATED:20170818T213550Z
LAST-MODIFIED:20190510T194339Z
UID:9142-1510444800-1510531199@www.friendsofmttam.org
SUMMARY:11-4 Visitor Center: Sarah Martin
DESCRIPTION:
URL:https://www.friendsofmttam.org/event/11-4-visitor-center-sarah-martin-7/
LOCATION:Mt Tamalpais East Peak\, Mt. Tam Gravity Car Barn\, Mill Valley\, 94941\, United States
CATEGORIES:Visitor Center
END:VEVENT
BEGIN:VEVENT
DTSTART;TZID=America/Los_Angeles:20171112T093000
DTEND;TZID=America/Los_Angeles:20171112T113000
DTSTAMP:20260424T015331
CREATED:20171005T051553Z
LAST-MODIFIED:20191202T164113Z
UID:9324-1510479000-1510486200@www.friendsofmttam.org
SUMMARY:Guided Walk led by Rosanna Petralia: "The Redwood Creek Wat"
DESCRIPTION:Topic: Creatures of the Redwood Creek Watershed\nLength: less than 2 hours\, 2 miles round trip\, easy walk.\nThis will be a slow-paced\, interpretive walk\, focused on nature stories of the creatures inhabiting the redwood creek watershed. Families and kids are welcome!\nFrom the Frank Valley Horse Camp we will get to Muir Beach following the Redwood Creek Trail and then return the same way.\nParking is limited in that area because of the proximity with Muir Woods. Arrive on time to be able to park inside the gate of the Horse Camp Area. Cell phones might be out of reach. \nMax. 20 participants.\nRSVP to secure your spot: rosanna.petralia@parks.ca.gov \nRSVP:\nMaria\nSantiago\nAlexandra\nCindy
URL:https://www.friendsofmttam.org/event/930am-hike-led-by-rosanna-petralia-the-redwood-creek-wat/
LOCATION:Frank Valley #14\, Mt Tamalpais
CATEGORIES:Hike
END:VEVENT
BEGIN:VEVENT
DTSTART;TZID=America/Los_Angeles:20171113T183000
DTEND;TZID=America/Los_Angeles:20171113T203000
DTSTAMP:20260424T015331
CREATED:20170812T044526Z
LAST-MODIFIED:20190516T003829Z
UID:8699-1510597800-1510605000@www.friendsofmttam.org
SUMMARY:FMT Board Meeting
DESCRIPTION:Community Room
URL:https://www.friendsofmttam.org/event/fmt-board-meeting-4/
LOCATION:Northgate\, 5800 Northgate Parking Lot\, San Rafael\, CA 94903\, USA\, 501 Northgate Dr\, United States
CATEGORIES:Other
END:VEVENT
BEGIN:VEVENT
DTSTART;VALUE=DATE:20171118
DTEND;VALUE=DATE:20171119
DTSTAMP:20260424T015331
CREATED:20170811T145132Z
LAST-MODIFIED:20190510T191523Z
UID:8485-1510963200-1511049599@www.friendsofmttam.org
SUMMARY:12-4 Gravity Car Barn Open
DESCRIPTION:
URL:https://www.friendsofmttam.org/event/12-4-gravity-car-barn-open-39/
LOCATION:East Peak\, Mt Tamalpais
CATEGORIES:Gravity Car Barn
END:VEVENT
BEGIN:VEVENT
DTSTART;VALUE=DATE:20171118
DTEND;VALUE=DATE:20171119
DTSTAMP:20260424T015331
CREATED:20171005T051554Z
LAST-MODIFIED:20191202T164113Z
UID:9326-1510963200-1511049599@www.friendsofmttam.org
SUMMARY:9:30am Hike led by Pat Ernsberger: "Historic Dairies"
DESCRIPTION:3-4 hours with a break for a light lunch. See Hiking / Saturday
URL:https://www.friendsofmttam.org/event/930am-hike-led-by-pat-ernsberger-historic-dairies/
LOCATION:Dias Ridge #12\, Mt Tamalpais
CATEGORIES:Hike
END:VEVENT
BEGIN:VEVENT
DTSTART;VALUE=DATE:20171118
DTEND;VALUE=DATE:20171119
DTSTAMP:20260424T015331
CREATED:20171031T050713Z
LAST-MODIFIED:20190510T194339Z
UID:9501-1510963200-1511049599@www.friendsofmttam.org
SUMMARY:Visitor Center - Cate Zovod
DESCRIPTION:
URL:https://www.friendsofmttam.org/event/visitor-center-cate-zovod/
LOCATION:Mt Tamalpais East Peak\, Mt. Tam Gravity Car Barn\, Mill Valley\, 94941\, United States
CATEGORIES:Visitor Center
END:VEVENT
BEGIN:VEVENT
DTSTART;VALUE=DATE:20171119
DTEND;VALUE=DATE:20171120
DTSTAMP:20260424T015331
CREATED:20170811T145133Z
LAST-MODIFIED:20190510T191523Z
UID:8486-1511049600-1511135999@www.friendsofmttam.org
SUMMARY:12-4 Gravity Car Barn Open
DESCRIPTION:
URL:https://www.friendsofmttam.org/event/12-4-gravity-car-barn-open-40/
LOCATION:East Peak\, Mt Tamalpais
CATEGORIES:Gravity Car Barn
END:VEVENT
BEGIN:VEVENT
DTSTART;VALUE=DATE:20171119
DTEND;VALUE=DATE:20171120
DTSTAMP:20260424T015331
CREATED:20170813T215553Z
LAST-MODIFIED:20190510T194339Z
UID:9004-1511049600-1511135999@www.friendsofmttam.org
SUMMARY:11-4 Visitor Center - Tom Brookshire
DESCRIPTION:
URL:https://www.friendsofmttam.org/event/11-4-visitor-center-tom-brookshire-7/
LOCATION:Mt Tam\, East Peak Parking Lot\, East Ridgecrest Blvd.\, Mill Valley\, CA 94941\, USA\, 201 Meda Ln\, United States
CATEGORIES:Visitor Center
END:VEVENT
BEGIN:VEVENT
DTSTART;VALUE=DATE:20171119
DTEND;VALUE=DATE:20171120
DTSTAMP:20260424T015331
CREATED:20171005T051554Z
LAST-MODIFIED:20191202T164114Z
UID:9327-1511049600-1511135999@www.friendsofmttam.org
SUMMARY:9:30am Hike led by Franklin Young: "Green Gulch"
DESCRIPTION:3-4 hours with a break for a light lunch. See Hiking / Sunday
URL:https://www.friendsofmttam.org/event/930am-hike-led-by-franklin-young-green-gulch-2/
LOCATION:Dias Ridge #12\, Mt Tamalpais
CATEGORIES:Hike
END:VEVENT
BEGIN:VEVENT
DTSTART;VALUE=DATE:20171125
DTEND;VALUE=DATE:20171126
DTSTAMP:20260424T015331
CREATED:20170811T145133Z
LAST-MODIFIED:20190510T191523Z
UID:8487-1511568000-1511654399@www.friendsofmttam.org
SUMMARY:12-4 Gravity Car Barn Open
DESCRIPTION:
URL:https://www.friendsofmttam.org/event/12-4-gravity-car-barn-open-41/
LOCATION:East Peak\, Mt Tamalpais
CATEGORIES:Gravity Car Barn
END:VEVENT
BEGIN:VEVENT
DTSTART;VALUE=DATE:20171125
DTEND;VALUE=DATE:20171126
DTSTAMP:20260424T015331
CREATED:20171005T051554Z
LAST-MODIFIED:20191202T164114Z
UID:9328-1511568000-1511654399@www.friendsofmttam.org
SUMMARY:9:30am Hike led by Joan Lamphier: "Birds of Mt Tam"
DESCRIPTION:3-4 hours with a break for a light lunch. See Hiking / Saturday
URL:https://www.friendsofmttam.org/event/930am-hike-led-by-joan-lamphier-birds-of-mt-tam/
LOCATION:Pantoll #9\, Mt Tamalpais
CATEGORIES:Hike
END:VEVENT
BEGIN:VEVENT
DTSTART;VALUE=DATE:20171125
DTEND;VALUE=DATE:20171126
DTSTAMP:20260424T015331
CREATED:20171025T044219Z
LAST-MODIFIED:20190510T194339Z
UID:9473-1511568000-1511654399@www.friendsofmttam.org
SUMMARY:VC-ALBERT WALD
DESCRIPTION:
URL:https://www.friendsofmttam.org/event/vc-albert-wald-8/
CATEGORIES:Visitor Center
END:VEVENT
BEGIN:VEVENT
DTSTART;VALUE=DATE:20171126
DTEND;VALUE=DATE:20171127
DTSTAMP:20260424T015331
CREATED:20170811T145133Z
LAST-MODIFIED:20190510T191524Z
UID:8488-1511654400-1511740799@www.friendsofmttam.org
SUMMARY:12-4 Gravity Car Barn Open
DESCRIPTION:
URL:https://www.friendsofmttam.org/event/12-4-gravity-car-barn-open-42/
LOCATION:East Peak\, Mt Tamalpais
CATEGORIES:Gravity Car Barn
END:VEVENT
BEGIN:VEVENT
DTSTART;VALUE=DATE:20171202
DTEND;VALUE=DATE:20171203
DTSTAMP:20260424T015331
CREATED:20170811T145152Z
LAST-MODIFIED:20190510T191524Z
UID:8489-1512172800-1512259199@www.friendsofmttam.org
SUMMARY:12-4 Gravity Car Barn Open
DESCRIPTION:
URL:https://www.friendsofmttam.org/event/12-4-gravity-car-barn-open-43/
LOCATION:East Peak\, Mt Tamalpais
CATEGORIES:Gravity Car Barn
END:VEVENT
BEGIN:VEVENT
DTSTART;VALUE=DATE:20171202
DTEND;VALUE=DATE:20171203
DTSTAMP:20260424T015331
CREATED:20170913T043932Z
LAST-MODIFIED:20171023T213737Z
UID:9232-1512172800-1512259199@www.friendsofmttam.org
SUMMARY:VC-ALBERT WALD
DESCRIPTION:
URL:https://www.friendsofmttam.org/event/vc-albert-wald-7/
CATEGORIES:Visitor Center
END:VEVENT
BEGIN:VEVENT
DTSTART;VALUE=DATE:20171202
DTEND;VALUE=DATE:20171203
DTSTAMP:20260424T015331
CREATED:20171005T051555Z
LAST-MODIFIED:20191202T164114Z
UID:9330-1512172800-1512259199@www.friendsofmttam.org
SUMMARY:9:30am Hike led by Karen Ulring: "Tam History"
DESCRIPTION:3-4 hours with a break for a light lunch. See Hiking / Saturday
URL:https://www.friendsofmttam.org/event/930am-hike-led-by-karen-ulring-tam-history-2/
LOCATION:Mt Home #11\, Mt Tamalpais
CATEGORIES:Hike
END:VEVENT
BEGIN:VEVENT
DTSTART;VALUE=DATE:20171203
DTEND;VALUE=DATE:20171204
DTSTAMP:20260424T015331
CREATED:20170811T145152Z
LAST-MODIFIED:20190510T191524Z
UID:8490-1512259200-1512345599@www.friendsofmttam.org
SUMMARY:12-4 Gravity Car Barn Open
DESCRIPTION:
URL:https://www.friendsofmttam.org/event/12-4-gravity-car-barn-open-44/
LOCATION:East Peak\, Mt Tamalpais
CATEGORIES:Gravity Car Barn
END:VEVENT
BEGIN:VEVENT
DTSTART;VALUE=DATE:20171203
DTEND;VALUE=DATE:20171204
DTSTAMP:20260424T015331
CREATED:20170813T215553Z
LAST-MODIFIED:20190510T194339Z
UID:9005-1512259200-1512345599@www.friendsofmttam.org
SUMMARY:11-4 Visitor Center Shirley Beers/Lillian Lessler
DESCRIPTION:
URL:https://www.friendsofmttam.org/event/11-4-visitor-center-shirley-beerslillian-lessler-8/
CATEGORIES:Visitor Center
END:VEVENT
BEGIN:VEVENT
DTSTART;VALUE=DATE:20171203
DTEND;VALUE=DATE:20171204
DTSTAMP:20260424T015331
CREATED:20171005T051555Z
LAST-MODIFIED:20191202T164115Z
UID:9331-1512259200-1512345599@www.friendsofmttam.org
SUMMARY:9:30am Hike led by Robert Freinkel: "Winter on Tam"
DESCRIPTION:3-4 hours with a break for a light lunch. See Hiking / Sunday
URL:https://www.friendsofmttam.org/event/930am-hike-led-by-robert-freinkel-winter-on-tam/
LOCATION:Rock Spring #4\, Mt Tamalpais
CATEGORIES:Hike
END:VEVENT
BEGIN:VEVENT
DTSTART;VALUE=DATE:20171203
DTEND;VALUE=DATE:20171204
DTSTAMP:20260424T015331
CREATED:20180301T212322Z
LAST-MODIFIED:20190510T194339Z
UID:11250-1512259200-1512345599@www.friendsofmttam.org
SUMMARY:11-4 VC: Shirley Beers/Lillian Lessler
DESCRIPTION:
URL:https://www.friendsofmttam.org/event/11-4-vc-shirley-beers-lillian-lessler-8/
CATEGORIES:Visitor Center
END:VEVENT
BEGIN:VEVENT
DTSTART;VALUE=DATE:20171209
DTEND;VALUE=DATE:20171210
DTSTAMP:20260424T015331
CREATED:20170811T145152Z
LAST-MODIFIED:20190510T191524Z
UID:8491-1512777600-1512863999@www.friendsofmttam.org
SUMMARY:12-4 Gravity Car Barn Open
DESCRIPTION:
URL:https://www.friendsofmttam.org/event/12-4-gravity-car-barn-open-45/
LOCATION:East Peak\, Mt Tamalpais
CATEGORIES:Gravity Car Barn
END:VEVENT
BEGIN:VEVENT
DTSTART;VALUE=DATE:20171209
DTEND;VALUE=DATE:20171210
DTSTAMP:20260424T015331
CREATED:20171005T044803Z
LAST-MODIFIED:20190516T003829Z
UID:9309-1512777600-1512863999@www.friendsofmttam.org
SUMMARY:FMT Holiday Party - 5-9pm
DESCRIPTION:FMT Annual Holiday Party – Corte Madera Community Center
URL:https://www.friendsofmttam.org/event/fmt-holiday-party-5-9pm/
LOCATION:Corte Madera Community Center\, 498 Tamalpais Dr\, Corte Madera\, CA 94925\, USA\, 28 Tamalpais Dr\, United States
CATEGORIES:Other
END:VEVENT
BEGIN:VEVENT
DTSTART;VALUE=DATE:20171209
DTEND;VALUE=DATE:20171210
DTSTAMP:20260424T015331
CREATED:20171005T052942Z
LAST-MODIFIED:20191202T164115Z
UID:9332-1512777600-1512863999@www.friendsofmttam.org
SUMMARY:9:30am Hike led by Lizzy Silverstein: "Plants of mt Tam"
DESCRIPTION:3-4 hours with a break for a light lunch. See Hiking / Saturday
URL:https://www.friendsofmttam.org/event/930am-hike-led-by-lizzy-silverstein-plants-of-mt-tam-2/
LOCATION:Rock Spring #4\, Mt Tamalpais
CATEGORIES:Hike
END:VEVENT
BEGIN:VEVENT
DTSTART;VALUE=DATE:20171210
DTEND;VALUE=DATE:20171211
DTSTAMP:20260424T015331
CREATED:20170811T145153Z
LAST-MODIFIED:20190510T191524Z
UID:8492-1512864000-1512950399@www.friendsofmttam.org
SUMMARY:12-4 Gravity Car Barn Open
DESCRIPTION:
URL:https://www.friendsofmttam.org/event/12-4-gravity-car-barn-open-46/
LOCATION:East Peak\, Mt Tamalpais
CATEGORIES:Gravity Car Barn
END:VEVENT
BEGIN:VEVENT
DTSTART;VALUE=DATE:20171210
DTEND;VALUE=DATE:20171211
DTSTAMP:20260424T015331
CREATED:20171005T052943Z
LAST-MODIFIED:20191202T164115Z
UID:9334-1512864000-1512950399@www.friendsofmttam.org
SUMMARY:9:30am Hike led by Dan Reilly\, topic to be announced.
DESCRIPTION:3-4 hours with a break for a light lunch. See Hiking / Sunday
URL:https://www.friendsofmttam.org/event/930am-hike-led-by-dan-reilly-docent-led-hike/
LOCATION:Bootjack #10\, Mt Tamalpais
CATEGORIES:Hike
END:VEVENT
BEGIN:VEVENT
DTSTART;VALUE=DATE:20171210
DTEND;VALUE=DATE:20171211
DTSTAMP:20260424T015331
CREATED:20171007T050009Z
LAST-MODIFIED:20190510T194339Z
UID:9369-1512864000-1512950399@www.friendsofmttam.org
SUMMARY:11-4 Visitor Center - Kit Murphy & Debra Brody
DESCRIPTION:
URL:https://www.friendsofmttam.org/event/vc-kit-murphy-debra-brody/
CATEGORIES:Visitor Center
END:VEVENT
BEGIN:VEVENT
DTSTART;VALUE=DATE:20171216
DTEND;VALUE=DATE:20171217
DTSTAMP:20260424T015331
CREATED:20170811T145153Z
LAST-MODIFIED:20190510T191524Z
UID:8493-1513382400-1513468799@www.friendsofmttam.org
SUMMARY:Gravity Car Barn Closed - Redflag Warning
DESCRIPTION:
URL:https://www.friendsofmttam.org/event/12-4-gravity-car-barn-open-47/
LOCATION:East Peak\, Mt Tamalpais
CATEGORIES:Gravity Car Barn
END:VEVENT
BEGIN:VEVENT
DTSTART;VALUE=DATE:20171216
DTEND;VALUE=DATE:20171217
DTSTAMP:20260424T015331
CREATED:20171005T052943Z
LAST-MODIFIED:20191202T164115Z
UID:9336-1513382400-1513468799@www.friendsofmttam.org
SUMMARY:9:30am Hike led by Brendan Hickey: "Sexy Beast: the Banana Slug"
DESCRIPTION:3-4 hours with a break for a light lunch. See Hiking / Saturday
URL:https://www.friendsofmttam.org/event/930am-hike-led-by-brendan-hickey-sexy-beast-the-banan/
LOCATION:Pantoll Campground Parking\, 6456 Panoramic Hwy\, Mill Valley\, CA 94941\, USA\, 2 Panoramic Hwy\, United States
CATEGORIES:Hike
END:VEVENT
BEGIN:VEVENT
DTSTART;VALUE=DATE:20171216
DTEND;VALUE=DATE:20171217
DTSTAMP:20260424T015331
CREATED:20171031T050716Z
LAST-MODIFIED:20190510T194339Z
UID:9502-1513382400-1513468799@www.friendsofmttam.org
SUMMARY:VC - Closed - Redflag Warning
DESCRIPTION:
URL:https://www.friendsofmttam.org/event/vc-cate-zovod/
LOCATION:Mt Tamalpais East Peak\, Mt. Tam Gravity Car Barn\, Mill Valley\, 94941\, United States
CATEGORIES:Visitor Center
END:VEVENT
END:VCALENDAR