BEGIN:VCALENDAR
VERSION:2.0
PRODID:-//Friends of Mt Tam - ECPv6.15.18//NONSGML v1.0//EN
CALSCALE:GREGORIAN
METHOD:PUBLISH
X-WR-CALNAME:Friends of Mt Tam
X-ORIGINAL-URL:https://www.friendsofmttam.org
X-WR-CALDESC:Events for Friends of Mt Tam
REFRESH-INTERVAL;VALUE=DURATION:PT1H
X-Robots-Tag:noindex
X-PUBLISHED-TTL:PT1H
BEGIN:VTIMEZONE
TZID:America/Los_Angeles
BEGIN:DAYLIGHT
TZOFFSETFROM:-0800
TZOFFSETTO:-0700
TZNAME:PDT
DTSTART:20160313T100000
END:DAYLIGHT
BEGIN:STANDARD
TZOFFSETFROM:-0700
TZOFFSETTO:-0800
TZNAME:PST
DTSTART:20161106T090000
END:STANDARD
BEGIN:DAYLIGHT
TZOFFSETFROM:-0800
TZOFFSETTO:-0700
TZNAME:PDT
DTSTART:20170312T100000
END:DAYLIGHT
BEGIN:STANDARD
TZOFFSETFROM:-0700
TZOFFSETTO:-0800
TZNAME:PST
DTSTART:20171105T090000
END:STANDARD
BEGIN:DAYLIGHT
TZOFFSETFROM:-0800
TZOFFSETTO:-0700
TZNAME:PDT
DTSTART:20180311T100000
END:DAYLIGHT
BEGIN:STANDARD
TZOFFSETFROM:-0700
TZOFFSETTO:-0800
TZNAME:PST
DTSTART:20181104T090000
END:STANDARD
END:VTIMEZONE
BEGIN:VEVENT
DTSTART;TZID=America/Los_Angeles:20170729T203000
DTEND;TZID=America/Los_Angeles:20170729T230000
DTSTAMP:20260424T055334
CREATED:20170814T044541Z
LAST-MODIFIED:20190516T001918Z
UID:9022-1501360200-1501369200@www.friendsofmttam.org
SUMMARY:Astronomy Night - Jay GaBany
DESCRIPTION:Jay GaBany\, President & CEO\, Advanced Imaging Conference\n*** Astrophotography for Everyone ***\nAdvances in recent decades have allowed amateur astronomers to produce deep space and planetary pictures that rival those taken by professional observatories. This presentation will provide an overview of off-the-shelf instruments and methods anyone\, with perseverance and patience\, can use to take amazing astronomical images. \nStar Viewing after the program with the San Francisco Amature Astronomers
URL:https://www.friendsofmttam.org/event/astronomy-night-jay-gabany/
LOCATION:Cushing Memorial Amphitheater\, Mill Valley\, CA 94941\, USA\, 2 Cushing Dr\, United States
CATEGORIES:Astronomy
END:VEVENT
BEGIN:VEVENT
DTSTART;VALUE=DATE:20170729
DTEND;VALUE=DATE:20170730
DTSTAMP:20260424T055334
CREATED:20170812T051944Z
LAST-MODIFIED:20191202T164106Z
UID:8714-1501286400-1501372799@www.friendsofmttam.org
SUMMARY:9:30am Hike led by Franklin Young: "West Peak"
DESCRIPTION:3-4 hours with a break for a light lunch. See Hiking / Saturday
URL:https://www.friendsofmttam.org/event/930am-hike-led-by-franklin-young-west-peak/
LOCATION:Rock Spring\, Mt Tamalpais
CATEGORIES:Hike
END:VEVENT
BEGIN:VEVENT
DTSTART;VALUE=DATE:20170729
DTEND;VALUE=DATE:20170730
DTSTAMP:20260424T055334
CREATED:20170811T144601Z
LAST-MODIFIED:20170811T144601Z
UID:8453-1501286400-1501372799@www.friendsofmttam.org
SUMMARY:12-4 Gravity Car Barn Open
DESCRIPTION:
URL:https://www.friendsofmttam.org/event/12-4-gravity-car-barn-open-7/
LOCATION:East Peak\, Mt Tamalpais
CATEGORIES:Gravity Car Barn
END:VEVENT
BEGIN:VEVENT
DTSTART;VALUE=DATE:20170729
DTEND;VALUE=DATE:20170730
DTSTAMP:20260424T055334
CREATED:20170811T144600Z
LAST-MODIFIED:20190510T191519Z
UID:8451-1501286400-1501372799@www.friendsofmttam.org
SUMMARY:12-4 Gravity Car Barn Open
DESCRIPTION:
URL:https://www.friendsofmttam.org/event/12-4-gravity-car-barn-open-5/
LOCATION:East Peak\, Mt Tamalpais
CATEGORIES:Gravity Car Barn
END:VEVENT
BEGIN:VEVENT
DTSTART;VALUE=DATE:20170726
DTEND;VALUE=DATE:20170727
DTSTAMP:20260424T055334
CREATED:20170812T051944Z
LAST-MODIFIED:20191202T164106Z
UID:8713-1501027200-1501113599@www.friendsofmttam.org
SUMMARY:Evening hike led by Karen Sapper: "Mt Tam Flora and Faun"
DESCRIPTION:Wednesday evening hikes last 2 to 3 hours with a 15 minute break.
URL:https://www.friendsofmttam.org/event/evening-hike-led-by-karen-sapper-mt-tam-flora-and-faun/
LOCATION:Rock Spring\, Mt Tamalpais
CATEGORIES:Hike
END:VEVENT
BEGIN:VEVENT
DTSTART;VALUE=DATE:20170723
DTEND;VALUE=DATE:20170724
DTSTAMP:20260424T055334
CREATED:20170813T215009Z
LAST-MODIFIED:20190510T194337Z
UID:8982-1500768000-1500854399@www.friendsofmttam.org
SUMMARY:VC: Cate Zovod 11-4
DESCRIPTION:
URL:https://www.friendsofmttam.org/event/vc-cate-zovod-11-4/
LOCATION:East Peak Mt. Tam
CATEGORIES:Visitor Center
END:VEVENT
BEGIN:VEVENT
DTSTART;VALUE=DATE:20170723
DTEND;VALUE=DATE:20170724
DTSTAMP:20260424T055334
CREATED:20170812T051944Z
LAST-MODIFIED:20191202T164106Z
UID:8712-1500768000-1500854399@www.friendsofmttam.org
SUMMARY:9:30am Hike led by Glenn Carter: "Mt Tam History"
DESCRIPTION:3-4 hours with a break for a light lunch. See Hiking / Sunday
URL:https://www.friendsofmttam.org/event/930am-hike-led-by-glenn-carter-mt-tam-history-3/
LOCATION:Whitegate\, Mt Tamalpais
CATEGORIES:Hike
END:VEVENT
BEGIN:VEVENT
DTSTART;VALUE=DATE:20170723
DTEND;VALUE=DATE:20170724
DTSTAMP:20260424T055334
CREATED:20170811T144600Z
LAST-MODIFIED:20170811T144600Z
UID:8452-1500768000-1500854399@www.friendsofmttam.org
SUMMARY:12-4 Gravity Car Barn Open
DESCRIPTION:
URL:https://www.friendsofmttam.org/event/12-4-gravity-car-barn-open-6/
LOCATION:East Peak\, Mt Tamalpais
CATEGORIES:Gravity Car Barn
END:VEVENT
BEGIN:VEVENT
DTSTART;VALUE=DATE:20170723
DTEND;VALUE=DATE:20170724
DTSTAMP:20260424T055334
CREATED:20170811T144559Z
LAST-MODIFIED:20190510T191519Z
UID:8447-1500768000-1500854399@www.friendsofmttam.org
SUMMARY:12-4 Gravity Car Barn Open
DESCRIPTION:
URL:https://www.friendsofmttam.org/event/12-4-gravity-car-barn-open-4/
LOCATION:East Peak\, Mt Tamalpais
CATEGORIES:Gravity Car Barn
END:VEVENT
BEGIN:VEVENT
DTSTART;VALUE=DATE:20170722
DTEND;VALUE=DATE:20170723
DTSTAMP:20260424T055334
CREATED:20170813T215009Z
LAST-MODIFIED:20190510T194337Z
UID:8981-1500681600-1500767999@www.friendsofmttam.org
SUMMARY:11-4 Visitor Center ALBERT WALD / Chris-Tara Castleman
DESCRIPTION:
URL:https://www.friendsofmttam.org/event/11-4-visitor-center-albert-wald-chris-tara-castleman/
CATEGORIES:Visitor Center
END:VEVENT
BEGIN:VEVENT
DTSTART;VALUE=DATE:20170722
DTEND;VALUE=DATE:20170723
DTSTAMP:20260424T055334
CREATED:20170811T144559Z
LAST-MODIFIED:20190510T191519Z
UID:8446-1500681600-1500767999@www.friendsofmttam.org
SUMMARY:12-4 Gravity Car Barn Open
DESCRIPTION:
URL:https://www.friendsofmttam.org/event/12-4-gravity-car-barn-open-3/
LOCATION:East Peak\, Mt Tamalpais
CATEGORIES:Gravity Car Barn
END:VEVENT
BEGIN:VEVENT
DTSTART;VALUE=DATE:20170719
DTEND;VALUE=DATE:20170720
DTSTAMP:20260424T055334
CREATED:20170812T051944Z
LAST-MODIFIED:20191202T164106Z
UID:8711-1500422400-1500508799@www.friendsofmttam.org
SUMMARY:Evening hike led by Glenn Carter: "Mt Tam History"
DESCRIPTION:Wednesday evening hikes last 2 to 3 hours with a 15 minute break.
URL:https://www.friendsofmttam.org/event/evening-hike-led-by-glenn-carter-mt-tam-history/
LOCATION:Pantoll\, Mt Tamalpais
CATEGORIES:Hike
END:VEVENT
BEGIN:VEVENT
DTSTART;VALUE=DATE:20170716
DTEND;VALUE=DATE:20170717
DTSTAMP:20260424T055334
CREATED:20170813T215008Z
LAST-MODIFIED:20190510T194336Z
UID:8980-1500163200-1500249599@www.friendsofmttam.org
SUMMARY:VC Closed - Red Flag Warning
DESCRIPTION:
URL:https://www.friendsofmttam.org/event/vc-closed-red-flag-warning/
CATEGORIES:Visitor Center
END:VEVENT
BEGIN:VEVENT
DTSTART;VALUE=DATE:20170716
DTEND;VALUE=DATE:20170717
DTSTAMP:20260424T055334
CREATED:20170812T051943Z
LAST-MODIFIED:20191202T164105Z
UID:8710-1500163200-1500249599@www.friendsofmttam.org
SUMMARY:9:30am Hike led by Brendan Hickey: "Grasses of Mt Tam"
DESCRIPTION:3-4 hours with a break for a light lunch. See Hiking / Sunday
URL:https://www.friendsofmttam.org/event/930am-hike-led-by-brendan-hickey-grasses-of-mt-tam/
LOCATION:Pantoll Campground Parking\, 6456 Panoramic Hwy\, Mill Valley\, CA 94941\, USA\, 2 Panoramic Hwy\, United States
CATEGORIES:Hike
END:VEVENT
BEGIN:VEVENT
DTSTART;VALUE=DATE:20170716
DTEND;VALUE=DATE:20170717
DTSTAMP:20260424T055334
CREATED:20170811T144559Z
LAST-MODIFIED:20190510T191519Z
UID:8445-1500163200-1500249599@www.friendsofmttam.org
SUMMARY:12-4 Gravity Car Barn Open
DESCRIPTION:
URL:https://www.friendsofmttam.org/event/12-4-gravity-car-barn-open-2/
LOCATION:East Peak\, Mt Tamalpais
CATEGORIES:Gravity Car Barn
END:VEVENT
BEGIN:VEVENT
DTSTART;VALUE=DATE:20170715
DTEND;VALUE=DATE:20170716
DTSTAMP:20260424T055334
CREATED:20170813T215008Z
LAST-MODIFIED:20190510T194336Z
UID:8979-1500076800-1500163199@www.friendsofmttam.org
SUMMARY:11- 4 Visitor Center: Sarah Martin
DESCRIPTION:
URL:https://www.friendsofmttam.org/event/11-4-visitor-center-sarah-martin-2/
LOCATION:Mt Tamalpais East Peak\, Mt. Tam Gravity Car Barn\, Mill Valley\, 94941\, United States
CATEGORIES:Visitor Center
END:VEVENT
BEGIN:VEVENT
DTSTART;VALUE=DATE:20170712
DTEND;VALUE=DATE:20170713
DTSTAMP:20260424T055334
CREATED:20170812T051541Z
LAST-MODIFIED:20191202T164105Z
UID:8709-1499817600-1499903999@www.friendsofmttam.org
SUMMARY:Evening hike led by Sue Karp: "Mt Tam at a Glance"
DESCRIPTION:Wednesday evening hikes last 2 to 3 hours with a 15 minute break.
URL:https://www.friendsofmttam.org/event/evening-hike-led-by-sue-karp-mt-tam-at-a-glance/
LOCATION:BootJack\, Mt Tamalpais
CATEGORIES:Hike
END:VEVENT
BEGIN:VEVENT
DTSTART;TZID=America/Los_Angeles:20170710T183000
DTEND;TZID=America/Los_Angeles:20170710T203000
DTSTAMP:20260424T055334
CREATED:20170812T044512Z
LAST-MODIFIED:20190516T003828Z
UID:8684-1499711400-1499718600@www.friendsofmttam.org
SUMMARY:FMT Board Meeting
DESCRIPTION:Community Meeting Room
URL:https://www.friendsofmttam.org/event/fmt-board-meeting/
LOCATION:Northgate\, 5800 Northgate Parking Lot\, San Rafael\, CA 94903\, USA\, 501 Northgate Dr\, United States
CATEGORIES:Other
END:VEVENT
BEGIN:VEVENT
DTSTART;VALUE=DATE:20170709
DTEND;VALUE=DATE:20170710
DTSTAMP:20260424T055334
CREATED:20170812T051541Z
LAST-MODIFIED:20191202T164105Z
UID:8708-1499558400-1499644799@www.friendsofmttam.org
SUMMARY:9:30am Hike led by Aylara Odekova: "Coho Salmon"
DESCRIPTION:3-4 hours with a break for a light lunch. See Hiking / Sunday
URL:https://www.friendsofmttam.org/event/930am-hike-led-by-aylara-odekova-coho-salmon/
LOCATION:BootJack\, Mt Tamalpais
CATEGORIES:Hike
END:VEVENT
BEGIN:VEVENT
DTSTART;VALUE=DATE:20170708
DTEND;VALUE=DATE:20170709
DTSTAMP:20260424T055334
CREATED:20170813T214503Z
LAST-MODIFIED:20190510T194336Z
UID:8974-1499472000-1499558399@www.friendsofmttam.org
SUMMARY:11-4 Visitor Center - Tom Brookshire / Chris-Tara Castleman
DESCRIPTION:
URL:https://www.friendsofmttam.org/event/11-4-visitor-center-tom-brookshire-chris-tara-castleman/
LOCATION:Mt Tam\, East Peak Parking Lot\, East Ridgecrest Blvd.\, Mill Valley\, CA 94941\, USA\, 201 Meda Ln\, United States
CATEGORIES:Visitor Center
END:VEVENT
BEGIN:VEVENT
DTSTART;VALUE=DATE:20170708
DTEND;VALUE=DATE:20170709
DTSTAMP:20260424T055334
CREATED:20170812T051541Z
LAST-MODIFIED:20191202T164105Z
UID:8707-1499472000-1499558399@www.friendsofmttam.org
SUMMARY:Moonlight hike led by Park Interpreter Rosanna: "Buck Moon"
DESCRIPTION:Starts 15 minutes after sunset
URL:https://www.friendsofmttam.org/event/moonlight-hike-led-by-park-interpreter-rosanna-buck-moon/
LOCATION:Pantoll Parking Lot\, Mt Tamalpais
CATEGORIES:Hike
END:VEVENT
BEGIN:VEVENT
DTSTART;VALUE=DATE:20170704
DTEND;VALUE=DATE:20170705
DTSTAMP:20260424T055334
CREATED:20170813T214503Z
LAST-MODIFIED:20190510T194336Z
UID:8973-1499126400-1499212799@www.friendsofmttam.org
SUMMARY:11-4 Visitor Center - Sarah Martin
DESCRIPTION:
URL:https://www.friendsofmttam.org/event/11-4-visitor-center-sarah-martin/
CATEGORIES:Visitor Center
END:VEVENT
BEGIN:VEVENT
DTSTART;VALUE=DATE:20170704
DTEND;VALUE=DATE:20170705
DTSTAMP:20260424T055334
CREATED:20170811T144558Z
LAST-MODIFIED:20190510T191519Z
UID:8444-1499126400-1499212799@www.friendsofmttam.org
SUMMARY:12-4 Gravity Car Barn Open
DESCRIPTION:
URL:https://www.friendsofmttam.org/event/12-4-gravity-car-barn-open/
CATEGORIES:Gravity Car Barn
END:VEVENT
BEGIN:VEVENT
DTSTART;VALUE=DATE:20170702
DTEND;VALUE=DATE:20170703
DTSTAMP:20260424T055334
CREATED:20180301T212039Z
LAST-MODIFIED:20190510T194336Z
UID:11245-1498953600-1499039999@www.friendsofmttam.org
SUMMARY:11-4 VC: Shirley Beers/Lillian Lessler
DESCRIPTION:
URL:https://www.friendsofmttam.org/event/11-4-vc-shirley-beers-lillian-lessler-3/
CATEGORIES:Visitor Center
END:VEVENT
BEGIN:VEVENT
DTSTART;VALUE=DATE:20170702
DTEND;VALUE=DATE:20170703
DTSTAMP:20260424T055334
CREATED:20170813T214503Z
LAST-MODIFIED:20190510T194336Z
UID:8972-1498953600-1499039999@www.friendsofmttam.org
SUMMARY:11-4 Visitor Center Shirley Beers/Lillian Lessler
DESCRIPTION:
URL:https://www.friendsofmttam.org/event/11-4-visitor-center-shirley-beerslillian-lessler-3/
CATEGORIES:Visitor Center
END:VEVENT
BEGIN:VEVENT
DTSTART;VALUE=DATE:20170702
DTEND;VALUE=DATE:20170703
DTSTAMP:20260424T055334
CREATED:20170812T051541Z
LAST-MODIFIED:20191202T164105Z
UID:8706-1498953600-1499039999@www.friendsofmttam.org
SUMMARY:9:30am Hike led byMadelyn Mistie: "Mountain View"
DESCRIPTION:3-4 hours with a break for a light lunch. See Hiking / Sunday
URL:https://www.friendsofmttam.org/event/930am-hike-led-bymadelyn-mistie-mountain-view/
LOCATION:Rock Spring\, Mt Tamalpais
CATEGORIES:Hike
END:VEVENT
BEGIN:VEVENT
DTSTART;TZID=America/Los_Angeles:20170701T203000
DTEND;TZID=America/Los_Angeles:20170701T230000
DTSTAMP:20260424T055334
CREATED:20170814T044541Z
LAST-MODIFIED:20190516T001918Z
UID:9021-1498941000-1498950000@www.friendsofmttam.org
SUMMARY:Astronomy Night - Alan Agrawal
DESCRIPTION:Alan Agrawal\, Mount Diablo Astronomical Society\n*** Heavenly Vision: Galileo’s Telescopes & Observations ***\nGalileo Galilei developed a new method for reliably comprehending the world around us and\, accordingly\, has been called the father of modern science. We will learn how Galileo’s celestial observations dramatically changed our understanding of the universe and our place in it. \nStar Viewing after the program with the San Francisco Amature Astronomers
URL:https://www.friendsofmttam.org/event/astronomy-night-alan-agrawal/
LOCATION:Cushing Memorial Amphitheater\, Mill Valley\, CA 94941\, USA\, 2 Cushing Dr\, United States
CATEGORIES:Astronomy
END:VEVENT
BEGIN:VEVENT
DTSTART;VALUE=DATE:20170701
DTEND;VALUE=DATE:20170702
DTSTAMP:20260424T055334
CREATED:20170813T214502Z
LAST-MODIFIED:20190510T194336Z
UID:8971-1498867200-1498953599@www.friendsofmttam.org
SUMMARY:VC -ALBERT WALD / Chris and Tara Castleman
DESCRIPTION:
URL:https://www.friendsofmttam.org/event/vc-albert-wald-chris-and-tara-castleman/
CATEGORIES:Visitor Center
END:VEVENT
BEGIN:VEVENT
DTSTART;VALUE=DATE:20170701
DTEND;VALUE=DATE:20170702
DTSTAMP:20260424T055334
CREATED:20170812T051540Z
LAST-MODIFIED:20191202T164104Z
UID:8705-1498867200-1498953599@www.friendsofmttam.org
SUMMARY:9:30am Hike led by Franklin Young: "Green Gulch"
DESCRIPTION:3-4 hours with a break for a light lunch. See Hiking / Saturday
URL:https://www.friendsofmttam.org/event/930am-hike-led-by-franklin-young-green-gulch/
LOCATION:Dias Ridge\, Mt Tamalpais
CATEGORIES:Hike
END:VEVENT
BEGIN:VEVENT
DTSTART;TZID=America/Los_Angeles:20170628T180000
DTEND;TZID=America/Los_Angeles:20170628T200000
DTSTAMP:20260424T055334
CREATED:20170812T050004Z
LAST-MODIFIED:20191202T164104Z
UID:8704-1498672800-1498680000@www.friendsofmttam.org
SUMMARY:Evening hike led byFranklin Young: "Crookedest Railroad"
DESCRIPTION:Wednesday evening hikes last 2 to 3 hours with a 15 minute break.
URL:https://www.friendsofmttam.org/event/evening-hike-led-byfranklin-young-crookedest-railroad/
LOCATION:Mt Home\, Mt Tamalpais
CATEGORIES:Hike
END:VEVENT
END:VCALENDAR