BEGIN:VCALENDAR
VERSION:2.0
PRODID:-//Friends of Mt Tam - ECPv6.15.18//NONSGML v1.0//EN
CALSCALE:GREGORIAN
METHOD:PUBLISH
X-ORIGINAL-URL:https://www.friendsofmttam.org
X-WR-CALDESC:Events for Friends of Mt Tam
REFRESH-INTERVAL;VALUE=DURATION:PT1H
X-Robots-Tag:noindex
X-PUBLISHED-TTL:PT1H
BEGIN:VTIMEZONE
TZID:America/Los_Angeles
BEGIN:DAYLIGHT
TZOFFSETFROM:-0800
TZOFFSETTO:-0700
TZNAME:PDT
DTSTART:20160313T100000
END:DAYLIGHT
BEGIN:STANDARD
TZOFFSETFROM:-0700
TZOFFSETTO:-0800
TZNAME:PST
DTSTART:20161106T090000
END:STANDARD
BEGIN:DAYLIGHT
TZOFFSETFROM:-0800
TZOFFSETTO:-0700
TZNAME:PDT
DTSTART:20170312T100000
END:DAYLIGHT
BEGIN:STANDARD
TZOFFSETFROM:-0700
TZOFFSETTO:-0800
TZNAME:PST
DTSTART:20171105T090000
END:STANDARD
BEGIN:DAYLIGHT
TZOFFSETFROM:-0800
TZOFFSETTO:-0700
TZNAME:PDT
DTSTART:20180311T100000
END:DAYLIGHT
BEGIN:STANDARD
TZOFFSETFROM:-0700
TZOFFSETTO:-0800
TZNAME:PST
DTSTART:20181104T090000
END:STANDARD
END:VTIMEZONE
BEGIN:VEVENT
DTSTART;VALUE=DATE:20170924
DTEND;VALUE=DATE:20170925
DTSTAMP:20260424T084007
CREATED:20170811T145038Z
LAST-MODIFIED:20190510T191522Z
UID:8470-1506211200-1506297599@www.friendsofmttam.org
SUMMARY:Closed - Gravity Car Barn - Redflag Warning
DESCRIPTION:
URL:https://www.friendsofmttam.org/event/12-4-gravity-car-barn-open-24/
LOCATION:East Peak\, Mt Tamalpais
CATEGORIES:Gravity Car Barn
END:VEVENT
BEGIN:VEVENT
DTSTART;VALUE=DATE:20170924
DTEND;VALUE=DATE:20170925
DTSTAMP:20260424T084007
CREATED:20170924T213931Z
LAST-MODIFIED:20191202T164110Z
UID:9275-1506211200-1506297599@www.friendsofmttam.org
SUMMARY:Hike - (Moved to Pantoll!) - Robert Freinkel
DESCRIPTION:Late Spring Wildflowers and Native Plants
URL:https://www.friendsofmttam.org/event/hike-moved-to-pantoll-robert-freinkel/
CATEGORIES:Hike
END:VEVENT
BEGIN:VEVENT
DTSTART;VALUE=DATE:20170924
DTEND;VALUE=DATE:20170925
DTSTAMP:20260424T084007
CREATED:20170925T045157Z
LAST-MODIFIED:20190510T194338Z
UID:9278-1506211200-1506297599@www.friendsofmttam.org
SUMMARY:Closed - Visitor Center - Redflag Warning
DESCRIPTION:
URL:https://www.friendsofmttam.org/event/closed-visitor-center-redflag-warning/
CATEGORIES:Visitor Center
END:VEVENT
BEGIN:VEVENT
DTSTART;VALUE=DATE:20170927
DTEND;VALUE=DATE:20170928
DTSTAMP:20260424T084007
CREATED:20170812T052200Z
LAST-MODIFIED:20191202T164110Z
UID:8732-1506470400-1506556799@www.friendsofmttam.org
SUMMARY:Evening hike led by Sue Karp: "Putluck Hike"
DESCRIPTION:Wednesday evening hikes last 2 to 3 hours with a 15 minute break.
URL:https://www.friendsofmttam.org/event/evening-hike-led-bysue-karp-putluck-hike/
LOCATION:Pantoll\, Mt Tamalpais
CATEGORIES:Hike
END:VEVENT
BEGIN:VEVENT
DTSTART;VALUE=DATE:20170930
DTEND;VALUE=DATE:20171001
DTSTAMP:20260424T084007
CREATED:20170811T145038Z
LAST-MODIFIED:20190510T191522Z
UID:8471-1506729600-1506815999@www.friendsofmttam.org
SUMMARY:12-4 Gravity Car Barn Open
DESCRIPTION:
URL:https://www.friendsofmttam.org/event/12-4-gravity-car-barn-open-25/
LOCATION:East Peak\, Mt Tamalpais
CATEGORIES:Gravity Car Barn
END:VEVENT
BEGIN:VEVENT
DTSTART;VALUE=DATE:20170930
DTEND;VALUE=DATE:20171001
DTSTAMP:20260424T084007
CREATED:20170913T043922Z
LAST-MODIFIED:20190510T194338Z
UID:9230-1506729600-1506815999@www.friendsofmttam.org
SUMMARY:VC - ALBERT WALD
DESCRIPTION:
URL:https://www.friendsofmttam.org/event/vc-albert-wald-6/
CATEGORIES:Visitor Center
END:VEVENT
BEGIN:VEVENT
DTSTART;VALUE=DATE:20171001
DTEND;VALUE=DATE:20171002
DTSTAMP:20260424T084007
CREATED:20170811T145038Z
LAST-MODIFIED:20190510T191522Z
UID:8472-1506816000-1506902399@www.friendsofmttam.org
SUMMARY:Closed - Gravity Car Barn - Redflag Warning
DESCRIPTION:
URL:https://www.friendsofmttam.org/event/12-4-gravity-car-barn-open-26/
LOCATION:East Peak\, Mt Tamalpais
CATEGORIES:Gravity Car Barn
END:VEVENT
BEGIN:VEVENT
DTSTART;VALUE=DATE:20171001
DTEND;VALUE=DATE:20171002
DTSTAMP:20260424T084007
CREATED:20170813T215430Z
LAST-MODIFIED:20190510T194338Z
UID:8997-1506816000-1506902399@www.friendsofmttam.org
SUMMARY:Closed - Visitor Center - Redflag Warning
DESCRIPTION:
URL:https://www.friendsofmttam.org/event/11-4-visitor-center-shirley-beerslillian-lessler-6/
CATEGORIES:Visitor Center
END:VEVENT
BEGIN:VEVENT
DTSTART;VALUE=DATE:20171001
DTEND;VALUE=DATE:20171002
DTSTAMP:20260424T084007
CREATED:20180301T212156Z
LAST-MODIFIED:20190510T194338Z
UID:11248-1506816000-1506902399@www.friendsofmttam.org
SUMMARY:11-4 VC: Shirley Beers/Lillian Lessler
DESCRIPTION:
URL:https://www.friendsofmttam.org/event/11-4-vc-shirley-beers-lillian-lessler-6/
CATEGORIES:Visitor Center
END:VEVENT
BEGIN:VEVENT
DTSTART;VALUE=DATE:20171007
DTEND;VALUE=DATE:20171008
DTSTAMP:20260424T084007
CREATED:20170811T145039Z
LAST-MODIFIED:20190510T191522Z
UID:8473-1507334400-1507420799@www.friendsofmttam.org
SUMMARY:12-4 Gravity Car Barn Open
DESCRIPTION:
URL:https://www.friendsofmttam.org/event/12-4-gravity-car-barn-open-27/
LOCATION:East Peak\, Mt Tamalpais
CATEGORIES:Gravity Car Barn
END:VEVENT
BEGIN:VEVENT
DTSTART;VALUE=DATE:20171007
DTEND;VALUE=DATE:20171008
DTSTAMP:20260424T084007
CREATED:20170812T052201Z
LAST-MODIFIED:20191202T164110Z
UID:8733-1507334400-1507420799@www.friendsofmttam.org
SUMMARY:7pm Moonlight hike led by Glenn Carter: "Hunter;'s Moon"
DESCRIPTION:Starts 15 minutes after sunset
URL:https://www.friendsofmttam.org/event/moonlight-hike-led-by-tbd-hunters-moon/
LOCATION:Pantoll Parking Lot\, Mt Tamalpais
CATEGORIES:Hike
END:VEVENT
BEGIN:VEVENT
DTSTART;VALUE=DATE:20171007
DTEND;VALUE=DATE:20171008
DTSTAMP:20260424T084007
CREATED:20171005T051320Z
LAST-MODIFIED:20191202T164111Z
UID:9312-1507334400-1507420799@www.friendsofmttam.org
SUMMARY:9:30am Hike led by Pat Ernsberger: "West Peak History"
DESCRIPTION:3-4 hours with a break for a light lunch. See Hiking / Saturday
URL:https://www.friendsofmttam.org/event/930am-hike-led-by-pat-ernsberger-west-peak-history/
LOCATION:Rock Spring #4\, Mt Tamalpais
CATEGORIES:Hike
END:VEVENT
BEGIN:VEVENT
DTSTART;VALUE=DATE:20171008
DTEND;VALUE=DATE:20171009
DTSTAMP:20260424T084007
CREATED:20170811T145058Z
LAST-MODIFIED:20190510T191522Z
UID:8474-1507420800-1507507199@www.friendsofmttam.org
SUMMARY:Closed - Gravity Car Barn - Redflag Warning
DESCRIPTION:
URL:https://www.friendsofmttam.org/event/12-4-gravity-car-barn-open-28/
LOCATION:East Peak\, Mt Tamalpais
CATEGORIES:Gravity Car Barn
END:VEVENT
BEGIN:VEVENT
DTSTART;VALUE=DATE:20171008
DTEND;VALUE=DATE:20171009
DTSTAMP:20260424T084007
CREATED:20171007T045802Z
LAST-MODIFIED:20190510T194338Z
UID:9368-1507420800-1507507199@www.friendsofmttam.org
SUMMARY:Closed - Visitor Center - Redflag Warning When
DESCRIPTION:
URL:https://www.friendsofmttam.org/event/vc-kit-murphy/
CATEGORIES:Visitor Center
END:VEVENT
BEGIN:VEVENT
DTSTART;VALUE=DATE:20171014
DTEND;VALUE=DATE:20171015
DTSTAMP:20260424T084007
CREATED:20170811T145059Z
LAST-MODIFIED:20190510T191522Z
UID:8475-1507939200-1508025599@www.friendsofmttam.org
SUMMARY:Closed - Gravity Car Barn - Redflag Warning
DESCRIPTION:
URL:https://www.friendsofmttam.org/event/12-4-gravity-car-barn-open-29/
LOCATION:East Peak\, Mt Tamalpais
CATEGORIES:Gravity Car Barn
END:VEVENT
BEGIN:VEVENT
DTSTART;VALUE=DATE:20171014
DTEND;VALUE=DATE:20171015
DTSTAMP:20260424T084007
CREATED:20171014T214441Z
LAST-MODIFIED:20190510T194338Z
UID:9439-1507939200-1508025599@www.friendsofmttam.org
SUMMARY:Closed - Visitor Center - Redflag Warning When
DESCRIPTION:
URL:https://www.friendsofmttam.org/event/closed-visitor-center-redflag-warning-when/
CATEGORIES:Visitor Center
END:VEVENT
BEGIN:VEVENT
DTSTART;VALUE=DATE:20171015
DTEND;VALUE=DATE:20171016
DTSTAMP:20260424T084007
CREATED:20170811T145059Z
LAST-MODIFIED:20190510T191522Z
UID:8476-1508025600-1508111999@www.friendsofmttam.org
SUMMARY:Closed - Gravity Car Barn - Redflag Warning
DESCRIPTION:
URL:https://www.friendsofmttam.org/event/12-4-gravity-car-barn-open-30/
LOCATION:East Peak\, Mt Tamalpais
CATEGORIES:Gravity Car Barn
END:VEVENT
BEGIN:VEVENT
DTSTART;VALUE=DATE:20171015
DTEND;VALUE=DATE:20171016
DTSTAMP:20260424T084007
CREATED:20170813T215430Z
LAST-MODIFIED:20190510T194338Z
UID:8998-1508025600-1508111999@www.friendsofmttam.org
SUMMARY:Closed - Visitor Center - Redflag Warning When
DESCRIPTION:
URL:https://www.friendsofmttam.org/event/11-4-visitor-center-tom-brookshire-6/
LOCATION:Mt Tam\, East Peak Parking Lot\, East Ridgecrest Blvd.\, Mill Valley\, CA 94941\, USA\, 201 Meda Ln\, United States
CATEGORIES:Visitor Center
END:VEVENT
BEGIN:VEVENT
DTSTART;VALUE=DATE:20171015
DTEND;VALUE=DATE:20171016
DTSTAMP:20260424T084007
CREATED:20171005T051320Z
LAST-MODIFIED:20171012T215232Z
UID:9313-1508025600-1508111999@www.friendsofmttam.org
SUMMARY:9:30am Hike led by Brendan Hickey: "Nuts for Woodpeckers!"
DESCRIPTION:3-4 hours with a break for a light lunch. See Hiking / Sunday
URL:https://www.friendsofmttam.org/event/930am-hike-led-by-brendan-hickey-nuts-for-woodpeckers/
LOCATION:Rock Spring #4\, Mt Tamalpais
CATEGORIES:Hike
END:VEVENT
BEGIN:VEVENT
DTSTART;TZID=America/Los_Angeles:20171016T183000
DTEND;TZID=America/Los_Angeles:20171016T203000
DTSTAMP:20260424T084007
CREATED:20170812T044526Z
LAST-MODIFIED:20190516T003829Z
UID:8698-1508178600-1508185800@www.friendsofmttam.org
SUMMARY:FMT Board Meeting - Cancelled
DESCRIPTION:Community Room
URL:https://www.friendsofmttam.org/event/fmt-board-meeting-3/
LOCATION:Northgate\, 5800 Northgate Parking Lot\, San Rafael\, CA 94903\, USA\, 501 Northgate Dr\, United States
CATEGORIES:Other
END:VEVENT
BEGIN:VEVENT
DTSTART;VALUE=DATE:20171021
DTEND;VALUE=DATE:20171022
DTSTAMP:20260424T084007
CREATED:20170811T145059Z
LAST-MODIFIED:20190510T191523Z
UID:8477-1508544000-1508630399@www.friendsofmttam.org
SUMMARY:12-4 Gravity Car Barn Open
DESCRIPTION:
URL:https://www.friendsofmttam.org/event/12-4-gravity-car-barn-open-31/
LOCATION:East Peak\, Mt Tamalpais
CATEGORIES:Gravity Car Barn
END:VEVENT
BEGIN:VEVENT
DTSTART;VALUE=DATE:20171021
DTEND;VALUE=DATE:20171022
DTSTAMP:20260424T084007
CREATED:20170813T215455Z
LAST-MODIFIED:20170817T042353Z
UID:8999-1508544000-1508630399@www.friendsofmttam.org
SUMMARY:11-4 Visitor Center: Sarah Martin
DESCRIPTION:
URL:https://www.friendsofmttam.org/event/11-4-visitor-center-sarah-martin-3/
LOCATION:Mt Tamalpais East Peak\, Mt. Tam Gravity Car Barn\, Mill Valley\, 94941\, United States
CATEGORIES:Visitor Center
END:VEVENT
BEGIN:VEVENT
DTSTART;VALUE=DATE:20171021
DTEND;VALUE=DATE:20171022
DTSTAMP:20260424T084007
CREATED:20170913T043925Z
LAST-MODIFIED:20190510T194338Z
UID:9231-1508544000-1508630399@www.friendsofmttam.org
SUMMARY:11-4 VC: Chris & Tara Castleman
DESCRIPTION:
URL:https://www.friendsofmttam.org/event/11-4-vc-chris-tara-castleman/
CATEGORIES:Visitor Center
END:VEVENT
BEGIN:VEVENT
DTSTART;VALUE=DATE:20171021
DTEND;VALUE=DATE:20171022
DTSTAMP:20260424T084007
CREATED:20171005T051320Z
LAST-MODIFIED:20191202T164111Z
UID:9314-1508544000-1508630399@www.friendsofmttam.org
SUMMARY:9:30am Hike led by Lizzy Silverstein: "Plants of mt Tam"
DESCRIPTION:3-4 hours with a break for a light lunch. See Hiking / Saturday
URL:https://www.friendsofmttam.org/event/930am-hike-led-by-lizzy-silverstein-plants-of-mt-tam/
LOCATION:Rock Spring #4\, Mt Tamalpais
CATEGORIES:Hike
END:VEVENT
BEGIN:VEVENT
DTSTART;VALUE=DATE:20171022
DTEND;VALUE=DATE:20171023
DTSTAMP:20260424T084007
CREATED:20170811T145059Z
LAST-MODIFIED:20190510T191523Z
UID:8478-1508630400-1508716799@www.friendsofmttam.org
SUMMARY:12-4 Gravity Car Barn Open
DESCRIPTION:
URL:https://www.friendsofmttam.org/event/12-4-gravity-car-barn-open-32/
LOCATION:East Peak\, Mt Tamalpais
CATEGORIES:Gravity Car Barn
END:VEVENT
BEGIN:VEVENT
DTSTART;VALUE=DATE:20171022
DTEND;VALUE=DATE:20171023
DTSTAMP:20260424T084007
CREATED:20170818T213531Z
LAST-MODIFIED:20190510T194338Z
UID:9141-1508630400-1508716799@www.friendsofmttam.org
SUMMARY:11-4 Visitor Center: Sarah Martin
DESCRIPTION:
URL:https://www.friendsofmttam.org/event/11-4-visitor-center-sarah-martin-6/
LOCATION:Mt Tamalpais East Peak\, Mt. Tam Gravity Car Barn\, Mill Valley\, 94941\, United States
CATEGORIES:Visitor Center
END:VEVENT
BEGIN:VEVENT
DTSTART;VALUE=DATE:20171022
DTEND;VALUE=DATE:20171023
DTSTAMP:20260424T084007
CREATED:20171005T051320Z
LAST-MODIFIED:20191202T164111Z
UID:9315-1508630400-1508716799@www.friendsofmttam.org
SUMMARY:9:30am Hike led by Tom Dewey: "Mountain Views"
DESCRIPTION:3-4 hours with a break for a light lunch. See Hiking / Sunday
URL:https://www.friendsofmttam.org/event/930am-hike-led-by-tom-dewey-mountain-views-2/
LOCATION:Rock Spring #4\, Mt Tamalpais
CATEGORIES:Hike
END:VEVENT
BEGIN:VEVENT
DTSTART;VALUE=DATE:20171028
DTEND;VALUE=DATE:20171029
DTSTAMP:20260424T084007
CREATED:20170811T145106Z
LAST-MODIFIED:20190510T191523Z
UID:8479-1509148800-1509235199@www.friendsofmttam.org
SUMMARY:12-4 Gravity Car Barn Open
DESCRIPTION:
URL:https://www.friendsofmttam.org/event/12-4-gravity-car-barn-open-33/
LOCATION:East Peak\, Mt Tamalpais
CATEGORIES:Gravity Car Barn
END:VEVENT
BEGIN:VEVENT
DTSTART;VALUE=DATE:20171028
DTEND;VALUE=DATE:20171029
DTSTAMP:20260424T084007
CREATED:20170813T215456Z
LAST-MODIFIED:20190510T194338Z
UID:9000-1509148800-1509235199@www.friendsofmttam.org
SUMMARY:11-4 Visitor Center - ALBERT WALD
DESCRIPTION:
URL:https://www.friendsofmttam.org/event/vc-albert-wald-4/
CATEGORIES:Visitor Center
END:VEVENT
BEGIN:VEVENT
DTSTART;VALUE=DATE:20171028
DTEND;VALUE=DATE:20171029
DTSTAMP:20260424T084007
CREATED:20171005T051321Z
LAST-MODIFIED:20191202T164112Z
UID:9317-1509148800-1509235199@www.friendsofmttam.org
SUMMARY:9:30am Hike led by Karen Ulring: "Tam History"
DESCRIPTION:3-4 hours with a break for a light lunch. See Hiking / Saturday
URL:https://www.friendsofmttam.org/event/930am-hike-led-by-karen-ulring-tam-history/
LOCATION:Quarry Lot #6\, Mt Tamalpais
CATEGORIES:Hike
END:VEVENT
END:VCALENDAR