BEGIN:VCALENDAR
VERSION:2.0
PRODID:-//Friends of Mt Tam - ECPv6.15.18//NONSGML v1.0//EN
CALSCALE:GREGORIAN
METHOD:PUBLISH
X-WR-CALNAME:Friends of Mt Tam
X-ORIGINAL-URL:https://www.friendsofmttam.org
X-WR-CALDESC:Events for Friends of Mt Tam
REFRESH-INTERVAL;VALUE=DURATION:PT1H
X-Robots-Tag:noindex
X-PUBLISHED-TTL:PT1H
BEGIN:VTIMEZONE
TZID:America/Los_Angeles
BEGIN:DAYLIGHT
TZOFFSETFROM:-0800
TZOFFSETTO:-0700
TZNAME:PDT
DTSTART:20170312T100000
END:DAYLIGHT
BEGIN:STANDARD
TZOFFSETFROM:-0700
TZOFFSETTO:-0800
TZNAME:PST
DTSTART:20171105T090000
END:STANDARD
BEGIN:DAYLIGHT
TZOFFSETFROM:-0800
TZOFFSETTO:-0700
TZNAME:PDT
DTSTART:20180311T100000
END:DAYLIGHT
BEGIN:STANDARD
TZOFFSETFROM:-0700
TZOFFSETTO:-0800
TZNAME:PST
DTSTART:20181104T090000
END:STANDARD
BEGIN:DAYLIGHT
TZOFFSETFROM:-0800
TZOFFSETTO:-0700
TZNAME:PDT
DTSTART:20190310T100000
END:DAYLIGHT
BEGIN:STANDARD
TZOFFSETFROM:-0700
TZOFFSETTO:-0800
TZNAME:PST
DTSTART:20191103T090000
END:STANDARD
BEGIN:DAYLIGHT
TZOFFSETFROM:-0800
TZOFFSETTO:-0700
TZNAME:PDT
DTSTART:20200308T100000
END:DAYLIGHT
BEGIN:STANDARD
TZOFFSETFROM:-0700
TZOFFSETTO:-0800
TZNAME:PST
DTSTART:20201101T090000
END:STANDARD
END:VTIMEZONE
BEGIN:VEVENT
DTSTART;VALUE=DATE:20181104
DTEND;VALUE=DATE:20181105
DTSTAMP:20260423T173324
CREATED:20181008T235133Z
LAST-MODIFIED:20191202T164138Z
UID:29211-1541289600-1541375999@www.friendsofmttam.org
SUMMARY:9:30 AM Sunday Hike -Moderate-Redwood Trees Led by Maria de la Fuente
DESCRIPTION:We will discuss strength and balance in nature. We all need strength and balance to live a good life and we can find some great examples and similarities in nature. Let?s hike and find some meaningful connections between us and the surrounding trees. Distance: 6.1 miles. Elevation gain: 1\,410 ft. Starting at Bootjack to Muir Woods to Hillside trail -Spur-Pelvic Cut-Camp Eastwood (lunch) -Sierra Trail-Troup 80-Bootjack.ÿModerate.
URL:https://www.friendsofmttam.org/event/930-am-sunday-hike-moderate-redwood-trees-led-by-maria-de-la-fuente/
LOCATION:Bootjack #10\, Mt Tamalpais
CATEGORIES:Hike
END:VEVENT
BEGIN:VEVENT
DTSTART;TZID=America/Los_Angeles:20181107T220000
DTEND;TZID=America/Los_Angeles:20181112T070000
DTSTAMP:20260423T173324
CREATED:20181107T091812Z
LAST-MODIFIED:20181112T174556Z
UID:29685-1541628000-1542006000@www.friendsofmttam.org
SUMMARY:MT TAM FIRE CLOSURE
DESCRIPTION:Red Flag fire closure notice – from Wednesday\, November 7\, 10PM until Friday\, November 9\, 7AM. \nMount Tamalpais State Park is under a Red Flag fire closure\, ordered by Marin County Fire Department; this closure shall be in effect at 10pm WED and shall be rescinded on FRI at 7AM. \nThe closure for Mt. Tamalpais State Park includes restricting all vehicle access to the upper Mountain; gates are closed and locked at Bolinas Fairfax Road/Ridgecrest and also at Pantoll Road/ Panoramic Highway. Pedestrian and bicycle traffic is not restricted. There are no fires allowed at Pantoll Campground\, Bootjack campground or the Steep Ravine campground or cabins.  \nPlease contact State Park staff with any questions or to get additional information.
URL:https://www.friendsofmttam.org/event/mt-tam-fire-closure/
END:VEVENT
BEGIN:VEVENT
DTSTART;VALUE=DATE:20181110
DTEND;VALUE=DATE:20181111
DTSTAMP:20260423T173324
CREATED:20181026T061827Z
LAST-MODIFIED:20181111T005223Z
UID:29550-1541808000-1541894399@www.friendsofmttam.org
SUMMARY:9:30 AM Saturday Hike -Strenuous-Ferns Led by Lizzy Silverstein
DESCRIPTION:Ferns are an important and ancient part of the lush greenery that abounds in our forests. Come learn about some of the first vascular plants dating back to the time when dinosaurs roamed the earth and beyond! We will walk down to Cataract Fall and continue to Alpine Lake. We’ll loop back up the Kent\, Potrero and the Mickey O’Brien trails. About 7.2 miles\, 1\,818 ft. elevation gain. Difficulty: Strenuous.
URL:https://www.friendsofmttam.org/event/930-am-sunday-hike-strenuous-ferns-led-by-lizzy-silverstein-2/
LOCATION:Laurel Dell #2\, Mt Tamalpais
CATEGORIES:Hike
END:VEVENT
BEGIN:VEVENT
DTSTART;VALUE=DATE:20181111
DTEND;VALUE=DATE:20181112
DTSTAMP:20260423T173324
CREATED:20171010T051409Z
LAST-MODIFIED:20190510T194343Z
UID:9390-1541894400-1541980799@www.friendsofmttam.org
SUMMARY:11-4 VC: Kit Murphy & Debra Brody
DESCRIPTION:
URL:https://www.friendsofmttam.org/event/11-4-vc-kit-murphy-debra-brody-11/
CATEGORIES:Visitor Center
END:VEVENT
BEGIN:VEVENT
DTSTART;VALUE=DATE:20181111
DTEND;VALUE=DATE:20181112
DTSTAMP:20260423T173324
CREATED:20181008T235133Z
LAST-MODIFIED:20191202T164138Z
UID:29212-1541894400-1541980799@www.friendsofmttam.org
SUMMARY:9:30 AM CANCELLED - Sunday Hike -Challenging-Mt Tam History Led by Karen Ulring
DESCRIPTION:CANCELLED by Karen Ulring due to smoke.You will review the history of the TCC and their invaluable contributions to Mount Tamalpais State Park. Distance: 9.7 miles. Elevation gain: 2\,608 ft. Take Bootjack down to TCC\, Stapelveldt to Pan Toll and down Matt Davis to Stinson. Back up the Dipsea to Pan Toll and Bootjack.ÿChallenging.
URL:https://www.friendsofmttam.org/event/930-am-sunday-hike-challenging-mt-tam-history-led-by-karen-ulring/
LOCATION:Bootjack #10\, Mt Tamalpais
CATEGORIES:Hike
END:VEVENT
BEGIN:VEVENT
DTSTART;VALUE=DATE:20181112
DTEND;VALUE=DATE:20181113
DTSTAMP:20260423T173324
CREATED:20181008T235133Z
LAST-MODIFIED:20191202T164139Z
UID:29213-1541980800-1542067199@www.friendsofmttam.org
SUMMARY:10:00 AM CANCELLED Monday Hike -Easy-Who Was Verna Dunshee? Led by Nancy Benjamin
DESCRIPTION:A short hike with spectacular views\, learn about Verna Dunshee’s life and legacy and her work to protect Marin’s open space. Distance: 0.7 miles Elevation gain: 0 ft. A short loop around the East Peak on the Verna Dunshee trail.ÿEasy\,ÿAccessible.
URL:https://www.friendsofmttam.org/event/1000-am-monday-hike-easy-who-was-verna-dunshee-led-by-nancy-benjamin/
LOCATION:East Peak #8\, Mt Tamalpais
CATEGORIES:Hike
END:VEVENT
BEGIN:VEVENT
DTSTART;VALUE=DATE:20181118
DTEND;VALUE=DATE:20181119
DTSTAMP:20260423T173324
CREATED:20181008T235134Z
LAST-MODIFIED:20191202T164139Z
UID:29214-1542499200-1542585599@www.friendsofmttam.org
SUMMARY:9:30 AM CANCELLED - Sunday Hike -Moderate-Connect with Mt.Tamÿ Led by Santi Abascal
DESCRIPTION:CANCELLED BY DPR due to poor air quality. \nSanti Abascal . Learn about diversity in the Park: Culture\, Nature\, and Leisure. Distance: 5.1 miles. Elevation gain: 850 ft. Theater\, Rock Spring\, Nora\, M.Davis\, Old mine and back to RS Parking lot.ÿModerate.
URL:https://www.friendsofmttam.org/event/930-am-sunday-hike-moderate-connect-with-mt-tamy-led-by-santi-abascal/
LOCATION:Rock Spring #4\, Mt Tamalpais
CATEGORIES:Hike
END:VEVENT
BEGIN:VEVENT
DTSTART;VALUE=DATE:20181124
DTEND;VALUE=DATE:20181125
DTSTAMP:20260423T173324
CREATED:20181008T235134Z
LAST-MODIFIED:20191202T164139Z
UID:29215-1543017600-1543103999@www.friendsofmttam.org
SUMMARY:9:30 AM Saturday Hike -Moderate-Thanking the Redwoods Led by Nancy Benjamin
DESCRIPTION:Hike into Muir Woods and learn about the important part redwood trees play to mitigate climate change and the current health of Mt. Tam’s redwoods. Distance: 3.7 miles. Elevation gain: 876 ft. From Panoramic\, to Canopy\, Fern Creek and Lost Trail.ÿModerate.
URL:https://www.friendsofmttam.org/event/930-am-saturday-hike-moderate-thanking-the-redwoods-led-by-nancy-benjamin/
LOCATION:Mt Home #11\, Mt Tamalpais
CATEGORIES:Hike
END:VEVENT
BEGIN:VEVENT
DTSTART;VALUE=DATE:20181124
DTEND;VALUE=DATE:20181125
DTSTAMP:20260423T173324
CREATED:20190504T053533Z
LAST-MODIFIED:20190510T194343Z
UID:37311-1543017600-1543103999@www.friendsofmttam.org
SUMMARY:VC - Caryn Lowe/Nicole Byrd
DESCRIPTION:
URL:https://www.friendsofmttam.org/event/vc-caryn-lowe-nicole-byrd/
CATEGORIES:Visitor Center
END:VEVENT
BEGIN:VEVENT
DTSTART;VALUE=DATE:20181125
DTEND;VALUE=DATE:20181126
DTSTAMP:20260423T173324
CREATED:20181008T235134Z
LAST-MODIFIED:20191202T164139Z
UID:29216-1543104000-1543190399@www.friendsofmttam.org
SUMMARY:9:30 AM Sunday Hike -Easy-Owls Led by Joan Lamphier
DESCRIPTION:We will talk about the endangered\, carismatic northern spotted owl. You will discover what Mt Tam represents an important area for its population and conservation efforts in Marin County. Distance: 4.3 miles. Elevation gain: 571 ft. West Point Inn\, Nora\, Matt Davis Trail.ÿEasy.
URL:https://www.friendsofmttam.org/event/930-am-sunday-hike-easy-owls-led-by-joan-lamphier/
LOCATION:Pantoll #9\, Mt Tamalpais
CATEGORIES:Hike
END:VEVENT
BEGIN:VEVENT
DTSTART;VALUE=DATE:20181201
DTEND;VALUE=DATE:20181202
DTSTAMP:20260423T173324
CREATED:20181008T235134Z
LAST-MODIFIED:20191202T164139Z
UID:29217-1543622400-1543708799@www.friendsofmttam.org
SUMMARY:CANCELLED (rain) 9:30 AM Saturday Hike -Easy-Mindfulnes in Nature Led by Alexandra Jurasin
DESCRIPTION:CANCELLED due to rain/showers\nExplore your senses in nature while being guided through mindfulness practices. Finish the hike feeling like you’ve just had a cleansing shower for your mind. Distance: 4.3 miles. Elevation gain: 571 ft. Easy: Old Stage\, West Point Inn\, Nora\, Matt Davis\, Old Stage.ÿEasy.
URL:https://www.friendsofmttam.org/event/930-am-saturday-hike-easy-mindfulnes-in-nature-led-by-alexandra-jurasin/
LOCATION:Pantoll #9\, Mt Tamalpais
CATEGORIES:Hike
END:VEVENT
BEGIN:VEVENT
DTSTART;VALUE=DATE:20181201
DTEND;VALUE=DATE:20181202
DTSTAMP:20260423T173324
CREATED:20190504T053533Z
LAST-MODIFIED:20190510T194343Z
UID:37312-1543622400-1543708799@www.friendsofmttam.org
SUMMARY:VC - Teri Hanley
DESCRIPTION:
URL:https://www.friendsofmttam.org/event/vc-teri-hanley/
CATEGORIES:Visitor Center
END:VEVENT
BEGIN:VEVENT
DTSTART;VALUE=DATE:20181202
DTEND;VALUE=DATE:20181203
DTSTAMP:20260423T173324
CREATED:20170813T215642Z
LAST-MODIFIED:20180316T200226Z
UID:9018-1543708800-1543795199@www.friendsofmttam.org
SUMMARY:11-4 Visitor Center Shirley Beers/Lillian Lessler
DESCRIPTION:
URL:https://www.friendsofmttam.org/event/11-4-visitor-center-shirley-beerslillian-lessler-20/
CATEGORIES:Visitor Center
END:VEVENT
BEGIN:VEVENT
DTSTART;VALUE=DATE:20181202
DTEND;VALUE=DATE:20181203
DTSTAMP:20260423T173324
CREATED:20181008T235134Z
LAST-MODIFIED:20191202T164142Z
UID:29218-1543708800-1543795199@www.friendsofmttam.org
SUMMARY:9:30 AM Sunday Hike -Strenuous-Mt.Tam 360 Led by Santi Abascal
DESCRIPTION:Learn about Mtt.Tam’s history\, how different generations used the mountain and the Tamalpais railroad. Distance: 4.2 miles. Elevation gain: 1\,617 ft. East Peak via Hogback Rd\, Old Railroad Grade & Fern Creek trail. Somewhat intense but short.ÿStrenuous.
URL:https://www.friendsofmttam.org/event/930-am-sunday-hike-strenuous-mt-tam-360-led-by-santi-abascal/
LOCATION:Mt Home #11\, Mt Tamalpais
CATEGORIES:Hike
END:VEVENT
BEGIN:VEVENT
DTSTART;VALUE=DATE:20181208
DTEND;VALUE=DATE:20181209
DTSTAMP:20260423T173324
CREATED:20181008T235135Z
LAST-MODIFIED:20181026T060713Z
UID:29225-1544227200-1544313599@www.friendsofmttam.org
SUMMARY:9:30 AM Saturday Hike -Moderate-Meditations in Nature Led by Rosalind Gottfried
DESCRIPTION:“Meditations in Nature” with Rosalind Gottfried . We will stop to appreciate\, and meditate on\, the sounds and smells of the trails\, particularly the Steep Ravine trail\, and admire the ocean views from the Matt Davis trail. \nDistance: 7.1 miles. Elevation gain: 1\, 578 ft. Route: Stinson -Dipsea- Steep Ravine – Matt Davis loop. Moderate.
URL:https://www.friendsofmttam.org/event/930-am-saturday-hike-moderate-meditations-in-nature-led-by-rosalind-gottfried/
LOCATION:Stinson Beach #17\, Mt Tamalpais
CATEGORIES:Hike
END:VEVENT
BEGIN:VEVENT
DTSTART;VALUE=DATE:20181208
DTEND;VALUE=DATE:20181209
DTSTAMP:20260423T173324
CREATED:20181027T224158Z
LAST-MODIFIED:20191202T164142Z
UID:29575-1544227200-1544313599@www.friendsofmttam.org
SUMMARY:9:30 AM Saturday Hike -Moderate-Meditations in Nature Led by Rosalind Gottfried
DESCRIPTION:Saturday December 8 at 9:30am from Stinson Beach trailhead. “Meditations in Nature” with Rosalind Gottfried . We will stop to appreciate\, and meditate on\, the sounds and smells of the trails\, particularly the Steep Ravine trail\, and admire the ocean views from the Matt Davis trail. Distance: 7.1 miles. Elevation gain: 1\, 578 ft. Route: Stinson -Dipsea- Steep Ravine – Matt Davis loop. Moderate.
URL:https://www.friendsofmttam.org/event/930-am-saturday-hike-moderate-meditations-in-nature-led-by-rosalind-gottfried-2/
LOCATION:Stinson Beach #17\, Mt Tamalpais
CATEGORIES:Hike
END:VEVENT
BEGIN:VEVENT
DTSTART;VALUE=DATE:20181208
DTEND;VALUE=DATE:20181209
DTSTAMP:20260423T173324
CREATED:20190504T053533Z
LAST-MODIFIED:20190510T194343Z
UID:37313-1544227200-1544313599@www.friendsofmttam.org
SUMMARY:VC - Teri Hanley
DESCRIPTION:
URL:https://www.friendsofmttam.org/event/vc-teri-hanley-2/
CATEGORIES:Visitor Center
END:VEVENT
BEGIN:VEVENT
DTSTART;TZID=America/Los_Angeles:20181208T173000
DTEND;TZID=America/Los_Angeles:20181208T213000
DTSTAMP:20260423T173324
CREATED:20181125T064615Z
LAST-MODIFIED:20190516T003831Z
UID:29867-1544290200-1544304600@www.friendsofmttam.org
SUMMARY:FMT Holiday Party
DESCRIPTION:SATURDAY\, DECEMBER 8TH 5:30PM\n5:30pm Cocktails       6:30pm Dinner       Raffle      Silent Auction \nCorte Madera Recreation Center\n498 Tamalpais Drive\nCorte Madera\, CA 94925 \nPlease park behind the Center or in Pixley Park.\nPlease be courteous and do not park in the neighborhoods \n$10 per Member (includes one raffle ticket)\n$25 per Guest (does not include raffle ticket) \nFMT will provide turkey\, dressing\, gravy\, mashed potatoes\, coffee and tea.  You bring an appetizer\, side dish or dessert.  Suggested: Last Names A-I – Bring Appetizer;  J-R Bring Vegetable or Side Dish; S-Z Bring Dessert. \nPlease RSVP and pay in advance by December 4th\nYou can pay in advance by:  http://www.friendsofmttam.org/fmt-holiday-party-tickets/ \nBy Check: Made out to FMT\, Mail to: FMT – Holiday Party ( by December 4th )\nPO Box 7064\, Corte Madera\, Ca 94976 \nYou can tell us what you are bringing when you RSVP or email us at friendsofmttam@gmail.com
URL:https://www.friendsofmttam.org/event/fmt-holiday-party/
LOCATION:Corte Madera Community Center\, 498 Tamalpais Dr\, Corte Madera\, CA 94925\, USA\, 28 Tamalpais Dr\, United States
CATEGORIES:Other
END:VEVENT
BEGIN:VEVENT
DTSTART;VALUE=DATE:20181209
DTEND;VALUE=DATE:20181210
DTSTAMP:20260423T173324
CREATED:20171010T051410Z
LAST-MODIFIED:20190510T194344Z
UID:9391-1544313600-1544399999@www.friendsofmttam.org
SUMMARY:11-4 VC: Kit Murphy & Debra Brody
DESCRIPTION:
URL:https://www.friendsofmttam.org/event/11-4-vc-kit-murphy-debra-brody-12/
CATEGORIES:Visitor Center
END:VEVENT
BEGIN:VEVENT
DTSTART;VALUE=DATE:20181209
DTEND;VALUE=DATE:20181210
DTSTAMP:20260423T173324
CREATED:20181008T235134Z
LAST-MODIFIED:20191202T164142Z
UID:29219-1544313600-1544399999@www.friendsofmttam.org
SUMMARY:9:30 AM Sunday Hike -Easy-Health and Happines Led by Tracy Stuart
DESCRIPTION:Enjoy your endorphin high and share it with other hikers while exploring a landscape of Ferns\, Sargent cypress trees\, Serpentine Rock\, Douglas fir and free flowing creeks. Two dogs per hike\, allowed with permits.ÿEmailÿto obtain a permit. Distance: 4.1 miles. Elevation gain: 735 ft. Rock Springs\, Cataract\, High Marsh\, old Stove\, Laurel Dell\, Barrths rettreat\, Simmons Trail\, look for the Throne\, Back to Rock Springs.ÿEasy.
URL:https://www.friendsofmttam.org/event/930-am-sunday-hike-easy-health-and-happines-led-by-tracy-stuart/
LOCATION:Rock Spring #4\, Mt Tamalpais
CATEGORIES:Hike
END:VEVENT
BEGIN:VEVENT
DTSTART;VALUE=DATE:20181209
DTEND;VALUE=DATE:20181210
DTSTAMP:20260423T173324
CREATED:20190112T022659Z
LAST-MODIFIED:20191202T164142Z
UID:30090-1544313600-1544399999@www.friendsofmttam.org
SUMMARY:VC - Teri Hanley/Nicole Byrd
DESCRIPTION:
URL:https://www.friendsofmttam.org/event/vc-teri-hanley-nicole-byrd/
CATEGORIES:Hike
END:VEVENT
BEGIN:VEVENT
DTSTART;VALUE=DATE:20181215
DTEND;VALUE=DATE:20181216
DTSTAMP:20260423T173324
CREATED:20181008T235134Z
LAST-MODIFIED:20191202T164143Z
UID:29221-1544832000-1544918399@www.friendsofmttam.org
SUMMARY:9:30 AM Saturday Hike -Strenuous-Mt Tam History Led by Robert Feist
DESCRIPTION:I’ll begin on the second highest official trailhead on the mountain. Our loop will have us descend to the north side with the views that area offers. Great opportunity to get in some rewarding excercise before the holidays! Distance: 8.2 miles. Elevation gain: 1\,876 ft. International\, Collier\, Lower Northside\, Cross-Country Boys\, Kent\, Benstein\, Mountain Theatre (lunch)\, Old Mine\, Riding & Hiking Trail\, Bootjack\, Matt Davis\, Nora\, Old Railroad Grade\, Miller.ÿStrenuous.
URL:https://www.friendsofmttam.org/event/930-am-saturday-hike-strenuous-mt-tam-history-led-by-robert-freinkel/
LOCATION:E. Ridgecrest Blvd&Miller #19\, Mt Tamalpais
CATEGORIES:Hike
END:VEVENT
BEGIN:VEVENT
DTSTART;VALUE=DATE:20181216
DTEND;VALUE=DATE:20181217
DTSTAMP:20260423T173324
CREATED:20181008T235134Z
LAST-MODIFIED:20191202T164143Z
UID:29222-1544918400-1545004799@www.friendsofmttam.org
SUMMARY:9:30 AM Sunday Hike -Moderate-Inspiration Led by Lizzy Silverstein
DESCRIPTION:Nature influences us in profound ways. Let’s explore this and beautiful Mt. Tam together. Distance:ÿ6 miles. Elevation gain: 692 ft. Starting from Pantoll take the Matt Davis Trail to the Bolinas Ridge trail. Return on the same route.ÿModerate.
URL:https://www.friendsofmttam.org/event/930-am-sunday-hike-moderate-inspiration-led-by-lizzy-silverstein/
LOCATION:Pantoll #9\, Mt Tamalpais
CATEGORIES:Hike
END:VEVENT
BEGIN:VEVENT
DTSTART;VALUE=DATE:20181216
DTEND;VALUE=DATE:20181217
DTSTAMP:20260423T173324
CREATED:20190504T053533Z
LAST-MODIFIED:20190510T194344Z
UID:37314-1544918400-1545004799@www.friendsofmttam.org
SUMMARY:VC: Tom Brookshire
DESCRIPTION:
URL:https://www.friendsofmttam.org/event/vc-tom-brookshire-8/
CATEGORIES:Visitor Center
END:VEVENT
BEGIN:VEVENT
DTSTART;VALUE=DATE:20181222
DTEND;VALUE=DATE:20181223
DTSTAMP:20260423T173324
CREATED:20181008T235135Z
LAST-MODIFIED:20191202T164143Z
UID:29223-1545436800-1545523199@www.friendsofmttam.org
SUMMARY:9:30 AM Saturday Hike -Moderate-Mindfulness in Natur Led by Alexandra Jurasin
DESCRIPTION:Explore your senses in nature while being guided through mindfulness practices. Finish the hike feeling like you’ve just had a cleansing shower for your mind. Distance: 6.1 miles. Elevation gain: 1\,070 ft Regular: Cataract\, Laurel Dell\, High Marsh\, Potrero Meadows\, Kent\, Benstein.ÿModerate.
URL:https://www.friendsofmttam.org/event/930-am-saturday-hike-moderate-mindfulness-in-natur-led-by-alexandra-jurasin/
LOCATION:Rock Spring #4\, Mt Tamalpais
CATEGORIES:Hike
END:VEVENT
BEGIN:VEVENT
DTSTART;VALUE=DATE:20181223
DTEND;VALUE=DATE:20181224
DTSTAMP:20260423T173324
CREATED:20181008T235135Z
LAST-MODIFIED:20191202T164143Z
UID:29224-1545523200-1545609599@www.friendsofmttam.org
SUMMARY:9:30 AM Sunday Hike -Moderate-Winter Fungi\, Decay\, and Rebirth Led by Robert Freinkel
DESCRIPTION:Explore multiple microclimates and plant communities on various sides of the Mt Tamalpais watershed via multiple trails in both shade and sun including differint soil conditions Distance: 6.5 miles. Elevation gain: 1\,250 ft. Rock Spring\, Mountain Top\, Arturo\, International to Rifle Camp. Down to Music Stand\, Back Door Trail\, Simmons Triangle Return. Moderate\, slow pace\, moderate elevation gain. Possible modifications depending on circumstances.ÿModerate.
URL:https://www.friendsofmttam.org/event/930-am-sunday-hike-moderate-winter-fungi-decay-and-rebirth-led-by-robert-freinkel/
LOCATION:Rock Spring #4\, Mt Tamalpais
CATEGORIES:Hike
END:VEVENT
BEGIN:VEVENT
DTSTART;VALUE=DATE:20181229
DTEND;VALUE=DATE:20181230
DTSTAMP:20260423T173324
CREATED:20190504T053533Z
LAST-MODIFIED:20190510T194344Z
UID:37315-1546041600-1546127999@www.friendsofmttam.org
SUMMARY:VC - Renee Sayles/John Cook
DESCRIPTION:
URL:https://www.friendsofmttam.org/event/vc-renee-sayles-john-cook/
CATEGORIES:Visitor Center
END:VEVENT
BEGIN:VEVENT
DTSTART;VALUE=DATE:20181230
DTEND;VALUE=DATE:20181231
DTSTAMP:20260423T173324
CREATED:20190504T053533Z
LAST-MODIFIED:20190510T194344Z
UID:37316-1546128000-1546214399@www.friendsofmttam.org
SUMMARY:11-4 Visitor Center Shirley Beers/Lillian Lessler
DESCRIPTION:
URL:https://www.friendsofmttam.org/event/11-4-visitor-center-shirley-beers-lillian-lessler/
CATEGORIES:Visitor Center
END:VEVENT
BEGIN:VEVENT
DTSTART;VALUE=DATE:20190101
DTEND;VALUE=DATE:20190102
DTSTAMP:20260423T173324
CREATED:20181217T022412Z
LAST-MODIFIED:20191202T164144Z
UID:29947-1546300800-1546387199@www.friendsofmttam.org
SUMMARY:9:30 AM Tuesday Docent Hike - RSVP Required - First Day Hikes  Led By Robert Freinkel\, Robert Feist\, Ernie Castiaux\, Alexandra Jurasin
DESCRIPTION:Every hike will start at Rock Spring and follow different routes to East Peak and then back to Rock Spring.  \nhttps://www.eventbrite.com/e/first-day-hikes-tickets-53478779469  \nfor more details and FREE tickets. RSVP required.
URL:https://www.friendsofmttam.org/event/930-am-tuesday-docent-hike-rsvp-required-first-day-hikes-led-by-robert-freinkel-robert-feist-ernie-castiaux-alexandra-jurasin/
LOCATION:Rock Spring #4\, Mt Tamalpais
CATEGORIES:Hike
END:VEVENT
BEGIN:VEVENT
DTSTART;VALUE=DATE:20190105
DTEND;VALUE=DATE:20190106
DTSTAMP:20260423T173324
CREATED:20181217T022412Z
LAST-MODIFIED:20191202T164144Z
UID:29949-1546646400-1546732799@www.friendsofmttam.org
SUMMARY:CANCELLED - rain ! 9:30 AM Saturday Docent Hike - Strenuous - Ferns  Led By Lizzy Silverstein
DESCRIPTION:Ferns are an important and ancient part of the lush greenery that abounds in our forests. Come learn about some of the first vascular plants dating back to the time when dinosaurs roamed the earth and beyond! Distance (mi.): 9.5 Elevation gain (ft.): 1\,992 Strenuous.
URL:https://www.friendsofmttam.org/event/930-am-saturday-docent-hike-strenuous-ferns-led-by-lizzy-silverstein/
LOCATION:Laurell Dell #2\, Mt Tamalpais
CATEGORIES:Hike
END:VEVENT
END:VCALENDAR