BEGIN:VCALENDAR
VERSION:2.0
PRODID:-//Friends of Mt Tam - ECPv6.15.18//NONSGML v1.0//EN
CALSCALE:GREGORIAN
METHOD:PUBLISH
X-WR-CALNAME:Friends of Mt Tam
X-ORIGINAL-URL:https://www.friendsofmttam.org
X-WR-CALDESC:Events for Friends of Mt Tam
REFRESH-INTERVAL;VALUE=DURATION:PT1H
X-Robots-Tag:noindex
X-PUBLISHED-TTL:PT1H
BEGIN:VTIMEZONE
TZID:America/Los_Angeles
BEGIN:DAYLIGHT
TZOFFSETFROM:-0800
TZOFFSETTO:-0700
TZNAME:PDT
DTSTART:20180311T100000
END:DAYLIGHT
BEGIN:STANDARD
TZOFFSETFROM:-0700
TZOFFSETTO:-0800
TZNAME:PST
DTSTART:20181104T090000
END:STANDARD
BEGIN:DAYLIGHT
TZOFFSETFROM:-0800
TZOFFSETTO:-0700
TZNAME:PDT
DTSTART:20190310T100000
END:DAYLIGHT
BEGIN:STANDARD
TZOFFSETFROM:-0700
TZOFFSETTO:-0800
TZNAME:PST
DTSTART:20191103T090000
END:STANDARD
BEGIN:DAYLIGHT
TZOFFSETFROM:-0800
TZOFFSETTO:-0700
TZNAME:PDT
DTSTART:20200308T100000
END:DAYLIGHT
BEGIN:STANDARD
TZOFFSETFROM:-0700
TZOFFSETTO:-0800
TZNAME:PST
DTSTART:20201101T090000
END:STANDARD
END:VTIMEZONE
BEGIN:VEVENT
DTSTART;VALUE=DATE:20190330
DTEND;VALUE=DATE:20190331
DTSTAMP:20260425T073633
CREATED:20190225T180304Z
LAST-MODIFIED:20191202T164147Z
UID:32558-1553904000-1553990399@www.friendsofmttam.org
SUMMARY:9:30 AM Saturday Interpretive Hike - Moderate - Discover the Redwoods Led By Eileen Bai
DESCRIPTION:Every Saturday at 9:30am from Pantoll Trailhead.  \n“Discover the Redwoods ” with Park Interpretive Specialist Eileen Bai.  \nLet’s take some time to study the Coast Redwoods. On this hike we’ll discuss the important role Coast Redwoods have played throughout California’s history. We’ll learn how their biological processes have informed how we value these trees today and what role they will play for future generations.  \nDistance: 3.2 miles\, 712 ft elevation gain\, Moderate.
URL:https://www.friendsofmttam.org/event/930-am-saturday-interpretive-hike-moderate-discover-the-redwoods-led-by-eileen-bai-11/
CATEGORIES:Hike
END:VEVENT
BEGIN:VEVENT
DTSTART;VALUE=DATE:20190330
DTEND;VALUE=DATE:20190331
DTSTAMP:20260425T073633
CREATED:20190224T221609Z
LAST-MODIFIED:20190225T164827Z
UID:32490-1553904000-1553990399@www.friendsofmttam.org
SUMMARY:9:30 AM Saturday Interpretive Hike - Moderate - Discover the Redwoods Led By Eileen Bai
DESCRIPTION:Every Saturday at 9:30am from Pantoll Trailhead.  \n“Discover the Redwoods ” with Park Interpretive Specialist Eileen Bai.  \nLet’s take some time to study the Coast Redwoods. On this hike we’ll discuss the important role Coast Redwoods have played throughout California’s history. We’ll learn how their biological processes have informed how we value these trees today and what role they will play for future generations.  \nDistance: 3.2 miles\, 712 ft elevation gain\, Moderate.
URL:https://www.friendsofmttam.org/event/930-am-saturday-interpretive-hike-moderate-discover-the-redwoods-led-by-eileen-bai-4/
CATEGORIES:Hike
END:VEVENT
BEGIN:VEVENT
DTSTART;VALUE=DATE:20190330
DTEND;VALUE=DATE:20190331
DTSTAMP:20260425T073633
CREATED:20181217T022414Z
LAST-MODIFIED:20191202T164147Z
UID:29968-1553904000-1553990399@www.friendsofmttam.org
SUMMARY:CANCELLED 9:30 AM Saturday Docent Hike - Strenuous - Mt Tam History  Led By Karen Ulring
DESCRIPTION:CANCELLED\nDocent Karen Ulring cannot cover. \nDiscover the history of Frank Valley and the Banducci Farms. Distance: 8.9 Elevation gain: 1\,384 ft. Strenuous.
URL:https://www.friendsofmttam.org/event/930-am-saturday-docent-hike-strenuous-mt-tam-history-led-by-karen-ulring/
LOCATION:Hwy#1/Muir Woods Rd #15\, Mt Tamalpais
CATEGORIES:Hike
END:VEVENT
BEGIN:VEVENT
DTSTART;VALUE=DATE:20190324
DTEND;VALUE=DATE:20190325
DTSTAMP:20260425T073633
CREATED:20181217T022414Z
LAST-MODIFIED:20191202T164147Z
UID:29966-1553385600-1553471999@www.friendsofmttam.org
SUMMARY:9:30 AM Sunday Docent Hike - Moderately Strenuous - Coastal Wildflowers  Led By Franklin Young
DESCRIPTION:Join us in our search for wildflowers both along the Coast and inland Distance: 6.3 Elevation gain: 1\,106 ft. Moderately strenuous.
URL:https://www.friendsofmttam.org/event/930-am-sunday-docent-hike-moderately-strenuous-coastal-wildflowers-led-by-franklin-young/
LOCATION:Pantoll #9\, Mt Tamalpais
CATEGORIES:Hike
END:VEVENT
BEGIN:VEVENT
DTSTART;VALUE=DATE:20190323
DTEND;VALUE=DATE:20190324
DTSTAMP:20260425T073633
CREATED:20190225T180303Z
LAST-MODIFIED:20191202T164147Z
UID:32557-1553299200-1553385599@www.friendsofmttam.org
SUMMARY:9:30 AM Saturday Interpretive Hike - Moderate - Discover the Redwoods Led By Eileen Bai
DESCRIPTION:Every Saturday at 9:30am from Pantoll Trailhead.  \n“Discover the Redwoods ” with Park Interpretive Specialist Eileen Bai.  \nLet’s take some time to study the Coast Redwoods. On this hike we’ll discuss the important role Coast Redwoods have played throughout California’s history. We’ll learn how their biological processes have informed how we value these trees today and what role they will play for future generations.  \nDistance: 3.2 miles\, 712 ft elevation gain\, Moderate.
URL:https://www.friendsofmttam.org/event/930-am-saturday-interpretive-hike-moderate-discover-the-redwoods-led-by-eileen-bai-10/
CATEGORIES:Hike
END:VEVENT
BEGIN:VEVENT
DTSTART;VALUE=DATE:20190323
DTEND;VALUE=DATE:20190324
DTSTAMP:20260425T073633
CREATED:20190224T221608Z
LAST-MODIFIED:20190225T164826Z
UID:32489-1553299200-1553385599@www.friendsofmttam.org
SUMMARY:9:30 AM Saturday Interpretive Hike - Moderate - Discover the Redwoods Led By Eileen Bai
DESCRIPTION:Every Saturday at 9:30am from Pantoll Trailhead.  \n“Discover the Redwoods ” with Park Interpretive Specialist Eileen Bai.  \nLet’s take some time to study the Coast Redwoods. On this hike we’ll discuss the important role Coast Redwoods have played throughout California’s history. We’ll learn how their biological processes have informed how we value these trees today and what role they will play for future generations.  \nDistance: 3.2 miles\, 712 ft elevation gain\, Moderate.
URL:https://www.friendsofmttam.org/event/930-am-saturday-interpretive-hike-moderate-discover-the-redwoods-led-by-eileen-bai-3/
CATEGORIES:Hike
END:VEVENT
BEGIN:VEVENT
DTSTART;VALUE=DATE:20190323
DTEND;VALUE=DATE:20190324
DTSTAMP:20260425T073633
CREATED:20181217T022414Z
LAST-MODIFIED:20191202T164147Z
UID:29965-1553299200-1553385599@www.friendsofmttam.org
SUMMARY:9:30 AM Saturday Docent Hike - Moderately Strenuous - Meet Owlivia and Barnaby  Led By Franklin Young
DESCRIPTION:Enjoy great mountain and ocean views on our way to meet Ocean Riders located in the Golden Gate Dairy Ranch. Their programs include building developmental and leadership skills thru horses. They have been also caring for a owl couple in their barn: Owlivia and Barnaby and their chicks. Distance: 7.6 Elevation gain: 1\,352 ft. Moderately strenuous.
URL:https://www.friendsofmttam.org/event/930-am-saturday-docent-hike-moderately-strenuous-meet-owlivia-and-barnaby-led-by-franklin-young/
LOCATION:Dias Ridge #12\, Mt Tamalpais
CATEGORIES:Hike
END:VEVENT
BEGIN:VEVENT
DTSTART;VALUE=DATE:20190317
DTEND;VALUE=DATE:20190318
DTSTAMP:20260425T073633
CREATED:20190504T053533Z
LAST-MODIFIED:20190510T194344Z
UID:37317-1552780800-1552867199@www.friendsofmttam.org
SUMMARY:11-4 VC: Kit Murphy & Debra Brody
DESCRIPTION:
URL:https://www.friendsofmttam.org/event/11-4-vc-kit-murphy-debra-brody-32/
CATEGORIES:Visitor Center
END:VEVENT
BEGIN:VEVENT
DTSTART;VALUE=DATE:20190317
DTEND;VALUE=DATE:20190318
DTSTAMP:20260425T073633
CREATED:20181217T022413Z
LAST-MODIFIED:20191202T164147Z
UID:29964-1552780800-1552867199@www.friendsofmttam.org
SUMMARY:9:30 AM Sunday Docent Hike - Moderately Strenuous - Health and Happiness  Led By Tracy Stuar
DESCRIPTION:Enjoy your endorphine high and share it with other hikers while exploring a landscape of Ferns\, Sargetn Cypress trees\, Serpentine Rock\, Douglas Fir and free flowing creeks. Distance: 5.9 Elevation gain: 988 ft. Moderately strenuous.
URL:https://www.friendsofmttam.org/event/930-am-sunday-docent-hike-moderately-strenuous-health-and-happiness-led-by-tracy-stuar/
LOCATION:Rock Spring #4\, Mt Tamalpais
CATEGORIES:Hike
END:VEVENT
BEGIN:VEVENT
DTSTART;VALUE=DATE:20190316
DTEND;VALUE=DATE:20190317
DTSTAMP:20260425T073633
CREATED:20190225T180303Z
LAST-MODIFIED:20191202T164146Z
UID:32556-1552694400-1552780799@www.friendsofmttam.org
SUMMARY:9:30 AM Saturday Interpretive Hike - Moderate - Discover the Redwoods Led By Eileen Bai
DESCRIPTION:Every Saturday at 9:30am from Pantoll Trailhead.  \n“Discover the Redwoods ” with Park Interpretive Specialist Eileen Bai.  \nLet’s take some time to study the Coast Redwoods. On this hike we’ll discuss the important role Coast Redwoods have played throughout California’s history. We’ll learn how their biological processes have informed how we value these trees today and what role they will play for future generations.  \nDistance: 3.2 miles\, 712 ft elevation gain\, Moderate.
URL:https://www.friendsofmttam.org/event/930-am-saturday-interpretive-hike-moderate-discover-the-redwoods-led-by-eileen-bai-9/
CATEGORIES:Hike
END:VEVENT
BEGIN:VEVENT
DTSTART;VALUE=DATE:20190316
DTEND;VALUE=DATE:20190317
DTSTAMP:20260425T073633
CREATED:20190224T221608Z
LAST-MODIFIED:20190225T164826Z
UID:32487-1552694400-1552780799@www.friendsofmttam.org
SUMMARY:9:30 AM Saturday Interpretive Hike - Moderate - Discover the Redwoods Led By Eileen Bai
DESCRIPTION:Every Saturday at 9:30am from Pantoll Trailhead.  \n“Discover the Redwoods ” with Eileen Bai.  \nLet’s take some time to study the Coast Redwoods. On this hike we’ll discuss the important role Coast Redwoods have played throughout California’s history. We’ll learn how their biological processes have informed how we value these trees today and what role they will play for future generations.  \nDistance: 3.2 miles\, 712 ft elevation gain\, Moderate.
URL:https://www.friendsofmttam.org/event/930-am-saturday-interpretive-hike-moderate-discover-the-redwoods-led-by-eileen-bai/
CATEGORIES:Hike
END:VEVENT
BEGIN:VEVENT
DTSTART;VALUE=DATE:20190316
DTEND;VALUE=DATE:20190317
DTSTAMP:20260425T073633
CREATED:20190224T221608Z
LAST-MODIFIED:20190225T164826Z
UID:32488-1552694400-1552780799@www.friendsofmttam.org
SUMMARY:9:30 AM Saturday Interpretive Hike - Moderate - Discover the Redwoods Led By Eileen Bai
DESCRIPTION:Every Saturday at 9:30am from Pantoll Trailhead.  \n“Discover the Redwoods ” with Park Interpretive Specialist Eileen Bai.  \nLet’s take some time to study the Coast Redwoods. On this hike we’ll discuss the important role Coast Redwoods have played throughout California’s history. We’ll learn how their biological processes have informed how we value these trees today and what role they will play for future generations.  \nDistance: 3.2 miles\, 712 ft elevation gain\, Moderate.
URL:https://www.friendsofmttam.org/event/930-am-saturday-interpretive-hike-moderate-discover-the-redwoods-led-by-eileen-bai-2/
CATEGORIES:Hike
END:VEVENT
BEGIN:VEVENT
DTSTART;VALUE=DATE:20190316
DTEND;VALUE=DATE:20190317
DTSTAMP:20260425T073633
CREATED:20190104T021652Z
LAST-MODIFIED:20191202T164146Z
UID:30055-1552694400-1552780799@www.friendsofmttam.org
SUMMARY:9:30 AM Saturday Docent Hike - Strenuous - Meditations in Nature  Led By Rosalind Gottfried
DESCRIPTION:Saturday March 16 at 9:30am from Stinson Beach trailhead.  \n“Meditations in Nature” with Rosalind Gottfried . We will stop to appreciate\, and meditate on\, the sounds and smells of the trails\, particularly the Steep Ravine trail\, and admire the ocean views from the Matt Davis trail.  \nDistance: 6.9 Elevation gain: 1\,804 ft. Strenuous.
URL:https://www.friendsofmttam.org/event/hike-rosalind-gottfried-4/
CATEGORIES:Hike
END:VEVENT
BEGIN:VEVENT
DTSTART;VALUE=DATE:20190310
DTEND;VALUE=DATE:20190311
DTSTAMP:20260425T073633
CREATED:20181217T022413Z
LAST-MODIFIED:20191202T164146Z
UID:29963-1552176000-1552262399@www.friendsofmttam.org
SUMMARY:CANCELLED 9:30 AM Sunday Docent Hike - Moderate - Owls  Led By Joan Lamphier
DESCRIPTION:CANNCELLED RAIN\nDiscuss owls on the Mountain – Spotted Owl history and concerns Distance: 4.2 Elevation gain: 584 ft. Moderate.
URL:https://www.friendsofmttam.org/event/930-am-sunday-docent-hike-moderate-owls-led-by-joan-lamphier/
LOCATION:Pantoll #9\, Mt Tamalpais
CATEGORIES:Hike
END:VEVENT
BEGIN:VEVENT
DTSTART;TZID=America/Los_Angeles:20190309T090000
DTEND;TZID=America/Los_Angeles:20190309T123000
DTSTAMP:20260425T073633
CREATED:20190118T063045Z
LAST-MODIFIED:20190516T003831Z
UID:30114-1552122000-1552134600@www.friendsofmttam.org
SUMMARY:FMT Annual Meeting 9am - Alpine Club
DESCRIPTION:FMT Annual Meeting
URL:https://www.friendsofmttam.org/event/fmt-annual-meeting-9am-alpine-club/
LOCATION:California Alpine Club\, 730 Panoramic Hwy\, Mill Valley\, CA 94941\, USA\, 2 Panoramic Hwy\, United States
CATEGORIES:Other
END:VEVENT
BEGIN:VEVENT
DTSTART;VALUE=DATE:20190309
DTEND;VALUE=DATE:20190310
DTSTAMP:20260425T073633
CREATED:20190104T021652Z
LAST-MODIFIED:20191202T164146Z
UID:30054-1552089600-1552175999@www.friendsofmttam.org
SUMMARY:9:30 AM Saturday Docent Hike - Moderate - Redwoods Led By Santi Abascal
DESCRIPTION:Saturday March 9 at 9:30 from Mt Home trailhead.  \n“Redwoods” with docent Santi Abascal. From second growth to old growth and back up again\, we will walk among magnificent redwood trees and discuss some of their amazing qualities.  \nDistance: 4.7 miles. Elevation gain: 906 ft. Moderate.
URL:https://www.friendsofmttam.org/event/hike-santi-abascal-2/
CATEGORIES:Hike
END:VEVENT
BEGIN:VEVENT
DTSTART;VALUE=DATE:20190303
DTEND;VALUE=DATE:20190304
DTSTAMP:20260425T073633
CREATED:20181217T022413Z
LAST-MODIFIED:20191202T164146Z
UID:29962-1551571200-1551657599@www.friendsofmttam.org
SUMMARY:CANCELLED 9:30 AM Sunday Docent Hike - Moderate - Redwoods  Led By Nancy Benjamin
DESCRIPTION:CANCELLED \nHike into Muir Woods and learn about the important part redwood trees play to mitigate climate change and the current health of Mt. Tam’s redwoods. Distance: 3.7 Elevation gain: 876 ft. Moderate.
URL:https://www.friendsofmttam.org/event/930-am-sunday-docent-hike-moderate-redwoods-led-by-nancy-benjamin/
LOCATION:Mt Home #11\, Mt Tamalpais
CATEGORIES:Hike
END:VEVENT
BEGIN:VEVENT
DTSTART;VALUE=DATE:20190302
DTEND;VALUE=DATE:20190303
DTSTAMP:20260425T073633
CREATED:20181217T022413Z
LAST-MODIFIED:20191202T164146Z
UID:29961-1551484800-1551571199@www.friendsofmttam.org
SUMMARY:CANCELLED (Rain) 9:30 AM Saturday Docent Hike - Strenuous - Trees  Led By Maria de la Fuente
DESCRIPTION:We will discuss strength and balance in nature. We all need strength and balance to live a good life and we can find some great examples and similarities in nature. Let?s hike and find some meaningful connections between us and the surrounding trees. Distance: 6.9 Elevation gain: 1\,804 ft. Strenuous.
URL:https://www.friendsofmttam.org/event/930-am-saturday-docent-hike-strenuous-trees-led-by-maria-de-la-fuente/
LOCATION:Stinson Beach #17\, Mt Tamalpais
CATEGORIES:Hike
END:VEVENT
BEGIN:VEVENT
DTSTART;VALUE=DATE:20190224
DTEND;VALUE=DATE:20190225
DTSTAMP:20260425T073633
CREATED:20181217T022413Z
LAST-MODIFIED:20191202T164146Z
UID:29960-1550966400-1551052799@www.friendsofmttam.org
SUMMARY:9:30 AM Sunday Moderate Hike "Redwoods" - from Pantoll - Led by Eileen Bai
DESCRIPTION:“Discover the State Tree (Coast Redwood)” with Eileen Bai.\nLet’s take some time to study the redwoods. On this hike we’ll observe some of the biological characteristics of the Coast Redwood and understand how they connect to their evolutionary processes. We’ll discover what important role these trees play for our current and future generations.  \nDistance: 3.2 miles\, 712 ft elevation gain\, moderate hike.
URL:https://www.friendsofmttam.org/event/930-am-sunday-docent-hike-moderately-strenuous-mountain-peaks-led-by-robert-freinkel/
LOCATION:Rock Spring #4\, Mt Tamalpais
CATEGORIES:Hike
END:VEVENT
BEGIN:VEVENT
DTSTART;VALUE=DATE:20190223
DTEND;VALUE=DATE:20190224
DTSTAMP:20260425T073633
CREATED:20190104T021652Z
LAST-MODIFIED:20191202T164146Z
UID:30053-1550880000-1550966399@www.friendsofmttam.org
SUMMARY:9:30 AM Saturday Docent Hike - Strenuous - Mt Tam History  Led By Robert Feist
DESCRIPTION:Saturday\, February 23 at 9:30am from East Peak trailhead.  \n“Mt Tam History” with docent Robert Feist. Treat yourself to the majestic views atop Mt Tamalpais at East Peak! Further enjoyment assured by the changing vistas as we descend the south side of the mountain.  We’ll then head back up the mountain past Mt Theatre\, West Point Inn and the Tavern Pump House to our return at East Peak – great views\, historic landmarks and varied terrain offered in this late February hike!  \nDistance: 9.1 miles. Elevation gain: 1\,821 ft. Strenuous.
URL:https://www.friendsofmttam.org/event/hike-robert-feist/
CATEGORIES:Hike
END:VEVENT
BEGIN:VEVENT
DTSTART;VALUE=DATE:20190217
DTEND;VALUE=DATE:20190218
DTSTAMP:20260425T073633
CREATED:20181217T022413Z
LAST-MODIFIED:20191202T164146Z
UID:29959-1550361600-1550447999@www.friendsofmttam.org
SUMMARY:11 AM Sunday Docent Hike - Strenuous -"Trees"  Led By Catherine Orland
DESCRIPTION:Trailhead: BOOTJACK @11am – keep posted \nLearn about the trees on Mt. Tam.  Strenuous.Rain will cancel.
URL:https://www.friendsofmttam.org/event/930-am-sunday-docent-hike-strenuous-mt-tam-history-led-by-karen-ulring/
LOCATION:Pantoll #9\, Mt Tamalpais
CATEGORIES:Hike
END:VEVENT
BEGIN:VEVENT
DTSTART;VALUE=DATE:20190216
DTEND;VALUE=DATE:20190217
DTSTAMP:20260425T073633
CREATED:20181217T022413Z
LAST-MODIFIED:20191202T164145Z
UID:29958-1550275200-1550361599@www.friendsofmttam.org
SUMMARY:CANCELLED 9:30 AM Saturday Docent Hike - Moderate - Mindfulness in Nature  Led By Alexandra Jurasin
DESCRIPTION:Explore your senses in nature while being guided through mindfulness practices. Finish the hike feeling like you’ve just had a cleansing shower for your mind. Distance: 4.1 Elevation gain: 741 ft. Moderate.
URL:https://www.friendsofmttam.org/event/930-am-saturday-docent-hike-moderate-mindfulness-in-nature-led-by-alexandra-jurasin/
LOCATION:Rock Spring #4\, Mt Tamalpais
CATEGORIES:Hike
END:VEVENT
BEGIN:VEVENT
DTSTART;VALUE=DATE:20190209
DTEND;VALUE=DATE:20190210
DTSTAMP:20260425T073633
CREATED:20181217T022413Z
LAST-MODIFIED:20191202T164145Z
UID:29957-1549670400-1549756799@www.friendsofmttam.org
SUMMARY:CANCELLED (RAIN) - 9:30 AM Saturday Docent Hike - Easy - Who Was Verna Dunshee?  Led By Nancy Benjamin
DESCRIPTION:Short history hike .7 mile loop around East Peak\, and optional hike to the Fire lookout at Mt Tam East Peak summit. Distance: 1 Elevation gain: 223 ft. Easy.
URL:https://www.friendsofmttam.org/event/930-am-saturday-docent-hike-easy-who-was-verna-dunshee-led-by-nancy-benjamin/
LOCATION:Verna Dunshee Trail Trailhead – East Peak #8\, Mt Tamalpais
CATEGORIES:Hike
END:VEVENT
BEGIN:VEVENT
DTSTART;VALUE=DATE:20190203
DTEND;VALUE=DATE:20190204
DTSTAMP:20260425T073633
CREATED:20181217T022413Z
LAST-MODIFIED:20191202T164145Z
UID:29955-1549152000-1549238399@www.friendsofmttam.org
SUMMARY:9:30 AM Sunday Docent Hike - Strenuous - Ragin' Cataracts  Led By Brendan Hicke
DESCRIPTION:Pretty ambitious loop around Middle Peak with some south side exposure on the descent and what we hope to be a rockin’ water show along Cataract before returning through fir\, madrone\, oaks and bay laurel on the north side. ~ 8miles\, 1200′ elevation gain Distance: 8.6 Elevation gain: 1\,447 ft. Strenuous.
URL:https://www.friendsofmttam.org/event/930-am-sunday-docent-hike-strenuous-ragin-cataracts-led-by-brendan-hicke/
LOCATION:E. Ridgecrest Blvd&Miller #19\, Mt Tamalpais
CATEGORIES:Hike
END:VEVENT
BEGIN:VEVENT
DTSTART;VALUE=DATE:20190202
DTEND;VALUE=DATE:20190203
DTSTAMP:20260425T073633
CREATED:20181217T022413Z
LAST-MODIFIED:20191202T164145Z
UID:29954-1549065600-1549151999@www.friendsofmttam.org
SUMMARY:CANCELLED (RAIN)9:30 AM Saturday Docent Hike - Strenuous - Redwood Trees  Led By Maria de la Fuente
DESCRIPTION:CANCELLED (RAIN) \nWe will discuss strength and balance in nature. We all need strength and balance to live a good life and we can find some great examples and similarities in nature. Let?s hike and find some meaningful connections between us and the surrounding trees. Distance: 8.4 Elevation gain: 1\,965 ft. Strenuous.
URL:https://www.friendsofmttam.org/event/930-am-saturday-docent-hike-strenuous-redwood-trees-led-by-maria-de-la-fuente/
LOCATION:Bootjack #10\, Mt Tamalpais
CATEGORIES:Hike
END:VEVENT
BEGIN:VEVENT
DTSTART;VALUE=DATE:20190127
DTEND;VALUE=DATE:20190128
DTSTAMP:20260425T073633
CREATED:20190104T021651Z
LAST-MODIFIED:20191202T164145Z
UID:30052-1548547200-1548633599@www.friendsofmttam.org
SUMMARY:9:30 AM Sunday Docent Hike - Strenuous - Meditations in Nature  Led By Rosalind Gottfried
DESCRIPTION:Sunday January 27 at 9:30am from Stinson Beach trailhead.  \n“Meditations in Nature” with Rosalind Gottfried . We will stop to appreciate\, and meditate on\, the sounds and smells of the trails\, particularly the Steep Ravine trail\, and admire the ocean views from the Matt Davis trail.  \nDistance: 6.9 Elevation gain: 1\,804 ft. Strenuous.
URL:https://www.friendsofmttam.org/event/hike-rosalind-gottfried-3/
CATEGORIES:Hike
END:VEVENT
BEGIN:VEVENT
DTSTART;VALUE=DATE:20190126
DTEND;VALUE=DATE:20190127
DTSTAMP:20260425T073633
CREATED:20181217T022412Z
LAST-MODIFIED:20191202T164145Z
UID:29953-1548460800-1548547199@www.friendsofmttam.org
SUMMARY:9:30 AM Saturday Docent Hike - Moderately Strenuous - Microclimates and Flora  Led By Robert Freinkel
DESCRIPTION:Meet at Rock Spring; assess local oak species mixtures. Explore area trails of differing topography. Experience variances in plant life along trails. Distance: 6 Elevation gain: 1\,263 ft. Moderately strenuous.
URL:https://www.friendsofmttam.org/event/930-am-saturday-docent-hike-moderately-strenuous-microclimates-and-flora-led-by-robert-freinkel/
LOCATION:Rock Spring #4\, Mt Tamalpais
CATEGORIES:Hike
END:VEVENT
BEGIN:VEVENT
DTSTART;VALUE=DATE:20190121
DTEND;VALUE=DATE:20190122
DTSTAMP:20260425T073633
CREATED:20181217T022412Z
LAST-MODIFIED:20191202T164144Z
UID:29952-1548028800-1548115199@www.friendsofmttam.org
SUMMARY:9:30 AM Monday Docent Hike - Moderate - Water  Led By Joan Lamphier
DESCRIPTION:Look at the water in different creeks and notice how they sound – listening to the forest. Distance: 4.2 Elevation gain: 584 ft. Moderate.
URL:https://www.friendsofmttam.org/event/930-am-monday-docent-hike-moderate-water-led-by-joan-lamphier/
LOCATION:Pantoll #9\, Mt Tamalpais
CATEGORIES:Hike
END:VEVENT
BEGIN:VEVENT
DTSTART;VALUE=DATE:20190120
DTEND;VALUE=DATE:20190121
DTSTAMP:20260425T073633
CREATED:20190104T021651Z
LAST-MODIFIED:20191202T164144Z
UID:30051-1547942400-1548028799@www.friendsofmttam.org
SUMMARY:CANCELLED - 9:30 AM Sunday Docent Hike - Moderate - Wildflowers  Led By Santi Abascal
DESCRIPTION:CANCELLED – RAIN AND CHANCE OF THUNDERSTORMS \nSunday January 20 at 9:30 from Rock Spring trailhead.  \n“Wildflowers” with docent Santi Abascal. —It is winter\, but as daylight becomes longer there will be some first bloomers here and there. Let’s have a walk along the upper part of the Redwood Creek watershed and discover which plants are blooming along with enjoying some great winter views of the Bay Area.  \nDistance: 4.9 miles. Elevation gain: 846ft. Moderate.
URL:https://www.friendsofmttam.org/event/hike-santi-abascal/
CATEGORIES:Hike
END:VEVENT
BEGIN:VEVENT
DTSTART;VALUE=DATE:20190113
DTEND;VALUE=DATE:20190114
DTSTAMP:20260425T073633
CREATED:20181217T022412Z
LAST-MODIFIED:20191202T164144Z
UID:29951-1547337600-1547423999@www.friendsofmttam.org
SUMMARY:9:30 AM Sunday Docent Hike - Moderately Strenuous - The Watershed  Led By Brendan Hickey
DESCRIPTION:Long\, quiet\, wet hike on the northside of the ridgeon Water District lands. Distance: 6.4 Elevation gain: 1\,405 ft. Moderately strenuous.
URL:https://www.friendsofmttam.org/event/930-am-sunday-docent-hike-moderately-strenuous-the-watershed-led-by-brendan-hickey/
LOCATION:Quarry Parking Lot #6\, Mt Tamalpais
CATEGORIES:Hike
END:VEVENT
END:VCALENDAR