BEGIN:VCALENDAR
VERSION:2.0
PRODID:-//Friends of Mt Tam - ECPv6.15.18//NONSGML v1.0//EN
CALSCALE:GREGORIAN
METHOD:PUBLISH
X-WR-CALNAME:Friends of Mt Tam
X-ORIGINAL-URL:https://www.friendsofmttam.org
X-WR-CALDESC:Events for Friends of Mt Tam
REFRESH-INTERVAL;VALUE=DURATION:PT1H
X-Robots-Tag:noindex
X-PUBLISHED-TTL:PT1H
BEGIN:VTIMEZONE
TZID:America/Los_Angeles
BEGIN:DAYLIGHT
TZOFFSETFROM:-0800
TZOFFSETTO:-0700
TZNAME:PDT
DTSTART:20180311T100000
END:DAYLIGHT
BEGIN:STANDARD
TZOFFSETFROM:-0700
TZOFFSETTO:-0800
TZNAME:PST
DTSTART:20181104T090000
END:STANDARD
BEGIN:DAYLIGHT
TZOFFSETFROM:-0800
TZOFFSETTO:-0700
TZNAME:PDT
DTSTART:20190310T100000
END:DAYLIGHT
BEGIN:STANDARD
TZOFFSETFROM:-0700
TZOFFSETTO:-0800
TZNAME:PST
DTSTART:20191103T090000
END:STANDARD
BEGIN:DAYLIGHT
TZOFFSETFROM:-0800
TZOFFSETTO:-0700
TZNAME:PDT
DTSTART:20200308T100000
END:DAYLIGHT
BEGIN:STANDARD
TZOFFSETFROM:-0700
TZOFFSETTO:-0800
TZNAME:PST
DTSTART:20201101T090000
END:STANDARD
END:VTIMEZONE
BEGIN:VEVENT
DTSTART;VALUE=DATE:20190505
DTEND;VALUE=DATE:20190506
DTSTAMP:20260424T001152
CREATED:20190509T185555Z
LAST-MODIFIED:20191202T164149Z
UID:37498-1557014400-1557100799@www.friendsofmttam.org
SUMMARY:9:30am Strenuous Hike with K. Ulring
DESCRIPTION:Time: 9:30 AMTrailhead: Pantoll Parking Lot Trailhead \nFitness hike with docent Karen Ulring. This is a gorgeous loop hike on the west side of Mt Tam. We’ll focus on Matt Davis and his contributions to MTSP.  Wonderful views and a trillium bonanza hiking up Steep Ravine. \nDistance: 6.9 miles. Elevation gain: 1808 ft. Strenuous. \nWhat to bring: Come prepared. Wear good hiking shoes/boots. Bring plenty of water\, lunch and snacks. Hiking poles are recommended on this mountain. \nParticipation: Hikes are limited to 20 people per leader. First come\, first serve. Be on time to allow for parking and meeting with your group. No entrance fee. No pets (unless otherwise specified). \nCancellation policy: Rain or winds above 30 mph will cancel. \nParking: Pantoll\, Bootjack\, and East Peak trailheads require an $8 parking fee (exact change or check).
URL:https://www.friendsofmttam.org/event/930am-strenuous-hike-with-k-ulring/
CATEGORIES:Hike
END:VEVENT
BEGIN:VEVENT
DTSTART;VALUE=DATE:20190508
DTEND;VALUE=DATE:20190509
DTSTAMP:20260424T001152
CREATED:20190509T185555Z
LAST-MODIFIED:20191202T164149Z
UID:37499-1557273600-1557359999@www.friendsofmttam.org
SUMMARY:5:30pm Moderate Hike with S. Karp
DESCRIPTION:Time: 5:30 PMTrailhead: Pantoll Parking Lot Trailhead. \nFitness Hike with docent Sue Karp. Details TBD. \nDistance: TBD milesElevation gain: TBD ft.Moderate. \nWhat to bring: Come prepared. Wear good hiking shoes/boots. Bring plenty of water\, lunch and snacks. Hiking poles are recommended on this mountain. \nParticipation: Hikes are limited to 20 people per leader. First come\, first serve. Be on time to allow for parking and meeting with your group. No entrance fee. No pets (unless otherwise specified). \nCancellation policy: Rain or winds above 30 mph will cancel. \nParking: Pantoll\, Bootjack\, and East Peak trailheads require an $8 parking fee (exact change or check).
URL:https://www.friendsofmttam.org/event/530pm-moderate-hike-with-s-karp/
CATEGORIES:Hike
END:VEVENT
BEGIN:VEVENT
DTSTART;VALUE=DATE:20190511
DTEND;VALUE=DATE:20190512
DTSTAMP:20260424T001152
CREATED:20190509T185555Z
LAST-MODIFIED:20191202T164149Z
UID:37500-1557532800-1557619199@www.friendsofmttam.org
SUMMARY:9:30am Moderately Strenuous Hike with R. Freinkel
DESCRIPTION:Time: 9:30 AMTrailhead: Rock Spring Trailhead \nFitness hike with docent Robert Freinkel. Awareness of topography of Mt Tamalpais.  Variable microclimates exploration.  Explore drainage of streams on the mountain. \nDistance: 6.2 miles. Elevation gain: 992 ft. Moderately Strenuous.What to bring: Come prepared. Wear good hiking shoes/boots. Bring plenty of water\, lunch and snacks. Hiking poles are recommended on this mountain. \nParticipation: Hikes are limited to 20 people per leader. First come\, first serve. Be on time to allow for parking and meeting with your group. No entrance fee. No pets (unless otherwise specified). \nCancellation policy: Rain or winds above 30 mph will cancel. \nParking: Pantoll\, Bootjack\, and East Peak trailheads require an $8 parking fee (exact change or check).
URL:https://www.friendsofmttam.org/event/930am-moderately-strenuous-hike-with-r-freinkel/
CATEGORIES:Hike
END:VEVENT
BEGIN:VEVENT
DTSTART;TZID=America/Los_Angeles:20190511T200000
DTEND;TZID=America/Los_Angeles:20190511T223000
DTSTAMP:20260424T001152
CREATED:20190326T163156Z
LAST-MODIFIED:20190516T001921Z
UID:34468-1557604800-1557613800@www.friendsofmttam.org
SUMMARY:Astronomy Nights - The Largest 3D Maps of Our Universe
DESCRIPTION:The Largest 3D Maps of Our Universe\nDr. Josh Dillon\, Post-Doctoral Researcher\, Astronomy Department\, UC Berkeley\nThe last century has seen a revolution in our understanding of the cosmos\, including its age—13.8 billion years—and content: 95% dark matter & dark energy; 5% normal matter! To test cosmology theories and to grasp how stars and galaxies formed\, UC Berkeley collaborates world-wide to make huge 3D maps of hydrogen\, the most abundant cosmic element \nFor directions and more information   http://www.friendsofmttam.org/astronomy.html
URL:https://www.friendsofmttam.org/event/astronomy-nights-the-largest-3d-maps-of-our-universe/
LOCATION:Mt Theater\, Mt Tam State Park\, Mill Valley\, CA\, 2 Park Ter\, United States
CATEGORIES:Astronomy
END:VEVENT
BEGIN:VEVENT
DTSTART;VALUE=DATE:20190512
DTEND;VALUE=DATE:20190513
DTSTAMP:20260424T001152
CREATED:20190509T185555Z
LAST-MODIFIED:20191202T164149Z
UID:37501-1557619200-1557705599@www.friendsofmttam.org
SUMMARY:9:30am "Rugged Plants of Mount Tam" Hike
DESCRIPTION:Time: 9:30 AMTrailhead: Mtn Home Trailhead. \n“Rugged Plants of Mount Tam” interpretive hike with docent Lizzy Silverstein.Identify and learn about chamise\, manzanita\, chinquapin\, toyon\, coffeeberry\, madrone\, chamise\, yerba santa\, and golden fleece. Come away with a better understanding of how these plants effect Mount Tam and were used by indigenous people. \nDistance: 4.9 milesElevation gain: 2136 ftModerately Strenuous. \nWhat to bring: Come prepared. Wear good hiking shoes/boots. Bring plenty of water\, lunch and snacks. Hiking poles are recommended on this mountain. \nParticipation: Hikes are limited to 20 people per leader. First come\, first serve. Be on time to allow for parking and meeting with your group. No entrance fee. No pets (unless otherwise specified). \nCancellation policy: Rain or winds above 30 mph will cancel. \nParking: Pantoll\, Bootjack\, and East Peak trailheads require an $8 parking fee (exact change or check).
URL:https://www.friendsofmttam.org/event/930am-rugged-plants-of-mount-tam-hike/
CATEGORIES:Hike
END:VEVENT
BEGIN:VEVENT
DTSTART;VALUE=DATE:20190515
DTEND;VALUE=DATE:20190516
DTSTAMP:20260424T001152
CREATED:20190509T185555Z
LAST-MODIFIED:20191202T164149Z
UID:37502-1557878400-1557964799@www.friendsofmttam.org
SUMMARY:5:30pm Hike -CANCELLED (Rain)
DESCRIPTION:Time: 5:30 PMTrailhead: Mtn Home Trailhead. \nFitness Hike with docent Robert Feist. Enjoy some mid-week excercise going down into Muir Woods when the crowds are less!  We’ll cross the creek over the unique “Log Bridge\,” have a snack at  the Alice Eastwood Group Camp and wind our way back to Mt Home.  Guaranteed fun and scenic sights for all! \nDistance: 3.5 milesElevation gain: 827 ft.Moderate. \nWhat to bring: Come prepared. Wear good hiking shoes/boots. Bring plenty of water\, lunch and snacks. Hiking poles are recommended on this mountain. \nParticipation: Hikes are limited to 20 people per leader. First come\, first serve. Be on time to allow for parking and meeting with your group. No entrance fee. No pets (unless otherwise specified). \nCancellation policy: Rain or winds above 30 mph will cancel. \nParking: Pantoll\, Bootjack\, and East Peak trailheads require an $8 parking fee (exact change or check).
URL:https://www.friendsofmttam.org/event/530pm-moderate-hike-with-r-feist/
CATEGORIES:Hike
END:VEVENT
BEGIN:VEVENT
DTSTART;VALUE=DATE:20190518
DTEND;VALUE=DATE:20190519
DTSTAMP:20260424T001152
CREATED:20190414T180155Z
LAST-MODIFIED:20191202T164149Z
UID:35791-1558137600-1558223999@www.friendsofmttam.org
SUMMARY:8am Mt Tam CIRCUM-AMBULATION (Save the Date)
DESCRIPTION:SAVE THE DATE!Get ready to join us for this amazing physical and mental challenge!  \nRegistration REQUIRED CLICK HERE \nOn Saturday\, May 18 @8am meet at the Mt Home parking lot for the “Mt Tam Circumambulation” with park interpreters Rosanna Petralia and Eileen Bai.  \nWe will almost faithfully retrace the steps of Gary Snyder and Allen Ginsberg’s historic circumambulation. We’ll stop at 10 inspirational locations to share poems\, stories and nature awareness. The hike is 16 miles long and requires excellent form and stamina. Pace will be 2.5 miles per hour. Challenging difficulty\, 16 miles\, 3\,000 ft. elevation gain. Please\, make sure to bring enough water&food\, and wear the right clothing. Here is a suggested list. •Things to bring: hiking poles\, water (2 liters)\, 4-6 snacks\, lunch\, water filter (optional)\, medications (if any)\, solar screen\, and sun glasses.•What to wear: layered clothing (weather/expected high temperature: TBA)\, sturdy and comfy hiking boots (with ankle support if possible)\, sun hat\, bandana.  \nDO NOT MAKE OTHER PLANS FOR THE DAY!
URL:https://www.friendsofmttam.org/event/8am-mt-tam-circum-ambulation-save-the-date/
CATEGORIES:Hike
END:VEVENT
BEGIN:VEVENT
DTSTART;VALUE=DATE:20190518
DTEND;VALUE=DATE:20190519
DTSTAMP:20260424T001152
CREATED:20190509T185555Z
LAST-MODIFIED:20191202T164149Z
UID:37503-1558137600-1558223999@www.friendsofmttam.org
SUMMARY:CANCELLED (Rain) 9:30 am "Mindfulness in Nature" Hike
DESCRIPTION:Time: 9:30 AMTrailhead: Rock Spring Trailhead \n“Mindfulness in Nature” interpretive hike with docent Alexandra Jurasin.Explore your senses in nature\, while being guided through mindfulness practices. Finish the hike feeling like you’ve just had a cleansing shower for your mind. \nDistance: 5.5 milesElevation gain: 1056 ftModerately Strenuous. \nWhat to bring: Come prepared. Wear good hiking shoes/boots. Bring plenty of water\, lunch and snacks. Hiking poles are recommended on this mountain. \nParticipation: Hikes are limited to 20 people per leader. First come\, first serve. Be on time to allow for parking and meeting with your group. No entrance fee. No pets (unless otherwise specified). \nCancellation policy: Rain or winds above 30 mph will cancel. \nParking: Pantoll\, Bootjack\, and East Peak trailheads require an $8 parking fee (exact change or check).
URL:https://www.friendsofmttam.org/event/930am-mindfulness-in-nature-hike/
CATEGORIES:Hike
END:VEVENT
BEGIN:VEVENT
DTSTART;VALUE=DATE:20190519
DTEND;VALUE=DATE:20190520
DTSTAMP:20260424T001152
CREATED:20190509T185555Z
LAST-MODIFIED:20191202T164150Z
UID:37504-1558224000-1558310399@www.friendsofmttam.org
SUMMARY:CANCELLED (Rain) 9:30am Moderate Hike with T. Stuart
DESCRIPTION:Time: 9:30 AMTrailhead: Rock Spring Trailhead \nFitness hike with docent Tracy Stuart. Fun and Adventure meeting new friends and enjoying the Mountain. DOG FRIENDLY. Guests MUST obtain a dog permit by emailing Eileen.Bai@parks.ca.gov. \n*One dog permit has been given to Jeanne Lahaie*Distance: 3.2 miles. Elevation gain: 663 ft. Moderate. \nWhat to bring: Come prepared. Wear good hiking shoes/boots. Bring plenty of water\, lunch and snacks. Hiking poles are recommended on this mountain. \nParticipation: Hikes are limited to 20 people per leader. First come\, first serve. Be on time to allow for parking and meeting with your group. No entrance fee. No pets (unless otherwise specified). \nCancellation policy: Rain or winds above 30 mph will cancel. \nParking: Pantoll\, Bootjack\, and East Peak trailheads require an $8 parking fee (exact change or check).
URL:https://www.friendsofmttam.org/event/930am-moderate-hike-with-t-stuart/
CATEGORIES:Hike
END:VEVENT
BEGIN:VEVENT
DTSTART;VALUE=DATE:20190522
DTEND;VALUE=DATE:20190523
DTSTAMP:20260424T001152
CREATED:20190509T185555Z
LAST-MODIFIED:20191202T164150Z
UID:37505-1558483200-1558569599@www.friendsofmttam.org
SUMMARY:5:30pm Moderate Hike with S. Karp
DESCRIPTION:Time: 5:30 PMTrailhead: Pantoll Parking Lot Trailhead. \nFitness Hike with docent Sue Karp. Relax into the beauty of Steep Ravine.  Enjoy the sounds of waterfalls.  Ascend through luxurious growth of trees and ferns to beautiful ocean views.    \nDistance: 3.7 milesElevation gain: 991 ft.Moderate. \nWhat to bring: Come prepared. Wear good hiking shoes/boots. Bring plenty of water\, lunch and snacks. Hiking poles are recommended on this mountain. \nParticipation: Hikes are limited to 20 people per leader. First come\, first serve. Be on time to allow for parking and meeting with your group. No entrance fee. No pets (unless otherwise specified). \nCancellation policy: Rain or winds above 30 mph will cancel. \nParking: Pantoll\, Bootjack\, and East Peak trailheads require an $8 parking fee (exact change or check).
URL:https://www.friendsofmttam.org/event/530pm-moderate-hike-with-s-karp-2/
CATEGORIES:Hike
END:VEVENT
BEGIN:VEVENT
DTSTART;VALUE=DATE:20190525
DTEND;VALUE=DATE:20190526
DTSTAMP:20260424T001152
CREATED:20190509T185556Z
LAST-MODIFIED:20191202T164150Z
UID:37506-1558742400-1558828799@www.friendsofmttam.org
SUMMARY:9:30am Moderately Strenuous Hike with F. Young
DESCRIPTION:Time: 9:30 AMTrailhead: Frank Valley Trailhead \nFitness hike with docent Franklin Young. Learn more about late wildflowers while enjoying great coastal views.   \nDistance: 7.5 miles. Elevation gain: 1322 ft. Moderately Strenuous.What to bring: Come prepared. Wear good hiking shoes/boots. Bring plenty of water\, lunch and snacks. Hiking poles are recommended on this mountain. \nParticipation: Hikes are limited to 20 people per leader. First come\, first serve. Be on time to allow for parking and meeting with your group. No entrance fee. No pets (unless otherwise specified). \nCancellation policy: Rain or winds above 30 mph will cancel. \nParking: Pantoll\, Bootjack\, and East Peak trailheads require an $8 parking fee (exact change or check).
URL:https://www.friendsofmttam.org/event/930am-moderately-strenuous-hike-with-f-young/
CATEGORIES:Hike
END:VEVENT
BEGIN:VEVENT
DTSTART;VALUE=DATE:20190526
DTEND;VALUE=DATE:20190527
DTSTAMP:20260424T001152
CREATED:20190509T185556Z
LAST-MODIFIED:20191202T164150Z
UID:37507-1558828800-1558915199@www.friendsofmttam.org
SUMMARY:9:30am Moderately Strenuous Hike with F. Young
DESCRIPTION:Time: 9:30 AMTrailhead: Bootjack Trailhead. \nFitness hike with docent Franklin Young. Learn more about the military use  of West Peak. \nDistance: 5.3 miles. Elevation gain: 1430 ft. Moderately Strenuous.What to bring: Come prepared. Wear good hiking shoes/boots. Bring plenty of water\, lunch and snacks. Hiking poles are recommended on this mountain. \nParticipation: Hikes are limited to 20 people per leader. First come\, first serve. Be on time to allow for parking and meeting with your group. No entrance fee. No pets (unless otherwise specified). \nCancellation policy: Rain or winds above 30 mph will cancel. \nParking: Pantoll\, Bootjack\, and East Peak trailheads require an $8 parking fee (exact change or check).
URL:https://www.friendsofmttam.org/event/930am-moderately-strenuous-hike-with-f-young-2/
CATEGORIES:Hike
END:VEVENT
BEGIN:VEVENT
DTSTART;VALUE=DATE:20190527
DTEND;VALUE=DATE:20190528
DTSTAMP:20260424T001152
CREATED:20190509T185556Z
LAST-MODIFIED:20191202T164150Z
UID:37508-1558915200-1559001599@www.friendsofmttam.org
SUMMARY:9:30am Moderately Strenuous Hike with S. Abascal-Mogio
DESCRIPTION:Time: 9:30 AMTrailhead: Mtn Home Trailhead. \nFitness hike with docent Santiago Abascal-Mogio. Approximately two hours of moderate beautiful Redwoods hike. Great loop to enjoy a different view out and back. Comfortable grade and not very long. \nDistance: 5.3 miles. Elevation gain: 1207 ft. Moderately Strenuous.What to bring: Come prepared. Wear good hiking shoes/boots. Bring plenty of water\, lunch and snacks. Hiking poles are recommended on this mountain. \nParticipation: Hikes are limited to 20 people per leader. First come\, first serve. Be on time to allow for parking and meeting with your group. No entrance fee. No pets (unless otherwise specified). \nCancellation policy: Rain or winds above 30 mph will cancel. \nParking: Pantoll\, Bootjack\, and East Peak trailheads require an $8 parking fee (exact change or check).
URL:https://www.friendsofmttam.org/event/930am-moderately-strenuous-hike-with-s-abascal-mogio/
CATEGORIES:Hike
END:VEVENT
BEGIN:VEVENT
DTSTART;VALUE=DATE:20190529
DTEND;VALUE=DATE:20190530
DTSTAMP:20260424T001152
CREATED:20190509T185556Z
LAST-MODIFIED:20191202T164150Z
UID:37509-1559088000-1559174399@www.friendsofmttam.org
SUMMARY:5:30pm Moderate Hike with F. Young
DESCRIPTION:Time: 5:30 PMTrailhead: Mtn Home Trailhead. \nFitness hike with docent Franklin Young. Unwind on the slopes of Tam after a full day at work. Enjoy a magical stop at West Point Inn. \nDistance: 5.3 miles. Elevation gain: 892 ft. Moderate.What to bring: Come prepared. Wear good hiking shoes/boots. Bring plenty of water\, lunch and snacks. Hiking poles are recommended on this mountain. \nParticipation: Hikes are limited to 20 people per leader. First come\, first serve. Be on time to allow for parking and meeting with your group. No entrance fee. No pets (unless otherwise specified). \nCancellation policy: Rain or winds above 30 mph will cancel. \nParking: Pantoll\, Bootjack\, and East Peak trailheads require an $8 parking fee (exact change or check).
URL:https://www.friendsofmttam.org/event/530pm-moderate-hike-with-f-young/
CATEGORIES:Hike
END:VEVENT
END:VCALENDAR