BEGIN:VCALENDAR
VERSION:2.0
PRODID:-//Friends of Mt Tam - ECPv6.15.18//NONSGML v1.0//EN
CALSCALE:GREGORIAN
METHOD:PUBLISH
X-ORIGINAL-URL:https://www.friendsofmttam.org
X-WR-CALDESC:Events for Friends of Mt Tam
REFRESH-INTERVAL;VALUE=DURATION:PT1H
X-Robots-Tag:noindex
X-PUBLISHED-TTL:PT1H
BEGIN:VTIMEZONE
TZID:America/Los_Angeles
BEGIN:DAYLIGHT
TZOFFSETFROM:-0800
TZOFFSETTO:-0700
TZNAME:PDT
DTSTART:20180311T100000
END:DAYLIGHT
BEGIN:STANDARD
TZOFFSETFROM:-0700
TZOFFSETTO:-0800
TZNAME:PST
DTSTART:20181104T090000
END:STANDARD
BEGIN:DAYLIGHT
TZOFFSETFROM:-0800
TZOFFSETTO:-0700
TZNAME:PDT
DTSTART:20190310T100000
END:DAYLIGHT
BEGIN:STANDARD
TZOFFSETFROM:-0700
TZOFFSETTO:-0800
TZNAME:PST
DTSTART:20191103T090000
END:STANDARD
BEGIN:DAYLIGHT
TZOFFSETFROM:-0800
TZOFFSETTO:-0700
TZNAME:PDT
DTSTART:20200308T100000
END:DAYLIGHT
BEGIN:STANDARD
TZOFFSETFROM:-0700
TZOFFSETTO:-0800
TZNAME:PST
DTSTART:20201101T090000
END:STANDARD
END:VTIMEZONE
BEGIN:VEVENT
DTSTART;VALUE=DATE:20190601
DTEND;VALUE=DATE:20190602
DTSTAMP:20260424T013708
CREATED:20190509T185556Z
LAST-MODIFIED:20191202T164150Z
UID:37510-1559347200-1559433599@www.friendsofmttam.org
SUMMARY:9:30am "Forest Bathing 101" Hike
DESCRIPTION:Time: 9:30 AMTrailhead: Pantoll Parking Lot Trailhead. \n“Forest Bathing 101” interpretive hike with docent Nancy Benjamin.Learn about the Japanese practice of Shinrin Yoku\, which translates to “forest bathing.”  Experience a gentle\, guided walk in the woods to the Mountain Theatre.  Take in the sights\, sounds and scents; and deeply connect with our natural surroundings.  We’ll enjoy some local culinary treats along the way. Kid/Family friendly. \nDistance: 2.1 milesElevation gain: 528 ftEasy. \nWhat to bring: Come prepared. Wear good hiking shoes/boots. Bring plenty of water\, lunch and snacks. Hiking poles are recommended on this mountain. \nParticipation: Hikes are limited to 20 people per leader. First come\, first serve. Be on time to allow for parking and meeting with your group. No entrance fee. No pets (unless otherwise specified). \nCancellation policy: Rain or winds above 30 mph will cancel. \nParking: Pantoll\, Bootjack\, and East Peak trailheads require an $8 parking fee (exact change or check).
URL:https://www.friendsofmttam.org/event/930am-forest-bathing-101-hike/
CATEGORIES:Hike
END:VEVENT
BEGIN:VEVENT
DTSTART;VALUE=DATE:20190602
DTEND;VALUE=DATE:20190603
DTSTAMP:20260424T013708
CREATED:20190330T211744Z
LAST-MODIFIED:20191202T164150Z
UID:34770-1559433600-1559519999@www.friendsofmttam.org
SUMMARY:11:00am Sunday Interpretive Hike - Strenuous - Trees and Biodiversity on Mt. Tam Led By Catherine Orland
DESCRIPTION:Sunday\, June 2 at 11:00 AM from Stinson Beach trailhead. \n“Trees and Biodiversity on Mt. Tam” interpretive hike with docent Catherine Orland. We will explore the different types of trees that grow on Mt. Tam. Why does this tree grow right here? What other trees surround it? Weather permitting we’ll see some great views. \nDistance: 6.7 milesElevation gain: 1\,778 ft.Strenuous. \nWhat to bring: Come prepared. Wear good hiking shoes/boots. Bring plenty of water\, lunch and snacks. Hiking poles are recommended on this mountain. \nParticipation: Hikes are limited to 20 people per leader. First come\, first serve. Be on time to allow for parking and meeting with your group. \nCancellation policy: Rain or winds above 30 mph will cancel.
URL:https://www.friendsofmttam.org/event/1100am-sunday-interpretive-hike-strenuous-trees-and-biodiversity-on-mt-tam-led-by-catherine-orland/
CATEGORIES:Hike
END:VEVENT
BEGIN:VEVENT
DTSTART;VALUE=DATE:20190602
DTEND;VALUE=DATE:20190603
DTSTAMP:20260424T013708
CREATED:20190510T030812Z
LAST-MODIFIED:20191202T164150Z
UID:37564-1559433600-1559519999@www.friendsofmttam.org
SUMMARY:11:00am "Trees and Biodiversity on Mt. Tam" Hike
DESCRIPTION:Time: 11:00 AMTrailhead: Stinson Beach trailhead. \n“Trees and Biodiversity on Mt. Tam” interpretive hike with docent Catherine Orland. We will explore the different types of trees that grow on Mt. Tam. Why does this tree grow right here? What other trees surround it? Weather permitting we’ll see some great views. \nDistance: 6.7 milesElevation gain: 1\,778 ft.Strenuous. \nWhat to bring: Come prepared. Wear good hiking shoes/boots. Bring plenty of water\, lunch and snacks. Hiking poles are recommended on this mountain. \nParticipation: Hikes are limited to 20 people per leader. First come\, first serve. Be on time to allow for parking and meeting with your group. No entrance fee. No pets (unless otherwise specified). \nCancellation policy: Rain or winds above 30 mph will cancel. \nParking: Pantoll\, Bootjack\, and East Peak trailheads require an $8 parking fee (exact change or check).
URL:https://www.friendsofmttam.org/event/1100am-trees-and-biodiversity-on-mt-tam-hike/
CATEGORIES:Hike
END:VEVENT
BEGIN:VEVENT
DTSTART;VALUE=DATE:20190608
DTEND;VALUE=DATE:20190609
DTSTAMP:20260424T013708
CREATED:20190510T030812Z
LAST-MODIFIED:20191202T164150Z
UID:37565-1559952000-1560038399@www.friendsofmttam.org
SUMMARY:CANCELLED - 9:30am Moderate Hike with S. Abascal-Mogio
DESCRIPTION:CANCELLED \nTime: 9:30 AMTrailhead: Rock Spring Trailhead. \nFitness hike with docent Santiago Abascal-Mogio.  Take time to enjoy and appreciate the wildflowers on the mountain. \nDistance: 5.5 miles. Elevation gain: 886 ft. Moderate.What to bring: Come prepared. Wear good hiking shoes/boots. Bring plenty of water\, lunch and snacks. Hiking poles are recommended on this mountain. \nParticipation: Hikes are limited to 20 people per leader. First come\, first serve. Be on time to allow for parking and meeting with your group. No entrance fee. No pets (unless otherwise specified). \nCancellation policy: Rain or winds above 30 mph will cancel. \nParking: Pantoll\, Bootjack\, and East Peak trailheads require an $8 parking fee (exact change or check).
URL:https://www.friendsofmttam.org/event/930am-moderate-hike-with-s-abascal-mogio/
CATEGORIES:Hike
END:VEVENT
BEGIN:VEVENT
DTSTART;TZID=America/Los_Angeles:20190608T200000
DTEND;TZID=America/Los_Angeles:20190608T223000
DTSTAMP:20260424T013708
CREATED:20190326T163156Z
LAST-MODIFIED:20190516T001921Z
UID:34469-1560024000-1560033000@www.friendsofmttam.org
SUMMARY:Astronomy Nights - Gravitational Lensing: Bends in Space-time
DESCRIPTION:Gravitational Lensing: Bends in Space-time\nFatima Abdurrahman\, Doctoral Candidate\, Astronomy Department\, UC Berkeley\n100 years ago\, Einstein predicted that light rays would deviate from straight-line paths in the space near massive objects. Today\, we use this fact to weigh galaxies\, discover planets of other stars\, and “see” invisible black holes. How did this idea of gravitational lensing come about\, and how do we use it today to probe all fields of astrophysics? \nFor directions and more information   http://www.friendsofmttam.org/astronomy.html
URL:https://www.friendsofmttam.org/event/astronomy-nights-gravitational-lensing-bends-in-space-time/
LOCATION:Mt Theater\, Mt Tam State Park\, Mill Valley\, CA\, 2 Park Ter\, United States
CATEGORIES:Astronomy
END:VEVENT
BEGIN:VEVENT
DTSTART;VALUE=DATE:20190612
DTEND;VALUE=DATE:20190613
DTSTAMP:20260424T013708
CREATED:20190604T225401Z
LAST-MODIFIED:20191202T164151Z
UID:38355-1560297600-1560383999@www.friendsofmttam.org
SUMMARY:6:00pm Moderate Hike with R. Feist
DESCRIPTION:Time: 6:00 PMTrailhead: Mtn Home Trailhead. \nFitness Hike with docent Robert Feist. Enjoy some mid-week excercise going down into Muir Woods when the crowds are less!  We’ll cross the creek over the unique “Log Bridge\,” have a snack at  the Alice Eastwood Group Camp and wind our way back to Mt Home.  Guaranteed fun and scenic sights for all! \nDistance: 3.5 milesElevation gain: 827 ft.Moderate. \nWhat to bring: Come prepared. Wear good hiking shoes/boots. Bring plenty of water\, lunch and snacks. Hiking poles are recommended on this mountain. \nParticipation: Hikes are limited to 20 people per leader. First come\, first serve. Be on time to allow for parking and meeting with your group. No entrance fee. No pets (unless otherwise specified). \nCancellation policy: Rain or winds above 30 mph will cancel. \nParking: Pantoll\, Bootjack\, and East Peak trailheads require an $8 parking fee (exact change or check).
URL:https://www.friendsofmttam.org/event/600pm-moderate-hike-with-r-feist/
CATEGORIES:Hike
END:VEVENT
BEGIN:VEVENT
DTSTART;TZID=America/Los_Angeles:20190612T180000
DTEND;TZID=America/Los_Angeles:20190612T190000
DTSTAMP:20260424T013708
CREATED:20190604T202357Z
LAST-MODIFIED:20190604T213440Z
UID:38348-1560362400-1560366000@www.friendsofmttam.org
SUMMARY:6pm Hike with Robert Feist
DESCRIPTION:Trailhead TBA
URL:https://www.friendsofmttam.org/event/6pm-hike-with-robert-feist/
CATEGORIES:Hike
END:VEVENT
BEGIN:VEVENT
DTSTART;VALUE=DATE:20190615
DTEND;VALUE=DATE:20190616
DTSTAMP:20260424T013708
CREATED:20190510T030812Z
LAST-MODIFIED:20190604T190512Z
UID:37566-1560556800-1560643199@www.friendsofmttam.org
SUMMARY:9:30am TBD with C. Lowe
DESCRIPTION:Time: 9:30 AMTrailhead: TBD \nInterpretive hike with docent Caryn Lowe.TBD. \nDistance: TBD miles. Elevation gain: TBD ft. TBD.What to bring: Come prepared. Wear good hiking shoes/boots. Bring plenty of water\, lunch and snacks. Hiking poles are recommended on this mountain. \nParticipation: Hikes are limited to 20 people per leader. First come\, first serve. Be on time to allow for parking and meeting with your group. No entrance fee. No pets (unless otherwise specified). \nCancellation policy: Rain or winds above 30 mph will cancel. \nParking: Pantoll\, Bootjack\, and East Peak trailheads require an $8 parking fee (exact change or check).
URL:https://www.friendsofmttam.org/event/930am-tbd-with-c-lowe/
CATEGORIES:Hike
END:VEVENT
BEGIN:VEVENT
DTSTART;VALUE=DATE:20190615
DTEND;VALUE=DATE:20190616
DTSTAMP:20260424T013708
CREATED:20190604T202357Z
LAST-MODIFIED:20191202T164151Z
UID:38349-1560556800-1560643199@www.friendsofmttam.org
SUMMARY:9:30am "Walking Mt. Tam: Trails of Creativity"
DESCRIPTION:Time: 9:30 AMTrailhead: Pantoll Parking Lot Trailhead. \n“Walking Mt. Tam: Trails of Creativity” interpretive hike with docent Caryn Lowe.“Methinks that the moment my legs begin to move\, my thoughts begin to flow!”-ThoreauScience is proving what people have known for ages – going out into nature is one of the best ways to connect with your creative mind. Mt. Tam has been a special place of inspiration for many generations of artists and writers from early settlers from the Hudson Valley to the Bohemian and Beat movements.  During this hike you will learn a little bit about this rich history\, what happens here today and hopefully make your own creative connection to Mt. Tam.  Bring a notebook\, pens/pencils and your curiosity!Distance: 3.3 milesElevation gain: 735 ftModerate. \nWhat to bring: Come prepared. Wear good hiking shoes/boots. Bring plenty of water\, lunch and snacks. Hiking poles are recommended on this mountain. This hike recommends also bringing a notebook and something to write with. \nParticipation: This hike is limited to 12 people on a first come\, first serve basis. Be on time to allow for parking and meeting with your group. No entrance fee. No pets (unless otherwise specified). \nCancellation policy: Rain or winds above 30 mph will cancel. \nParking: Pantoll\, Bootjack\, and East Peak trailheads require an $8 parking fee (exact change or check).
URL:https://www.friendsofmttam.org/event/930am-walking-mt-tam-trails-of-creativity/
CATEGORIES:Hike
END:VEVENT
BEGIN:VEVENT
DTSTART;VALUE=DATE:20190616
DTEND;VALUE=DATE:20190617
DTSTAMP:20260424T013708
CREATED:20190510T030812Z
LAST-MODIFIED:20191202T164151Z
UID:37567-1560643200-1560729599@www.friendsofmttam.org
SUMMARY:9:30am "Scent-Sational Mt. Tamalpais" Hike
DESCRIPTION:Time: 9:30 AMTrailhead: Mt Home Trailhead. \n“Scent-Sational Mt. Tamalpais” interpretive hike with docent John Cook.Mt. Tamalpais is a treasure of beautiful views and quiet places. But Mt. Tam’s fragrance is another treat for the senses.  On this short hike\, we will have “close encounters” with some of the plants that lend Mt. Tam a distinct scent.  Depending on the season\, wander through forests of Douglas fir\, Bay laurel\, and other fragrant species.  We’ll “stop to smell” these and other plants like wild lilac and coastal sage in a natural setting. You’ll never smell Mt. Tam the same way again. \nDistance: 3 milesElevation gain: 607 ftModerate. \nWhat to bring: Come prepared. Wear good hiking shoes/boots. Bring plenty of water\, lunch and snacks. Hiking poles are recommended on this mountain. \nParticipation: Hikes are limited to 20 people per leader. First come\, first serve. Be on time to allow for parking and meeting with your group. No entrance fee. No pets (unless otherwise specified). \nCancellation policy: Rain or winds above 30 mph will cancel. \nParking: Pantoll\, Bootjack\, and East Peak trailheads require an $8 parking fee (exact change or check).
URL:https://www.friendsofmttam.org/event/930am-scent-sational-mt-tamalpais-hike/
CATEGORIES:Hike
END:VEVENT
BEGIN:VEVENT
DTSTART;VALUE=DATE:20190616
DTEND;VALUE=DATE:20190617
DTSTAMP:20260424T013708
CREATED:20190606T184950Z
LAST-MODIFIED:20190726T175558Z
UID:38394-1560643200-1560729599@www.friendsofmttam.org
SUMMARY:11-4 VC: Tom Brookshire
DESCRIPTION:
URL:https://www.friendsofmttam.org/event/11-4-vc-tom-brookshire/
CATEGORIES:Hike
END:VEVENT
BEGIN:VEVENT
DTSTART;VALUE=DATE:20190619
DTEND;VALUE=DATE:20190620
DTSTAMP:20260424T013708
CREATED:20190510T030812Z
LAST-MODIFIED:20191202T164151Z
UID:37568-1560902400-1560988799@www.friendsofmttam.org
SUMMARY:6:00pm Moderately Strenuous Hike with S. Karp
DESCRIPTION:Time: 6:00 PMTrailhead: Mtn Home Trailhead. \nFitness Hike with docent Sue Karp. Enjoy beautiful evening views from the Panoramic Trail. Walk the famous Dipsea into Muir Woods.  Experience the grandeur and magic of the giant Redwoods \nDistance: 5.5 milesElevation gain: 1004 ft.Moderately Strenuous. \nWhat to bring: Come prepared. Wear good hiking shoes/boots. Bring plenty of water\, lunch and snacks. Hiking poles are recommended on this mountain. \nParticipation: Hikes are limited to 20 people per leader. First come\, first serve. Be on time to allow for parking and meeting with your group. No entrance fee. No pets (unless otherwise specified). \nCancellation policy: Rain or winds above 30 mph will cancel. \nParking: Pantoll\, Bootjack\, and East Peak trailheads require an $8 parking fee (exact change or check).
URL:https://www.friendsofmttam.org/event/600pm-moderately-strenuous-hike-with-s-karp/
CATEGORIES:Hike
END:VEVENT
BEGIN:VEVENT
DTSTART;VALUE=DATE:20190623
DTEND;VALUE=DATE:20190624
DTSTAMP:20260424T013708
CREATED:20190510T030812Z
LAST-MODIFIED:20191202T164151Z
UID:37569-1561248000-1561334399@www.friendsofmttam.org
SUMMARY:Cancelled - 9:30am Strenuous Hike with R. Gottfried
DESCRIPTION:Time: 9:30 AMTrailhead: Tennessee Valley Trailhead. \nFitness hike with docent Rosalind Gottfried. We will hike for 7-8 miles depending on the group’s choice.  We can go to Muir Beach and back (about 8.5 miles with hills) or choose a different route.  Docent will have a sign on top of the car\, either across from the bathrooms or along the road by the bathrooms\, that says “HIKE OPEN TO THE PUBLIC.” \nDistance: 7.5 miles. Elevation gain: 1601 ft.  \nWhat to bring: Come prepared. Wear good hiking shoes/boots. Bring plenty of water\, lunch and snacks. Hiking poles are recommended on this mountain. \nParticipation: Hikes are limited to 20 people per leader. First come\, first serve. Be on time to allow for parking and meeting with your group. No entrance fee. No pets (unless otherwise specified). \nCancellation policy: Rain or winds above 30 mph will cancel. \nParking: Pantoll\, Bootjack\, and East Peak trailheads require an $8 parking fee (exact change or check).
URL:https://www.friendsofmttam.org/event/930am-strenuous-hike-with-r-gottfried/
CATEGORIES:Hike
END:VEVENT
BEGIN:VEVENT
DTSTART;VALUE=DATE:20190626
DTEND;VALUE=DATE:20190627
DTSTAMP:20260424T013708
CREATED:20190510T030812Z
LAST-MODIFIED:20191202T164151Z
UID:37570-1561507200-1561593599@www.friendsofmttam.org
SUMMARY:CANCELLED -6:00pm "Forest Bathing 101" Hike
DESCRIPTION:CANCELLED \nTime: 6:00 PMTrailhead: Pantoll Parking Lot Trailhead. \n“Forest Bathing 101” interpretive hike with docent Nancy Benjamin.Learn about the Japanese practice of Shinrin Yoku\, which translates to “forest bathing.”  Experience a gentle\, guided walk in the woods to the Mountain Theatre.  Take in the sights\, sounds and scents; and deeply connect with our natural surroundings.  We’ll enjoy some local culinary treats along the way. Kid/Family friendly. \nDistance: 2.1 milesElevation gain: 528 ftEasy. \nWhat to bring: Come prepared. Wear good hiking shoes/boots. Bring plenty of water\, lunch and snacks. Hiking poles are recommended on this mountain. \nParticipation: Hikes are limited to 20 people per leader. First come\, first serve. Be on time to allow for parking and meeting with your group. No entrance fee. No pets (unless otherwise specified). \nCancellation policy: Rain or winds above 30 mph will cancel. \nParking: Pantoll\, Bootjack\, and East Peak trailheads require an $8 parking fee (exact change or check).
URL:https://www.friendsofmttam.org/event/600pm-forest-bathing-101-hike/
CATEGORIES:Hike
END:VEVENT
BEGIN:VEVENT
DTSTART;VALUE=DATE:20190629
DTEND;VALUE=DATE:20190630
DTSTAMP:20260424T013708
CREATED:20190510T030812Z
LAST-MODIFIED:20191202T164151Z
UID:37571-1561766400-1561852799@www.friendsofmttam.org
SUMMARY:9:30am Strenuous Hike with R. Feist
DESCRIPTION:Time: 9:30 AMTrailhead: Laurel Dell Fire Road Trailhead. \nFitness Hike with docent Robert Feist. Eight days into Summer!!   What better way to enjoy warmer days than to hike down to the cooling waters of Alpine Lake where we’ll lunch at the water’s edge.  Then back up along the scenic waterscape of Cataract Creek – the mostly shaded route is sure to help keep us cool!! \nDistance: 8 milesElevation gain: 2054 ft.Strenuous. \nWhat to bring: Come prepared. Wear good hiking shoes/boots. Bring plenty of water\, lunch and snacks. Hiking poles are recommended on this mountain. \nParticipation: Hikes are limited to 20 people per leader. First come\, first serve. Be on time to allow for parking and meeting with your group. No entrance fee. No pets (unless otherwise specified). \nCancellation policy: Rain or winds above 30 mph will cancel. \nParking: Pantoll\, Bootjack\, and East Peak trailheads require an $8 parking fee (exact change or check).
URL:https://www.friendsofmttam.org/event/930am-strenuous-hike-with-r-feist/
CATEGORIES:Hike
END:VEVENT
BEGIN:VEVENT
DTSTART;VALUE=DATE:20190630
DTEND;VALUE=DATE:20190701
DTSTAMP:20260424T013708
CREATED:20190510T030812Z
LAST-MODIFIED:20191202T164151Z
UID:37572-1561852800-1561939199@www.friendsofmttam.org
SUMMARY:9:30am Moderate Hike with T. Stuart
DESCRIPTION:Time: 9:30 AMTrailhead: Rock Spring Trailhead. \nFitness Hike with docent Tracy Stuart. Super fun and enjoyable. Meet new friends and see the wonders of the North side of the Mountain. DOG FRIENDLY. Guests MUST obtain a dog permit by emailing Eileen.Bai@parks.ca.gov. \nDistance: 2.7 milesElevation gain: 584 ft.Moderate. \nWhat to bring: Come prepared. Wear good hiking shoes/boots. Bring plenty of water\, lunch and snacks. Hiking poles are recommended on this mountain. \nParticipation: Hikes are limited to 20 people per leader. First come\, first serve. Be on time to allow for parking and meeting with your group. No entrance fee. No pets (unless otherwise specified). \nCancellation policy: Rain or winds above 30 mph will cancel. \nParking: Pantoll\, Bootjack\, and East Peak trailheads require an $8 parking fee (exact change or check).
URL:https://www.friendsofmttam.org/event/930am-moderate-hike-with-t-stuart-2/
CATEGORIES:Hike
END:VEVENT
END:VCALENDAR