BEGIN:VCALENDAR
VERSION:2.0
PRODID:-//Friends of Mt Tam - ECPv6.15.18//NONSGML v1.0//EN
CALSCALE:GREGORIAN
METHOD:PUBLISH
X-ORIGINAL-URL:https://www.friendsofmttam.org
X-WR-CALDESC:Events for Friends of Mt Tam
REFRESH-INTERVAL;VALUE=DURATION:PT1H
X-Robots-Tag:noindex
X-PUBLISHED-TTL:PT1H
BEGIN:VTIMEZONE
TZID:America/Los_Angeles
BEGIN:DAYLIGHT
TZOFFSETFROM:-0800
TZOFFSETTO:-0700
TZNAME:PDT
DTSTART:20180311T100000
END:DAYLIGHT
BEGIN:STANDARD
TZOFFSETFROM:-0700
TZOFFSETTO:-0800
TZNAME:PST
DTSTART:20181104T090000
END:STANDARD
BEGIN:DAYLIGHT
TZOFFSETFROM:-0800
TZOFFSETTO:-0700
TZNAME:PDT
DTSTART:20190310T100000
END:DAYLIGHT
BEGIN:STANDARD
TZOFFSETFROM:-0700
TZOFFSETTO:-0800
TZNAME:PST
DTSTART:20191103T090000
END:STANDARD
BEGIN:DAYLIGHT
TZOFFSETFROM:-0800
TZOFFSETTO:-0700
TZNAME:PDT
DTSTART:20200308T100000
END:DAYLIGHT
BEGIN:STANDARD
TZOFFSETFROM:-0700
TZOFFSETTO:-0800
TZNAME:PST
DTSTART:20201101T090000
END:STANDARD
END:VTIMEZONE
BEGIN:VEVENT
DTSTART;VALUE=DATE:20190803
DTEND;VALUE=DATE:20190804
DTSTAMP:20260424T041643
CREATED:20190718T195945Z
LAST-MODIFIED:20191202T164152Z
UID:39318-1564790400-1564876799@www.friendsofmttam.org
SUMMARY:9:30am Moderately Strenuous Hike with M. de la Fuente
DESCRIPTION:Time: 9:30 AMTrailhead: Bootjack Parking Lot Trailhead. \n"Strength and Balance in Nature" Fitness hike with docent Maria de la Fuente. Let’s explore our strength and Balance among the Redwoods. \nDistance: 4.3 milesElevation gain: 1223 ft.Moderately Strenuous. \nWhat to bring: Come prepared. Wear good hiking shoes/boots. Bring plenty of water\, lunch and snacks. Hiking poles are recommended on this mountain. \nParticipation: Hikes are limited to 20 people per leader. First come\, first serve. Be on time to allow for parking and meeting with your group. No entrance fee. No pets (unless otherwise specified). \nCancellation policy: Rain or winds above 30 mph will cancel. \nParking: Pantoll\, Bootjack\, and East Peak trailheads require an $8 parking fee (exact change or check).
URL:https://www.friendsofmttam.org/event/930am-moderately-strenuous-hike-with-m-de-la-fuente-2/
CATEGORIES:Hike
END:VEVENT
BEGIN:VEVENT
DTSTART;VALUE=DATE:20190807
DTEND;VALUE=DATE:20190808
DTSTAMP:20260424T041643
CREATED:20190718T195945Z
LAST-MODIFIED:20191202T164152Z
UID:39319-1565136000-1565222399@www.friendsofmttam.org
SUMMARY:6:00pm Moderate Hike with C. Orland
DESCRIPTION:Time: 6:00 PMTrailhead: Bootjack Parking Lot. \n"Water Views" Fitness hike with docent Catherine Orland. Weather permitting\, we'll see great views of the SF Bay as well as the Pacific Ocean. Participants will gain an understanding of how water flows on Mt. Tam. They will see the differences between high and low flow points of Redwood Creek. The group will also be able to see how Mt. Tam provides connections between the Bay and the Pacific Ocean. Arrive on time\, this is a fast-paced hike. \nDistance: 4.5 milesElevation gain: 1056 ft.Moderate. \nWhat to bring: Come prepared. Wear good hiking shoes/boots. Bring plenty of water\, lunch and snacks. Hiking poles are recommended on this mountain. \nParticipation: Hikes are limited to 20 people per leader. First come\, first serve. Be on time to allow for parking and meeting with your group. No entrance fee. No pets (unless otherwise specified). \nCancellation policy: Rain or winds above 30 mph will cancel. \nParking: Pantoll\, Bootjack\, and East Peak trailheads require an $8 parking fee (exact change or check).
URL:https://www.friendsofmttam.org/event/600pm-moderate-hike-with-c-orland/
CATEGORIES:Hike
END:VEVENT
BEGIN:VEVENT
DTSTART;VALUE=DATE:20190810
DTEND;VALUE=DATE:20190811
DTSTAMP:20260424T041643
CREATED:20190718T195945Z
LAST-MODIFIED:20191202T164153Z
UID:39320-1565395200-1565481599@www.friendsofmttam.org
SUMMARY:9:30am "Walking Mt. Tam: Trails of Creativity"
DESCRIPTION:Time: 9:30 AMTrailhead: Pantoll Parking Lot Trailhead. \n"Walking Mt. Tam: Trails of Creativity" interpretive hike with docent Caryn Lowe.“Methinks that the moment my legs begin to move\, my thoughts begin to flow!”-ThoreauScience is proving what people have known for ages – going out into nature is one of the best ways to connect with your creative mind. Mt. Tam has been a special place of inspiration for many generations of artists and writers from early settlers from the Hudson Valley to the Bohemian and Beat movements.  During this hike you will learn a little bit about this rich history\, what happens here today and hopefully make your own creative connection to Mt. Tam.  Bring a notebook\, pens/pencils and your curiosity!Distance: 3.3 milesElevation gain: 735 ftModerate. \nWhat to bring: Come prepared. Wear good hiking shoes/boots. Bring plenty of water\, lunch and snacks. Hiking poles are recommended on this mountain. This hike recommends also bringing a notebook and something to write with. \nParticipation: This hike is limited to 12 people on a first come\, first serve basis. Be on time to allow for parking and meeting with your group. No entrance fee. No pets (unless otherwise specified). \nCancellation policy: Rain or winds above 30 mph will cancel. \nParking: Pantoll\, Bootjack\, and East Peak trailheads require an $8 parking fee (exact change or check).
URL:https://www.friendsofmttam.org/event/930am-walking-mt-tam-trails-of-creativity-3/
CATEGORIES:Hike
END:VEVENT
BEGIN:VEVENT
DTSTART;TZID=America/Los_Angeles:20190810T200000
DTEND;TZID=America/Los_Angeles:20190810T223000
DTSTAMP:20260424T041643
CREATED:20190326T163156Z
LAST-MODIFIED:20190516T001921Z
UID:34471-1565467200-1565476200@www.friendsofmttam.org
SUMMARY:Astronomy Nights - Astrobiology Under Our Feet & Out to the Stars
DESCRIPTION:Astrobiology Under Our Feet & Out to the Stars\nDr. Penelope Boston\, Director\, NASA Astrobiology Institute\, NASA Ames Research Center\nThe Age of Astrobiology has begun. We have a whole Solar System—and a galaxy of star-warmed worlds beyond—to explore for life. How do we look for life here and way out there? How will we know it when we find it? Our exploration begins at Earth. We must apply what we are learning about our own amazing home planet to our search for life beyond. \nFor directions and more information   http://www.friendsofmttam.org/astronomy.html
URL:https://www.friendsofmttam.org/event/astronomy-nights-astrobiology-under-our-feet-out-to-the-stars/
LOCATION:Mt Theater\, Mt Tam State Park\, Mill Valley\, CA\, 2 Park Ter\, United States
CATEGORIES:Astronomy
END:VEVENT
BEGIN:VEVENT
DTSTART;VALUE=DATE:20190811
DTEND;VALUE=DATE:20190812
DTSTAMP:20260424T041643
CREATED:20190718T195945Z
LAST-MODIFIED:20191202T164153Z
UID:39321-1565481600-1565567999@www.friendsofmttam.org
SUMMARY:9:30am Moderate Hike with T. Stuart
DESCRIPTION:Time: 9:30 AMTrailhead: Rock Spring Trailhead. \n"Health and Happiness" Fitness hike with docent Tracy Stuart. Super fun and enjoyable. Meet new friends and see the wonders of the North side of the Mountain. Hike ends at 12pm. Dog friendly. Hike leader will stay on designated dog-friendly trails. Guests MUST obtain a dog permit by emailing Eileen.Bai@parks.ca.gov. NO EXCEPTIONS. \nDistance: 2.6 milesElevation gain: 656 ft.Moderate. \nWhat to bring: Come prepared. Wear good hiking shoes/boots. Bring plenty of water\, lunch and snacks. Hiking poles are recommended on this mountain. \nParticipation: Hikes are limited to 20 people per leader. First come\, first serve. Be on time to allow for parking and meeting with your group. No entrance fee. No pets (unless otherwise specified). \nCancellation policy: Rain or winds above 30 mph will cancel. \nParking: Pantoll\, Bootjack\, and East Peak trailheads require an $8 parking fee (exact change or check).
URL:https://www.friendsofmttam.org/event/930am-moderate-hike-with-t-stuart-4/
CATEGORIES:Hike
END:VEVENT
BEGIN:VEVENT
DTSTART;VALUE=DATE:20190814
DTEND;VALUE=DATE:20190815
DTSTAMP:20260424T041643
CREATED:20190718T195945Z
LAST-MODIFIED:20191202T164153Z
UID:39322-1565740800-1565827199@www.friendsofmttam.org
SUMMARY:6:00pm Moderate Hike with C. Orland
DESCRIPTION:Time: 6:00 PMTrailhead: Bootjack Parking Lot. \n"Water Views" Fitness hike with docent Catherine Orland. Weather permitting\, we'll see great views of the SF Bay as well as the Pacific Ocean. Participants will gain an understanding of how water flows on Mt. Tam. They will see the differences between high and low flow points of Redwood Creek. The group will also be able to see how Mt. Tam provides connections between the Bay and the Pacific Ocean. Arrive on time\, this is a fast-paced hike. \nDistance: 4.5 milesElevation gain: 1056 ft.Moderate. \nWhat to bring: Come prepared. Wear good hiking shoes/boots. Bring plenty of water\, lunch and snacks. Hiking poles are recommended on this mountain. \nParticipation: Hikes are limited to 20 people per leader. First come\, first serve. Be on time to allow for parking and meeting with your group. No entrance fee. No pets (unless otherwise specified). \nCancellation policy: Rain or winds above 30 mph will cancel. \nParking: Pantoll\, Bootjack\, and East Peak trailheads require an $8 parking fee (exact change or check).
URL:https://www.friendsofmttam.org/event/600pm-moderate-hike-with-c-orland-2/
CATEGORIES:Hike
END:VEVENT
BEGIN:VEVENT
DTSTART;VALUE=DATE:20190818
DTEND;VALUE=DATE:20190819
DTSTAMP:20260424T041643
CREATED:20190606T184950Z
LAST-MODIFIED:20190726T175559Z
UID:38395-1566086400-1566172799@www.friendsofmttam.org
SUMMARY:11-4 VC: Tom Brookshire
DESCRIPTION:
URL:https://www.friendsofmttam.org/event/11-4-vc-tom-brookshire-2/
CATEGORIES:Hike
END:VEVENT
BEGIN:VEVENT
DTSTART;VALUE=DATE:20190818
DTEND;VALUE=DATE:20190819
DTSTAMP:20260424T041643
CREATED:20190718T195946Z
LAST-MODIFIED:20191202T164153Z
UID:39323-1566086400-1566172799@www.friendsofmttam.org
SUMMARY:9:30am "Scent-Sational Mt. Tamalpais" Hike
DESCRIPTION:Time: 9:30 AMTrailhead: Mt Home Trailhead. \n"Scent-Sational Mt. Tamalpais" interpretive hike with docent John Cook.Mt. Tamalpais is a treasure of beautiful views and quiet places. But Mt. Tam’s fragrance is another treat for the senses.  On this short hike\, we will have “close encounters” with some of the plants that lend Mt. Tam a distinct scent.  Depending on the season\, wander through forests of Douglas fir\, Bay laurel\, and other fragrant species.  We’ll “stop to smell” these and other plants like wild lilac and coastal sage in a natural setting. You’ll never smell Mt. Tam the same way again. \nDistance: 3.7 milesElevation gain: 764 ftModerate. \nWhat to bring: Come prepared. Wear good hiking shoes/boots. Bring plenty of water\, lunch and snacks. Hiking poles are recommended on this mountain. \nParticipation: Hikes are limited to 20 people per leader. First come\, first serve. Be on time to allow for parking and meeting with your group. No entrance fee. No pets (unless otherwise specified). \nCancellation policy: Rain or winds above 30 mph will cancel. \nParking: Pantoll\, Bootjack\, and East Peak trailheads require an $8 parking fee (exact change or check).
URL:https://www.friendsofmttam.org/event/930am-scent-sational-mt-tamalpais-hike-2/
CATEGORIES:Hike
END:VEVENT
BEGIN:VEVENT
DTSTART;VALUE=DATE:20190821
DTEND;VALUE=DATE:20190822
DTSTAMP:20260424T041643
CREATED:20190718T195946Z
LAST-MODIFIED:20191202T164153Z
UID:39324-1566345600-1566431999@www.friendsofmttam.org
SUMMARY:5:30pm "Mindfulness in Nature" Hike
DESCRIPTION:Time: 5:30 PMTrailhead: Pantoll Parking Lot Trailhead. \n"Mindfulness in Nature" Interpretive hike with docent Alexandra Jurasin.Explore your senses in nature while being guided through mindfulness practices. Finish the hike feeling like you've just had a rejuvenating shower for your mind. Distance (mi): 3.3. Elevation Gain (ft): 722. Moderate. \nDistance: 3.3 milesElevation gain: 722 ft.Moderate. \nWhat to bring: Come prepared. Wear good hiking shoes/boots. Bring plenty of water\, lunch and snacks. Hiking poles are recommended on this mountain. \nParticipation: Hikes are limited to 20 people per leader. First come\, first serve. Be on time to allow for parking and meeting with your group. No entrance fee. No pets (unless otherwise specified). \nCancellation policy: Rain or winds above 30 mph will cancel. \nParking: Pantoll\, Bootjack\, and East Peak trailheads require an $8 parking fee (exact change or check).
URL:https://www.friendsofmttam.org/event/530pm-mindfulness-in-nature-hike/
CATEGORIES:Hike
END:VEVENT
BEGIN:VEVENT
DTSTART;VALUE=DATE:20190824
DTEND;VALUE=DATE:20190825
DTSTAMP:20260424T041643
CREATED:20190718T195946Z
LAST-MODIFIED:20191202T164153Z
UID:39325-1566604800-1566691199@www.friendsofmttam.org
SUMMARY:9:30am Moderately Strenuous Hike with S. Abascal-Mogio
DESCRIPTION:Time: 9:30 AMTrailhead: Mt Home Trailhead. \n"Redwoods" Fitness hike with docent Santi Abascal-Mogio. Beautiful Redwoods hike. Great loop to enjoy a different view out and back with a comfortable grade. \nDistance: 5.3 milesElevation gain: 1207 ft.Moderately Strenuous. \nWhat to bring: Come prepared. Wear good hiking shoes/boots. Bring plenty of water\, lunch and snacks. Hiking poles are recommended on this mountain. \nParticipation: Hikes are limited to 20 people per leader. First come\, first serve. Be on time to allow for parking and meeting with your group. No entrance fee. No pets (unless otherwise specified). \nCancellation policy: Rain or winds above 30 mph will cancel. \nParking: Pantoll\, Bootjack\, and East Peak trailheads require an $8 parking fee (exact change or check).
URL:https://www.friendsofmttam.org/event/930am-moderately-strenuous-hike-with-s-abascal-mogio-2/
CATEGORIES:Hike
END:VEVENT
BEGIN:VEVENT
DTSTART;VALUE=DATE:20190825
DTEND;VALUE=DATE:20190826
DTSTAMP:20260424T041643
CREATED:20190718T195946Z
LAST-MODIFIED:20190821T181545Z
UID:39326-1566691200-1566777599@www.friendsofmttam.org
SUMMARY:9:30am Moderately Strenuous Hike with R. Gottfried
DESCRIPTION:Time: 9:30 AM\nTrailhead: Coast View Trailhead. \n“Coastal Views” Fitness hike with docent Rosalind Gottfried. Take in views of the ocean as we head up towards Pantoll. We will return on the same route back. There will be a sign on the roof of the hike leader’s dark green Camry saying free hike\, open to the public.  \nDistance: 6.6 miles\nElevation gain: 1024 ft.\nModerately Strenuous. \nWhat to bring: Come prepared. Wear good hiking shoes/boots. Bring plenty of water\, lunch and snacks. Hiking poles are recommended on this mountain. \nParticipation: Hikes are limited to 20 people per leader. First come\, first serve. Be on time to allow for parking and meeting with your group. No entrance fee. No pets (unless otherwise specified). \nCancellation policy: Rain or winds above 30 mph will cancel. \nParking: Pantoll\, Bootjack\, and East Peak trailheads require an $8 parking fee (exact change or check).
URL:https://www.friendsofmttam.org/event/930am-tbd-hike-with-r-gottfried/
CATEGORIES:Hike
END:VEVENT
BEGIN:VEVENT
DTSTART;VALUE=DATE:20190825
DTEND;VALUE=DATE:20190826
DTSTAMP:20260424T041643
CREATED:20190820T191259Z
LAST-MODIFIED:20191202T164153Z
UID:40001-1566691200-1566777599@www.friendsofmttam.org
SUMMARY:9:30am Moderately Strenuous Hike with R. Gottfried
DESCRIPTION:Time: 9:30 AMTrailhead: Coast View Trailhead. \n“Coastal Views” Fitness hike with docent Rosalind Gottfried. Take in views of the ocean as we head up towards Pantoll. We will return on the same route back. There will be a sign on the roof of the hike leader’s dark green Camry saying free hike\, open to the public.  \nDistance: 6.6 milesElevation gain: 1024 ft.Moderately Strenuous. \nWhat to bring: Come prepared. Wear good hiking shoes/boots. Bring plenty of water\, lunch and snacks. Hiking poles are recommended on this mountain. \nParticipation: Hikes are limited to 20 people per leader. First come\, first serve. Be on time to allow for parking and meeting with your group. No entrance fee. No pets (unless otherwise specified). \nCancellation policy: Rain or winds above 30 mph will cancel. \nParking: Pantoll\, Bootjack\, and East Peak trailheads require an $8 parking fee (exact change or check).
URL:https://www.friendsofmttam.org/event/930am-moderately-strenuous-hike-with-r-gottfried-2/
CATEGORIES:Hike
END:VEVENT
BEGIN:VEVENT
DTSTART;VALUE=DATE:20190828
DTEND;VALUE=DATE:20190829
DTSTAMP:20260424T041643
CREATED:20190718T195946Z
LAST-MODIFIED:20190820T213704Z
UID:39327-1566950400-1567036799@www.friendsofmttam.org
SUMMARY:5:30pm Moderate Hike with S. Karp
DESCRIPTION:Time: 5:30 PM\nTrailhead: Bootjack Parking Lot. \n“Mt. Tam Views and History” Fitness hike with docent Sue Karp. Walk a portion of the horse and wagon trail that took passengers from Stinson Beach to West Point Inn.  Enjoy extensive views of the Bay area and adjoining counties from different vistas. Hike over Rocky Knoll\, composed primarily of Serpentine\, the state rock of California.  \nDistance: 4 miles\nElevation gain: 670 ft.\nModerate. \nWhat to bring: Come prepared. Wear good hiking shoes/boots. Bring plenty of water\, lunch and snacks. Hiking poles are recommended on this mountain. \nParticipation: Hikes are limited to 20 people per leader. First come\, first serve. Be on time to allow for parking and meeting with your group. No entrance fee. No pets (unless otherwise specified). \nCancellation policy: Rain or winds above 30 mph will cancel. \nParking: Pantoll\, Bootjack\, and East Peak trailheads require an $8 parking fee (exact change or check).
URL:https://www.friendsofmttam.org/event/530pm-moderately-strenuous-hike-with-s-karp/
CATEGORIES:Hike
END:VEVENT
BEGIN:VEVENT
DTSTART;VALUE=DATE:20190828
DTEND;VALUE=DATE:20190829
DTSTAMP:20260424T041643
CREATED:20190820T191300Z
LAST-MODIFIED:20191202T164153Z
UID:40002-1566950400-1567036799@www.friendsofmttam.org
SUMMARY:5:30pm Moderate Hike with S. Karp
DESCRIPTION:Time: 5:30 PMTrailhead: Bootjack Parking Lot. \n"Mt. Tam Views and History" Fitness hike with docent Sue Karp. Walk a portion of the horse and wagon trail that took passengers from Stinson Beach to West Point Inn.  Enjoy extensive views of the Bay area and adjoining counties from different vistas. Hike over Rocky Knoll\, composed primarily of Serpentine\, the state rock of California.  \nDistance: 4 milesElevation gain: 670 ft.Moderate. \nWhat to bring: Come prepared. Wear good hiking shoes/boots. Bring plenty of water\, lunch and snacks. Hiking poles are recommended on this mountain. \nParticipation: Hikes are limited to 20 people per leader. First come\, first serve. Be on time to allow for parking and meeting with your group. No entrance fee. No pets (unless otherwise specified). \nCancellation policy: Rain or winds above 30 mph will cancel. \nParking: Pantoll\, Bootjack\, and East Peak trailheads require an $8 parking fee (exact change or check).
URL:https://www.friendsofmttam.org/event/530pm-moderate-hike-with-s-karp-4/
CATEGORIES:Hike
END:VEVENT
BEGIN:VEVENT
DTSTART;VALUE=DATE:20190831
DTEND;VALUE=DATE:20190901
DTSTAMP:20260424T041643
CREATED:20190817T003825Z
LAST-MODIFIED:20190828T144247Z
UID:39916-1567209600-1567295999@www.friendsofmttam.org
SUMMARY:9:30am Strenuous Hike with K. Ulring
DESCRIPTION:Time: 9:30 AMTrailhead: Quarry Parking Lot. \n"North Side" Fitness hike with docent Karen Ulring. We’ll be hiking on the cool north side with a stop at Colier Springs to learn of John Colier and Mt Tam history. Will be a good work out. \nDistance: 7.3 milesElevation gain: 1841 ft.Strenuous. \nWhat to bring: Come prepared. Wear good hiking shoes/boots. Bring plenty of water\, lunch and snacks. Hiking poles are recommended on this mountain. \nParticipation: Hikes are limited to 20 people per leader. First come\, first serve. Be on time to allow for parking and meeting with your group. No entrance fee. No pets (unless otherwise specified). \nCancellation policy: Rain or winds above 30 mph will cancel. \nParking: Pantoll\, Bootjack\, and East Peak trailheads require an $8 parking fee (exact change or check).
URL:https://www.friendsofmttam.org/event/930am-strenuous-hike-with-k-ulring-2/
CATEGORIES:Hike
END:VEVENT
END:VCALENDAR