BEGIN:VCALENDAR
VERSION:2.0
PRODID:-//Friends of Mt Tam - ECPv6.15.18//NONSGML v1.0//EN
CALSCALE:GREGORIAN
METHOD:PUBLISH
X-WR-CALNAME:Friends of Mt Tam
X-ORIGINAL-URL:https://www.friendsofmttam.org
X-WR-CALDESC:Events for Friends of Mt Tam
REFRESH-INTERVAL;VALUE=DURATION:PT1H
X-Robots-Tag:noindex
X-PUBLISHED-TTL:PT1H
BEGIN:VTIMEZONE
TZID:America/Los_Angeles
BEGIN:DAYLIGHT
TZOFFSETFROM:-0800
TZOFFSETTO:-0700
TZNAME:PDT
DTSTART:20190310T100000
END:DAYLIGHT
BEGIN:STANDARD
TZOFFSETFROM:-0700
TZOFFSETTO:-0800
TZNAME:PST
DTSTART:20191103T090000
END:STANDARD
BEGIN:DAYLIGHT
TZOFFSETFROM:-0800
TZOFFSETTO:-0700
TZNAME:PDT
DTSTART:20200308T100000
END:DAYLIGHT
BEGIN:STANDARD
TZOFFSETFROM:-0700
TZOFFSETTO:-0800
TZNAME:PST
DTSTART:20201101T090000
END:STANDARD
BEGIN:DAYLIGHT
TZOFFSETFROM:-0800
TZOFFSETTO:-0700
TZNAME:PDT
DTSTART:20210314T100000
END:DAYLIGHT
BEGIN:STANDARD
TZOFFSETFROM:-0700
TZOFFSETTO:-0800
TZNAME:PST
DTSTART:20211107T090000
END:STANDARD
END:VTIMEZONE
BEGIN:VEVENT
DTSTART;TZID=America/Los_Angeles:20200101T090000
DTEND;TZID=America/Los_Angeles:20200101T150000
DTSTAMP:20260424T112908
CREATED:20191201T182454Z
LAST-MODIFIED:20191202T164156Z
UID:41956-1577869200-1577890800@www.friendsofmttam.org
SUMMARY:First Day Hikes
DESCRIPTION:Start the year 2020 in nature!\nCOME TO MT TAM TO HIKE OR WALK.\nPEOPLE OF ALL AGES AND ABILITIES WELCOME.\nPLUS GREAT VIEWS AND REFRESHMENTS!\n \nWhat better way to begin the new year than being at the top of the tallest mountain in Marin? \n \nWed\, January 1\, 2020\, 9:00 AM – 3:00 PM PST | Register \nMt Tamalpais State Park/ Rock Spring Trailhead and East Peak\, Stinson Beach\, CA  \nDo you like to hike? Choose between 3-4 docent-led guided hikes that start at Rock Spring Trailhead and follow different routes to East Peak and back. Kids with good hiking experience and endurance welcome! No pets. Meeting time and place for all hikes is 9:30am at Rock Spring Trailhead. Hikes are MODERATE to STRENUOUS (7-8 miles round trip). As you will arrive to the parking area\, check in at the info table to choose the hike you prefer and meet your hike leader. Wear warm layered clothing\, sturdy hiking boots\, and bring water\, snacks and lunch. \nDo you like a short\, accessible walk? Great for people who enjoy a relaxed time\, the guided walk around the accessible Verna Dunshee trail–one of the most scenic trail in the Bay Area–is an EASY\, LAID-BACK walk approximately 1 mile in length. The walk will start at the Verna Dunshee trailhead (near East Peak's bathrooms) at 11AM. Families with young children and dogs on a leash welcome. \nJust wanting to drive up the mountain and enjoy the history and the views? The Gravity Car Barn at East Peak will be open for you to learn about the rich history of this mountain. Light refreshments will be provided at the Barn thanks to our cooperating association Friends of Mt Tam. \nThe event will happen rain or shine\, although hikes’ length and time could be reduced in case of heavy downfall. We will update this post with weather details and event updates closer to the date. Keep posted! \nPlease\, secure your FREE ticket(s) today to participate!
URL:https://www.friendsofmttam.org/event/first-day-hikes/
LOCATION:Rock Spring Trailhead\, W Ridgecrest Blvd\, Stinson Beach\, CA 94970\, USA\, 2 Ridgecrest Rd\, United States
CATEGORIES:Hike
END:VEVENT
BEGIN:VEVENT
DTSTART;VALUE=DATE:20200114
DTEND;VALUE=DATE:20200115
DTSTAMP:20260424T112909
CREATED:20180114T013433Z
LAST-MODIFIED:20190516T003833Z
UID:10410-1578960000-1579046399@www.friendsofmttam.org
SUMMARY:6:30pm - FMT Board Meeting
DESCRIPTION:Community Meeting Room\, 2nd floor
URL:https://www.friendsofmttam.org/event/630pm-fmt-board-meeting-26/
LOCATION:Northgate\, 5800 Northgate Parking Lot\, San Rafael\, CA 94903\, USA\, 501 Northgate Dr\, United States
CATEGORIES:Other
END:VEVENT
END:VCALENDAR