BEGIN:VCALENDAR
VERSION:2.0
PRODID:-//Friends of Mt Tam - ECPv6.15.18//NONSGML v1.0//EN
CALSCALE:GREGORIAN
METHOD:PUBLISH
X-WR-CALNAME:Friends of Mt Tam
X-ORIGINAL-URL:https://www.friendsofmttam.org
X-WR-CALDESC:Events for Friends of Mt Tam
REFRESH-INTERVAL;VALUE=DURATION:PT1H
X-Robots-Tag:noindex
X-PUBLISHED-TTL:PT1H
BEGIN:VTIMEZONE
TZID:America/Los_Angeles
BEGIN:DAYLIGHT
TZOFFSETFROM:-0800
TZOFFSETTO:-0700
TZNAME:PDT
DTSTART:20240310T100000
END:DAYLIGHT
BEGIN:STANDARD
TZOFFSETFROM:-0700
TZOFFSETTO:-0800
TZNAME:PST
DTSTART:20241103T090000
END:STANDARD
BEGIN:DAYLIGHT
TZOFFSETFROM:-0800
TZOFFSETTO:-0700
TZNAME:PDT
DTSTART:20250309T100000
END:DAYLIGHT
BEGIN:STANDARD
TZOFFSETFROM:-0700
TZOFFSETTO:-0800
TZNAME:PST
DTSTART:20251102T090000
END:STANDARD
BEGIN:DAYLIGHT
TZOFFSETFROM:-0800
TZOFFSETTO:-0700
TZNAME:PDT
DTSTART:20260308T100000
END:DAYLIGHT
BEGIN:STANDARD
TZOFFSETFROM:-0700
TZOFFSETTO:-0800
TZNAME:PST
DTSTART:20261101T090000
END:STANDARD
END:VTIMEZONE
BEGIN:VEVENT
DTSTART;TZID=America/Los_Angeles:20250308T090000
DTEND;TZID=America/Los_Angeles:20250308T120000
DTSTAMP:20260425T201241
CREATED:20241113T234535Z
LAST-MODIFIED:20250219T222310Z
UID:43905-1741424400-1741435200@www.friendsofmttam.org
SUMMARY:Annual FMT Member Meeting
DESCRIPTION:Friends of Mt Tam Annual Member Meeting will be held on March 8 at the California Alpine Club ( 730 Panoramic Highway- one block from Mountain Home)\n\n\nPlease join us for coffee and continental breakfast at 9 a.m. Light snacks and tea will also be served. Opening remarks will begin at 10 a.m. Meeting will end no later than noon – plenty of time to get out on the trails!\n \n\n\nDarren Peck (a FMT member) Meteorologist for CBS News Bay Area will be our special guest. He will discuss Mt Tam weather and will be able to answer questions.\n \n\n\nIf you have not yet renewed your membership\, you can take care of that at the meeting!\n \n\n\nPlease RSVP by sending us an email at Friendsofmttam@gmail.com.\n \n\n\nSee you there!
URL:https://www.friendsofmttam.org/event/annual-fmt-member-meeting-new-date/
LOCATION:California Alpine Club\, 730 Panoramic Hwy\, Mill Valley\, CA 94941\, USA\, 2 Panoramic Hwy\, United States
END:VEVENT
BEGIN:VEVENT
DTSTART;TZID=America/Los_Angeles:20250309T090000
DTEND;TZID=America/Los_Angeles:20250309T130000
DTSTAMP:20260425T201241
CREATED:20241231T232631Z
LAST-MODIFIED:20250114T042613Z
UID:43939-1741510800-1741525200@www.friendsofmttam.org
SUMMARY:Walking Mt. Tam: The Winter Edition (Moved from March 8)
DESCRIPTION:Interpretive hike with docent Caryn Lowe.  \n“In every walk with nature one receives far more than they seek.”  — John Muir \nWinter is a special time to walk on Mt. Tam – the water is flowing\, the hills turn green and the air is fresh and crisp.  This hike will provide a little bit of everything.  Sweeping vistas.  Tree covered pathways.  And stops at the Mountain Theater and West Point Inn.  During this hike you will also learn a little bit about their rich history\, connection and what happens here today. \nHIKE\nStart at Pantoll Parking Lot;  Old Mine Trail to Mountain Theater; Rock Spring Trail to West Point Inn; Old Stage Road to Pantoll Parking Lot \nDistance (mi): 4.5. Elevation Gain (ft): 500. Moderate. *This hike is limited to 12 people.* \n 
URL:https://www.friendsofmttam.org/event/walking-mt-tam-the-winter-edition-3/
LOCATION:Pantoll Campground Parking\, 6456 Panoramic Hwy\, Mill Valley\, CA 94941\, USA\, 2 Panoramic Hwy\, United States
END:VEVENT
END:VCALENDAR