BEGIN:VCALENDAR
VERSION:2.0
PRODID:-//Friends of Mt Tam - ECPv6.15.18//NONSGML v1.0//EN
CALSCALE:GREGORIAN
METHOD:PUBLISH
X-WR-CALNAME:Friends of Mt Tam
X-ORIGINAL-URL:https://www.friendsofmttam.org
X-WR-CALDESC:Events for Friends of Mt Tam
REFRESH-INTERVAL;VALUE=DURATION:PT1H
X-Robots-Tag:noindex
X-PUBLISHED-TTL:PT1H
BEGIN:VTIMEZONE
TZID:America/Los_Angeles
BEGIN:DAYLIGHT
TZOFFSETFROM:-0800
TZOFFSETTO:-0700
TZNAME:PDT
DTSTART:20240310T100000
END:DAYLIGHT
BEGIN:STANDARD
TZOFFSETFROM:-0700
TZOFFSETTO:-0800
TZNAME:PST
DTSTART:20241103T090000
END:STANDARD
BEGIN:DAYLIGHT
TZOFFSETFROM:-0800
TZOFFSETTO:-0700
TZNAME:PDT
DTSTART:20250309T100000
END:DAYLIGHT
BEGIN:STANDARD
TZOFFSETFROM:-0700
TZOFFSETTO:-0800
TZNAME:PST
DTSTART:20251102T090000
END:STANDARD
BEGIN:DAYLIGHT
TZOFFSETFROM:-0800
TZOFFSETTO:-0700
TZNAME:PDT
DTSTART:20260308T100000
END:DAYLIGHT
BEGIN:STANDARD
TZOFFSETFROM:-0700
TZOFFSETTO:-0800
TZNAME:PST
DTSTART:20261101T090000
END:STANDARD
END:VTIMEZONE
BEGIN:VEVENT
DTSTART;TZID=America/Los_Angeles:20250614T090000
DTEND;TZID=America/Los_Angeles:20250614T130000
DTSTAMP:20260425T155648
CREATED:20250528T205934Z
LAST-MODIFIED:20250528T205934Z
UID:43956-1749891600-1749906000@www.friendsofmttam.org
SUMMARY:Walking Mt. Tam: The Spring Edition
DESCRIPTION:Saturday at 9:00 AM from Pantoll Parking Lot trailhead.  \n“Walking Mt. Tam: The Spring Edition” \nInterpretive hike with docent Caryn Lowe.  \n“In every walk with nature one receives far more than they seek.”  — John Muir \nSpring is a special time to walk on Mt. Tam – the hills are green from winter water\, birds are active and flowers take their turns showing off.  This hike will provide a little bit of everything.  Sweeping vistas.  Tree covered pathways.  And stops at the Mountain Theater and West Point Inn.  During this hike you will also learn a little bit about their rich history and what happens here today. \nHIKE\nStart at Pantoll Parking Lot;  Old Mine Trail to Mountain Theater; Rock Spring Trail to West Point Inn; Old Stage Road to Pantoll Parking Lot \nDistance (mi): 4.5. Elevation Gain (ft): 500. Moderate.  \n  \n 
URL:https://www.friendsofmttam.org/event/walking-mt-tam-the-spring-edition-3/
LOCATION:Pantoll Campground Parking\, 6456 Panoramic Hwy\, Mill Valley\, CA 94941\, USA\, 2 Panoramic Hwy\, United States
END:VEVENT
BEGIN:VEVENT
DTSTART;TZID=America/Los_Angeles:20250618T170000
DTEND;TZID=America/Los_Angeles:20250618T193000
DTSTAMP:20260425T155648
CREATED:20250528T212609Z
LAST-MODIFIED:20250528T212609Z
UID:43959-1750266000-1750275000@www.friendsofmttam.org
SUMMARY:Mt Tam Hummingbirds / 4 Mile Hike
DESCRIPTION:Hummingbirds are tiny birds native to the Americas. They are symbols of joy\, good luck and new beginnings. We are blessed to have them on Mt Tam and specifically at the West Point Inn where we’ll watch them perform their ballet and let them mesmerize us. A perfect way to end a busy day! \nRoute: Mt Home to Matt Davis to Nora to West Point Inn to Old Railroad grade to Hogback to Mt Home. Hogback has some steep but short sections. With a 20 minutes break at West  Point Inn. \nPace: Moderate but steady \n 
URL:https://www.friendsofmttam.org/event/mt-tam-hummingbirds-4-mile-hike/
LOCATION:Mountain Home Inn\, 810 Panoramic Hwy\, Mill Valley\, CA 94941\, USA
END:VEVENT
END:VCALENDAR