BEGIN:VCALENDAR
VERSION:2.0
PRODID:-//Friends of Mt Tam - ECPv6.15.18//NONSGML v1.0//EN
CALSCALE:GREGORIAN
METHOD:PUBLISH
X-ORIGINAL-URL:https://www.friendsofmttam.org
X-WR-CALDESC:Events for Friends of Mt Tam
REFRESH-INTERVAL;VALUE=DURATION:PT1H
X-Robots-Tag:noindex
X-PUBLISHED-TTL:PT1H
BEGIN:VTIMEZONE
TZID:America/Los_Angeles
BEGIN:DAYLIGHT
TZOFFSETFROM:-0800
TZOFFSETTO:-0700
TZNAME:PDT
DTSTART:20240310T100000
END:DAYLIGHT
BEGIN:STANDARD
TZOFFSETFROM:-0700
TZOFFSETTO:-0800
TZNAME:PST
DTSTART:20241103T090000
END:STANDARD
BEGIN:DAYLIGHT
TZOFFSETFROM:-0800
TZOFFSETTO:-0700
TZNAME:PDT
DTSTART:20250309T100000
END:DAYLIGHT
BEGIN:STANDARD
TZOFFSETFROM:-0700
TZOFFSETTO:-0800
TZNAME:PST
DTSTART:20251102T090000
END:STANDARD
BEGIN:DAYLIGHT
TZOFFSETFROM:-0800
TZOFFSETTO:-0700
TZNAME:PDT
DTSTART:20260308T100000
END:DAYLIGHT
BEGIN:STANDARD
TZOFFSETFROM:-0700
TZOFFSETTO:-0800
TZNAME:PST
DTSTART:20261101T090000
END:STANDARD
END:VTIMEZONE
BEGIN:VEVENT
DTSTART;TZID=America/Los_Angeles:20251101T090000
DTEND;TZID=America/Los_Angeles:20251101T130000
DTSTAMP:20260423T144009
CREATED:20250929T171325Z
LAST-MODIFIED:20250929T194952Z
UID:44014-1761987600-1762002000@www.friendsofmttam.org
SUMMARY:Walking Mt. Tam: Trails of Creativity
DESCRIPTION:Interpretive hike with docent Caryn Lowe.  \n“Methinks that the moment my legs begin to move\, my thoughts begin to flow!” -Thoreau.  \nScience is proving what people have known for ages – going out into nature is one of the best ways to connect with your creative mind. Mt. Tam has been a special place of inspiration for many generations of artists and writers from early settlers from the Hudson Valley to the Bohemian and Beat movements. During this hike you will learn a little bit about this rich history\, what happens here today and hopefully make your own creative connection to Mt. Tam.  There will be a 30 minute stop at West Point Inn to jot down your thoughts or simply pause and take in the view.  \nHIKE ROUTE\nStart at Pantoll Parking Lot;  Old Mine Trail to Mountain Theater; Rock Spring Trail to West Point Inn; Old Stage Road to Pantoll Parking Lot \nDistance (mi): 4.5. Elevation Gain (ft): 500. Moderate. 
URL:https://www.friendsofmttam.org/event/walking-mt-tam-trails-of-creativity/
LOCATION:Pantoll Campground Parking\, 6456 Panoramic Hwy\, Mill Valley\, CA 94941\, USA\, 2 Panoramic Hwy\, United States
END:VEVENT
BEGIN:VEVENT
DTSTART;TZID=America/Los_Angeles:20251105T170000
DTEND;TZID=America/Los_Angeles:20251105T190000
DTSTAMP:20260423T144009
CREATED:20251009T231302Z
LAST-MODIFIED:20251009T231302Z
UID:44022-1762362000-1762369200@www.friendsofmttam.org
SUMMARY:Tree bathing among Redwoods and Douglas Firs
DESCRIPTION:Tree bathing among Redwoods and Douglas firs. 4 miles/ 800 ft elevation gain \nThis hike will immerse you in nature with its tall trees and soothing sound of the Fern Creek. It will be led Docent Franklin Young. \nTrails: the paved Camp Alice Eastwood fire road. It is suitable for low light and light rain \nMeeting place: parking lot next 757 Panoramic by the fire road gate \nStart time: 5PM \nReturn: 7PM \nModerated pace \nHeadlamp/flashlight recommended \n 
URL:https://www.friendsofmttam.org/event/tree-bathing-among-redwoods-and-douglas-firs-2/
LOCATION:757 Panoramic\, 757 Panoramic Highway\, Mill Valley
END:VEVENT
BEGIN:VEVENT
DTSTART;TZID=America/Los_Angeles:20251109T090000
DTEND;TZID=America/Los_Angeles:20251109T123000
DTSTAMP:20260423T144009
CREATED:20251009T231410Z
LAST-MODIFIED:20251009T231410Z
UID:44024-1762678800-1762691400@www.friendsofmttam.org
SUMMARY:The Back Door to Muir Woods
DESCRIPTION:The Back Door to Muir Woods. 5.5 miles/1500 ft elevation gain \nIt is one of the 4 hikes of the Pantoll Quad program. For details see https://www.friendsofmttam.org/wp-content/uploads/PanToll-Quad-Brochure-03022021.pdf. Upon completing all 4 hikes\, you will receive a badge of Honor. This hike will be led by Docent Franklin Young. \nMeeting Place: Pantoll by the Friends of Mt Tam trailer \nStart time: 9AM \nReturn: 12:30PM \nModerate but steady pace \nTrails: Stapelveldt\, Ben Johnson\, at Muir Woods\, Bootjack\, Alpine \nRecommended: water\, sturdy shoes\, hiking poles\, snack 
URL:https://www.friendsofmttam.org/event/the-back-door-to-muir-woods/
LOCATION:Pantoll Campground Parking\, 6456 Panoramic Hwy\, Mill Valley\, CA 94941\, USA\, 2 Panoramic Hwy\, United States
END:VEVENT
END:VCALENDAR