BEGIN:VCALENDAR
VERSION:2.0
PRODID:-//Friends of Mt Tam - ECPv6.15.18//NONSGML v1.0//EN
CALSCALE:GREGORIAN
METHOD:PUBLISH
X-ORIGINAL-URL:https://www.friendsofmttam.org
X-WR-CALDESC:Events for Friends of Mt Tam
REFRESH-INTERVAL;VALUE=DURATION:PT1H
X-Robots-Tag:noindex
X-PUBLISHED-TTL:PT1H
BEGIN:VTIMEZONE
TZID:America/Los_Angeles
BEGIN:DAYLIGHT
TZOFFSETFROM:-0800
TZOFFSETTO:-0700
TZNAME:PDT
DTSTART:20250309T100000
END:DAYLIGHT
BEGIN:STANDARD
TZOFFSETFROM:-0700
TZOFFSETTO:-0800
TZNAME:PST
DTSTART:20251102T090000
END:STANDARD
BEGIN:DAYLIGHT
TZOFFSETFROM:-0800
TZOFFSETTO:-0700
TZNAME:PDT
DTSTART:20260308T100000
END:DAYLIGHT
BEGIN:STANDARD
TZOFFSETFROM:-0700
TZOFFSETTO:-0800
TZNAME:PST
DTSTART:20261101T090000
END:STANDARD
BEGIN:DAYLIGHT
TZOFFSETFROM:-0800
TZOFFSETTO:-0700
TZNAME:PDT
DTSTART:20270314T100000
END:DAYLIGHT
BEGIN:STANDARD
TZOFFSETFROM:-0700
TZOFFSETTO:-0800
TZNAME:PST
DTSTART:20271107T090000
END:STANDARD
END:VTIMEZONE
BEGIN:VEVENT
DTSTART;TZID=America/Los_Angeles:20260101T090000
DTEND;TZID=America/Los_Angeles:20260101T130000
DTSTAMP:20260423T115432
CREATED:20251220T012755Z
LAST-MODIFIED:20260101T001229Z
UID:44054-1767258000-1767272400@www.friendsofmttam.org
SUMMARY:**CANCELLED DUE TO WEATHER** First Day Hike
DESCRIPTION:Sponsored by Friends of Mt Tam and California Alpine Club\n\n\nWhere: Rock Spring Parking Lot\n\n\nWhen: January 1\, 2026\n\n\nTime: 9:00am to 2pm\n\n\nParking: Parking in this lot is free. Overflow parking is available in the Quarry parking lot by the Mountain Theater.\n\n\n\nJoin Mount Tamalpais State Park\, the Friends of Mt Tam\, and the California Alpine Club on the great annual tradition of the New Year’s Day Hike.\nSeveral hike leaders will lead participants on routes of varying difficulty from Rock Spring to East Peak. The Friends of Mt Tam will be set up in the East Peak Gravity Car Barn offering refreshments and commemorative pins to participants!\nMost round-trip routes are at least 7 miles with the easiest route being of moderate difficulty.\n\nTrail conditions will likely be muddy and all routes will have some rugged stretches of trail\, so wear suitable footwear and bring trekking poles if you use them. Dress in layers and carry snacks and water. Ticks and poison oak may be present along the trail.  \nSee less
URL:https://www.friendsofmttam.org/event/first-day-hike-3/
LOCATION:Rock Spring Trailhead\, W Ridgecrest Blvd\, Stinson Beach\, CA 94970\, USA\, 2 Ridgecrest Rd\, United States
END:VEVENT
BEGIN:VEVENT
DTSTART;TZID=America/Los_Angeles:20260118T090000
DTEND;TZID=America/Los_Angeles:20260118T123000
DTSTAMP:20260423T115432
CREATED:20251216T225918Z
LAST-MODIFIED:20260102T152509Z
UID:44049-1768726800-1768739400@www.friendsofmttam.org
SUMMARY:**NEW DATE - MOVED TO JAN 18** Steep Ravine\, Here we Come
DESCRIPTION:4.3 miles / 1300 ft elevation gain  \nSteep Ravine is one of the 4 hikes of the Pantoll Quad program. For details\, see https://www.friendsofmttam.org/wp-content/uploads/PanToll-Quad-Brochure-03022021.pdf. Upon completing all 4 hikes\, you will receive a badge of Honor.  \nThis hike will be led by Docent Debra Hoitomt. \nMeeting Place: Pantoll by the Friends of Mt Tam trailer \nStart time: 9AM \nReturn: 12:30PM \nModerate but steady pace \nTrails: Steep Ravine\, Dipsea\, Coastal FR\, Old Mine \nRecommended: water\, sturdy shoes\, hiking poles\, snack
URL:https://www.friendsofmttam.org/event/steep-ravine-here-we-come-2/
LOCATION:Pantoll Campground Parking\, 6456 Panoramic Hwy\, Mill Valley\, CA 94941\, USA\, 2 Panoramic Hwy\, United States
END:VEVENT
BEGIN:VEVENT
DTSTART;TZID=America/Los_Angeles:20260131T090000
DTEND;TZID=America/Los_Angeles:20260131T130000
DTSTAMP:20260423T115432
CREATED:20260123T194044Z
LAST-MODIFIED:20260123T194044Z
UID:44063-1769850000-1769864400@www.friendsofmttam.org
SUMMARY:Walking Mt. Tam: Trails of Creativity
DESCRIPTION:Interpretive hike with docent Caryn Lowe.  \n“Methinks that the moment my legs begin to move\, my thoughts begin to flow!” -Thoreau.  \nScience is proving what people have known for ages – going out into nature is one of the best ways to connect with your creative mind. Mt. Tam has been a special place of inspiration for many generations of artists and writers from early settlers from the Hudson Valley to the Bohemian and Beat movements. During this hike you will learn a little bit about this rich history\, what happens here today and hopefully make your own creative connection to Mt. Tam.  There will be a 30 minute stop at West Point Inn to jot down your thoughts or simply pause and take in the view.  \nHIKE ROUTE\nStart at Pantoll Parking Lot;  Old Mine Trail to Mountain Theater; Rock Spring Trail to West Point Inn; Old Stage Road to Pantoll Parking Lot \nDistance (mi): 4.5. Elevation Gain (ft): 500. Moderate. 
URL:https://www.friendsofmttam.org/event/walking-mt-tam-trails-of-creativity-3/
LOCATION:Pantoll Campground Parking\, 6456 Panoramic Hwy\, Mill Valley\, CA 94941\, USA\, 2 Panoramic Hwy\, United States
END:VEVENT
END:VCALENDAR