BEGIN:VCALENDAR
VERSION:2.0
PRODID:-//Friends of Mt Tam - ECPv6.15.18//NONSGML v1.0//EN
CALSCALE:GREGORIAN
METHOD:PUBLISH
X-ORIGINAL-URL:https://www.friendsofmttam.org
X-WR-CALDESC:Events for Friends of Mt Tam
REFRESH-INTERVAL;VALUE=DURATION:PT1H
X-Robots-Tag:noindex
X-PUBLISHED-TTL:PT1H
BEGIN:VTIMEZONE
TZID:America/Los_Angeles
BEGIN:DAYLIGHT
TZOFFSETFROM:-0800
TZOFFSETTO:-0700
TZNAME:PDT
DTSTART:20250309T100000
END:DAYLIGHT
BEGIN:STANDARD
TZOFFSETFROM:-0700
TZOFFSETTO:-0800
TZNAME:PST
DTSTART:20251102T090000
END:STANDARD
BEGIN:DAYLIGHT
TZOFFSETFROM:-0800
TZOFFSETTO:-0700
TZNAME:PDT
DTSTART:20260308T100000
END:DAYLIGHT
BEGIN:STANDARD
TZOFFSETFROM:-0700
TZOFFSETTO:-0800
TZNAME:PST
DTSTART:20261101T090000
END:STANDARD
BEGIN:DAYLIGHT
TZOFFSETFROM:-0800
TZOFFSETTO:-0700
TZNAME:PDT
DTSTART:20270314T100000
END:DAYLIGHT
BEGIN:STANDARD
TZOFFSETFROM:-0700
TZOFFSETTO:-0800
TZNAME:PST
DTSTART:20271107T090000
END:STANDARD
END:VTIMEZONE
BEGIN:VEVENT
DTSTART;TZID=America/Los_Angeles:20260201T163000
DTEND;TZID=America/Los_Angeles:20260201T190000
DTSTAMP:20260423T102955
CREATED:20260129T232815Z
LAST-MODIFIED:20260129T232911Z
UID:44072-1769963400-1769972400@www.friendsofmttam.org
SUMMARY:Full Moon Hike
DESCRIPTION:Full Moon hike. 4 miles/ 150 ft elevation gain\nIn twilight we will take the Old Stage fire road to West Point Inn. Once there\, we’ll admire the Full Moon on a backdrop of city lights under clear skies per current weather forecast. We will return in the dark via Old Stage. \nThis hike will be led by Docent Franklin Young. \nTrails: Stage Coach fire road (unpaved). It is suitable for low light and light rain \nMeeting place: Pantoll by the Friends of Mt. Tam trailer \nStart time: 4:30 PM / Return: 7PM \nModerated pace \nHeadlamp/flashlight highly recommended
URL:https://www.friendsofmttam.org/event/full-moon-hike/
LOCATION:Pantoll Campground Parking\, 6456 Panoramic Hwy\, Mill Valley\, CA 94941\, USA\, 2 Panoramic Hwy\, United States
END:VEVENT
BEGIN:VEVENT
DTSTART;TZID=America/Los_Angeles:20260207T090000
DTEND;TZID=America/Los_Angeles:20260207T130000
DTSTAMP:20260423T102955
CREATED:20251216T230124Z
LAST-MODIFIED:20251216T230124Z
UID:44052-1770454800-1770469200@www.friendsofmttam.org
SUMMARY:West Point Inn
DESCRIPTION:West Point Inn loop of 4.7 miles\, and about 500 feet elevation gain \nJoin Docent Debra Hoitomt\, for this guided hike. \nThis hike is considered an Easy hike (slower paced hike 3.5 to 5 miles with under a 1000′\, elevation gain. For beginning hikers\, senior hikers\, and in-betweeners.)\, though there is some tricky footing over rocky areas.\nSign up is required\nMEET: Pantoll Parking Area\nDEPARTURE: 9am Departure. Group should return no later than 1:00pm\nCANCELLATIONS: Rain\, red flag days\, winds above 30 mph\, and unforeseen circumstances will cancel. Check the Friends of Mt Tam Facebook for updates: https://www.facebook.com/FriendsOfMtTam\nPARKING: We strongly recommend carpooling and arriving 15 minutes early to find parking. Certain parking areas require a $8 fee (Pantoll\, Bootjack\, and East Peak). Bring exact change!\nWATER: Bring at least two bottles of water on hot days. Most hikes do not pass by public drinking water sources.\nFOOD: There will not be a formal lunch stop\, but a short snack / bio break at West Point Inn. Bring your own snacks.\nPROTECTION: Ticks\, mosquitoes\, horse flies and yellow jackets are present\, but not abundant.\nSTURDY BOOTS: Trails are uneven\, rocky and can be very steep in places. Sandals\, sneakers and running shoes are not recommended.\nHIKE DOCENTS have been trained under the California State Parks Volunteers In the Park Program (VIPP).\nThis hike is part of the “The Pantoll Quad”\, which is four epic hikes that start/end at the Pantoll Campground. Together they are 21 miles with 4\,300 feet of elevation. Individually they are 4.5 – 6.5 miles long with 500 – 1\,500 of elevation.\nhttps://www.friendsofmttam.org/wp-content/uploads/PanToll-Quad-Brochure-03022021.pdf \n\n\n\n\n \n \n\n\n\n\n\nAttendees\n\n1\n\n\n\n\n\n\n \n\nHost\n\n\n\nFriends of Mt Tam (FMT)\nOrganizer\n\n\n\n\n\n\n \n \n\n\n\n\n\nPhotos\n\n0\n\n\n\n \n \n\n\n\n\n\nStart the conversation\nCommunicate with event participants to ask questions or share information. \n\n\n\n\n\n\n\n\n\n\n\n\n \n \n\n\n \nSend as a private comment \nVisible only for attendees\n\n\n\n\n\n\n\n\n \n \n\n\n\n\nSee more events by Official Mt. Tamalpais State Park Docent Led Hiking Group\n\n\n\n\n\n\n\n\n\n \n \n\n\n\n\n\nMembers are also interested in\n\n\n\n\n\n\n \n\n\n \n\n\n\n\n\nThu\, Jan 1\, 2026 · 3:00 PM PST\n\n\nNew Years Day White Dress Party\n\nby Bay Area Social Scene\n\nBaker Beach\, 1504 Pershing Drive\, San Francisco\, CA\, US\n\n\n\n\n \n\n\n \n\n\n\n\n\nSat\, Jan 10\, 2026 · 9:00 AM PST\n\n\nCoastal Trail to Bobcat Trail Loop [Marin Headlands]\n\nby *Every Trail* : Bay Area Hiking and Outdoor Activities Group\n\nRodeo Beach\, Southwest Marin\, CA\, US\n\n\n\n\n \n\n\n \n\n\n\n\n\nThu\, Dec 18 · 9:00 AM PST\n\n\nMuir Woods New Loop Hike from Sierra Trailhead. 6.2 m/1400 ft.\n\nby Marin Women’s Hiking Group\n\nSierra Trail Trailhead\, Sierra Trail\, Mill Valley\, CA\, US\n\n\n\n\n\n\n\n\n \n\n\n\n\n\nSat\, Feb 7\, 2026 · 9:00 AM PST\nWest Point Inn
URL:https://www.friendsofmttam.org/event/west-point-inn/
LOCATION:Pantoll Campground Parking\, 6456 Panoramic Hwy\, Mill Valley\, CA 94941\, USA\, 2 Panoramic Hwy\, United States
END:VEVENT
BEGIN:VEVENT
DTSTART;TZID=America/Los_Angeles:20260214T090000
DTEND;TZID=America/Los_Angeles:20260214T130000
DTSTAMP:20260423T102955
CREATED:20260123T194712Z
LAST-MODIFIED:20260123T194712Z
UID:44065-1771059600-1771074000@www.friendsofmttam.org
SUMMARY:Walking Mt. Tam: Trails of Creativity
DESCRIPTION:Interpretive hike with docent Caryn Lowe.  \n“Methinks that the moment my legs begin to move\, my thoughts begin to flow!” -Thoreau.  \nScience is proving what people have known for ages – going out into nature is one of the best ways to connect with your creative mind. Mt. Tam has been a special place of inspiration for many generations of artists and writers from early settlers from the Hudson Valley to the Bohemian and Beat movements. During this hike you will learn a little bit about this rich history\, what happens here today and hopefully make your own creative connection to Mt. Tam.  There will be a 30 minute stop at West Point Inn to jot down your thoughts or simply pause and take in the view.  \nHIKE ROUTE\nStart at Pantoll Parking Lot;  Old Mine Trail to Mountain Theater; Rock Spring Trail to West Point Inn; Old Stage Road to Pantoll Parking Lot \nDistance (mi): 4.5. Elevation Gain (ft): 500. Moderate. 
URL:https://www.friendsofmttam.org/event/walking-mt-tam-trails-of-creativity-4/
LOCATION:Pantoll Campground Parking\, 6456 Panoramic Hwy\, Mill Valley\, CA 94941\, USA\, 2 Panoramic Hwy\, United States
END:VEVENT
BEGIN:VEVENT
DTSTART;TZID=America/Los_Angeles:20260228T090000
DTEND;TZID=America/Los_Angeles:20260228T123000
DTSTAMP:20260423T102955
CREATED:20260218T011903Z
LAST-MODIFIED:20260218T040424Z
UID:44083-1772269200-1772281800@www.friendsofmttam.org
SUMMARY:Pantoll Quad Hike/ Bolinas Ridge
DESCRIPTION:Join Docent Debra Hoitomt\, for this guided hike. \nThis hike is considered Challenging (more than 4 miles and varying terrain) and is limited to 19 people. Sign-up via the Meet Up app \nMEET: Pantoll Parking  Area by the Friends of Mt Tam trailer \nDEPARTURE: 9am. Expected return by 12:30 pm \nCANCELLATIONS: Rain\, red flag days\, winds above 30 mph\, and unforeseen circumstances will cancel. Check Meet Up for updates \nPARKING: We strongly recommend carpooling and arriving 15 minutes early to find parking. There is $8 fee to park at Pantoll\, Bootjack and East Peak. Bring exact change!  \nPUBLIC TRANSPORTATION:  The Marin Transit #61 bus departs from Almonte & Shoreline Hwy (Tam Junction) around 8:30 arriving Pantoll at 9 am in time for our hike.   \nWATER: Bring at least two bottles of water on hot days. Most hikes do not pass by public drinking water sources. \nFOOD: Unless stated otherwise in the hike description\, there will not be a formal lunch stop. Bring your own snacks. \nPROTECTION: Ticks\, mosquitoes\, horse flies and yellow jackets are present\, but not abundant. \nSTURDY BOOTS: Trails are uneven\, rocky and can be very steep in places. Sandals\, sneakers and running shoes are not recommended. \nHIKE DOCENTS have been trained under the California State Parks Volunteers In the Park Program (VIPP). \nThis hike is part of the “The Pantoll Quad”\, which is four epic hikes that start/end at the Pantoll Campground. Together they are 21 miles with 4\,300 feet of elevation. Individually they are 4.5 – 6.5 miles long with 500 – 1\,500 of elevation.
URL:https://www.friendsofmttam.org/event/pantoll-quad-hike-bolinas-ridge-2/
CATEGORIES:Hike
END:VEVENT
END:VCALENDAR