BEGIN:VCALENDAR
VERSION:2.0
PRODID:-//Friends of Mt Tam - ECPv6.15.18//NONSGML v1.0//EN
CALSCALE:GREGORIAN
METHOD:PUBLISH
X-WR-CALNAME:Friends of Mt Tam
X-ORIGINAL-URL:https://www.friendsofmttam.org
X-WR-CALDESC:Events for Friends of Mt Tam
REFRESH-INTERVAL;VALUE=DURATION:PT1H
X-Robots-Tag:noindex
X-PUBLISHED-TTL:PT1H
BEGIN:VTIMEZONE
TZID:America/Los_Angeles
BEGIN:DAYLIGHT
TZOFFSETFROM:-0800
TZOFFSETTO:-0700
TZNAME:PDT
DTSTART:20250309T100000
END:DAYLIGHT
BEGIN:STANDARD
TZOFFSETFROM:-0700
TZOFFSETTO:-0800
TZNAME:PST
DTSTART:20251102T090000
END:STANDARD
BEGIN:DAYLIGHT
TZOFFSETFROM:-0800
TZOFFSETTO:-0700
TZNAME:PDT
DTSTART:20260308T100000
END:DAYLIGHT
BEGIN:STANDARD
TZOFFSETFROM:-0700
TZOFFSETTO:-0800
TZNAME:PST
DTSTART:20261101T090000
END:STANDARD
BEGIN:DAYLIGHT
TZOFFSETFROM:-0800
TZOFFSETTO:-0700
TZNAME:PDT
DTSTART:20270314T100000
END:DAYLIGHT
BEGIN:STANDARD
TZOFFSETFROM:-0700
TZOFFSETTO:-0800
TZNAME:PST
DTSTART:20271107T090000
END:STANDARD
END:VTIMEZONE
BEGIN:VEVENT
DTSTART;TZID=America/Los_Angeles:20260301T170000
DTEND;TZID=America/Los_Angeles:20260301T193000
DTSTAMP:20260423T085945
CREATED:20260227T064744Z
LAST-MODIFIED:20260227T064744Z
UID:44090-1772384400-1772393400@www.friendsofmttam.org
SUMMARY:March 1st: Full  Moon Hike. 4 miles/ 150 ft elevation gain
DESCRIPTION:On March 1st the Moon will rise by 5PM before the Sun sets. Enjoying both daylight and moonlight\, we will take the Old Stage fire road to West Point Inn. Once there\, we’ll admire the Worm Moon on a backdrop of city lights from the East Bay (weather permitting). We will return the same way via the Old Stage fire road but in the dark. \nThis hike is limited to 19 people. Please sign up via Meet-up.\nThis hike will be led by Docent Franklin Young. Hike docents have been trained under the California State Parks Volunteers in the Park Program (VIPP).\n\n\nTrails: Stage Coach fire road (unpaved). It is suitable for low light and light rain. \n\nMeeting place: Pantoll by the Friends of Mt. Tam trailer. There is a $8 parking fee. Helpful to have exact change.\n\nStart time: 5PM \n\n\nExpected return: 7:30PM\n\n\nEasy/Moderate pace\n\n\nHeadlamp/flashlight recommended
URL:https://www.friendsofmttam.org/event/march-1st-full-moon-hike-4-miles-150-ft-elevation-gain/
CATEGORIES:Hike
END:VEVENT
BEGIN:VEVENT
DTSTART;TZID=America/Los_Angeles:20260307T090000
DTEND;TZID=America/Los_Angeles:20260307T130000
DTSTAMP:20260423T085945
CREATED:20260123T194734Z
LAST-MODIFIED:20260123T194734Z
UID:44067-1772874000-1772888400@www.friendsofmttam.org
SUMMARY:Walking Mt. Tam: Trails of Creativity
DESCRIPTION:Interpretive hike with docent Caryn Lowe.  \n“Methinks that the moment my legs begin to move\, my thoughts begin to flow!” -Thoreau.  \nScience is proving what people have known for ages – going out into nature is one of the best ways to connect with your creative mind. Mt. Tam has been a special place of inspiration for many generations of artists and writers from early settlers from the Hudson Valley to the Bohemian and Beat movements. During this hike you will learn a little bit about this rich history\, what happens here today and hopefully make your own creative connection to Mt. Tam.  There will be a 30 minute stop at West Point Inn to jot down your thoughts or simply pause and take in the view.  \nHIKE ROUTE\nStart at Pantoll Parking Lot;  Old Mine Trail to Mountain Theater; Rock Spring Trail to West Point Inn; Old Stage Road to Pantoll Parking Lot \nDistance (mi): 4.5. Elevation Gain (ft): 500. Moderate. 
URL:https://www.friendsofmttam.org/event/walking-mt-tam-trails-of-creativity-5/
LOCATION:Pantoll Campground Parking\, 6456 Panoramic Hwy\, Mill Valley\, CA 94941\, USA\, 2 Panoramic Hwy\, United States
END:VEVENT
BEGIN:VEVENT
DTSTART;TZID=America/Los_Angeles:20260315T090000
DTEND;TZID=America/Los_Angeles:20260315T123000
DTSTAMP:20260423T085945
CREATED:20260227T065459Z
LAST-MODIFIED:20260227T065459Z
UID:44093-1773565200-1773577800@www.friendsofmttam.org
SUMMARY:March 15th: Quad 4 - West Point Inn Hike. 4.7 miles/ 500 ft elevation gain
DESCRIPTION:This hike is part of the Quad 4 program. Upon completing all 4 epic hikes\, you will have covered 21 miles and climbed 4300 feet in the Mt Tamalpais State Park. Most importantly you will earn a commemorative pin. \nThis hike is limited to 19 people. Please sign up via Meet-up.\nIt will be led by Docent Franklin Young. Hike docents have been trained under the California State Parks Volunteers in the Park Program (VIPP).\n\n\nTrails: Old Mine to Rock Spring trail to West Point Inn to Nora to Matt Davis to Bootjack \n\nMeeting place: Bootjack by the bathroom. There is a $8 parking fee. Helpful to have exact change. Parking is  limited so please carpool or take Marin Transit Bus 61 at Almonte & Shoreline Hwy (Tam Junction) or Manzanita.  It will drop you off at Bootjack just before 9AM. \n \nStart time: 9 AM \n\n\nExpected Return: 12:30PM\n\nModerate pace\n\nBring water and snacks. West Point Inn has hot drinks and snacks for sale.
URL:https://www.friendsofmttam.org/event/march-15th-quad-4-west-point-inn-hike-4-7-miles-500-ft-elevation-gain/
CATEGORIES:Hike
END:VEVENT
BEGIN:VEVENT
DTSTART;TZID=America/Los_Angeles:20260321T090000
DTEND;TZID=America/Los_Angeles:20260321T120000
DTSTAMP:20260423T085945
CREATED:20250705T231450Z
LAST-MODIFIED:20250705T231628Z
UID:43980-1774083600-1774094400@www.friendsofmttam.org
SUMMARY:Annual FMT Member Meeting
DESCRIPTION:Friends of Mt Tam Annual Member Meeting will be held on March 21 at the California Alpine Club ( 730 Panoramic Highway- one block from Mountain Home)\n\n\nPlease join us for coffee and continental breakfast at 9 a.m. Light snacks and tea will also be served. Opening remarks will begin at 10 a.m. Meeting will end no later than noon – plenty of time to get out on the trails!\n \n\n \n\n 
URL:https://www.friendsofmttam.org/event/annual-fmt-member-meeting-3/
LOCATION:California Alpine Club\, 730 Panoramic Hwy\, Mill Valley\, CA 94941\, USA\, 2 Panoramic Hwy\, United States
END:VEVENT
BEGIN:VEVENT
DTSTART;TZID=America/Los_Angeles:20260329T090000
DTEND;TZID=America/Los_Angeles:20260329T123000
DTSTAMP:20260423T085945
CREATED:20260325T055206Z
LAST-MODIFIED:20260325T055206Z
UID:44097-1774774800-1774787400@www.friendsofmttam.org
SUMMARY:Quad 4 Muir Woods Hike from Bootjack
DESCRIPTION:Guided hike with Docent Debra Hoitomt \nThe hike will move through redwood forests to Muir Woods\, continue along Redwood Creek\, and finish with a sustained climb on the Bootjack trail. 5 miles with 1400 feet of elevation gain. \nPace: Moderate but steady\nBrief breaks: At trail junctions for adjusting layers\, water\, catching up\nRecommended: water\, sturdy shoes\, hiking poles\, snack\, layers\nSign up is required via Meet up \nPARKING: Bootjack parking requires an $8 cash fee. You can pay via a QR code if you have cellular service. The Marin Transit 61 bus will drop you off at Bootjack just before 9AM.
URL:https://www.friendsofmttam.org/event/quad-4-muir-woods-hike-from-bootjack/
CATEGORIES:Hike
END:VEVENT
END:VCALENDAR